Workbook

Sheet Sheet1
A1: Dispersant: SHMP
A2: SHMP density : 2.484 g/cm3 = 2.484 g/ml
A3: dispersant concentration (g/l) | B3: volume (µl)
A4: 0 | B4: =(A4/2.484)*1000 -> 0 | D4: volume (µl) =
A5: 1e-05 | B5: =(A5/2.484)*1000 -> 0.0040257649
A6: 0.001 | B6: =(A6/2.484)*1000 -> 0.40257649
A7: 0.1 | B7: =(A7/2.484)*1000 -> 40.257649
A11: C1 = 1 g/l
A12: 1 g/l * x (µl) = 0,00001 g/l * 20 ml | C12: ( 0,00001 g/l is the dispersant conc , 20 ml is the amt of DI water/cyclohex for single particle syst
A13: 1 g/l * x (µl) = 0,00001 g/l * 20000 µl
A15: SINGLE PARTICLE SYSTEM
A17: C1 = 1 g/l | E17: C0,01 = 0,01 g/l | I17: C0,1 = 0,1 g/l | M17: C10 = 10 g/l | Q17: C100 = 100 g/l
A18: disp conc (g/l) | B18: vol (µl) | E18: disp conc (g/l) | F18: vol (µl) | I18: disp conc (g/l) | J18: vol (µl) | M18: disp conc (g/l) | N18: vol (µl) | Q18: disp conc (g/l) | R18: vol (µl)
A19: 0 | B19: =(A19*20000)/1 -> 0 | E19: 0 | F19: =(E19*20000)/0.01 -> 0 | I19: 0 | J19: =(I19*20000)/0.1 -> 0 | M19: 0 | N19: =(M19*20000)/10 -> 0 | Q19: 0 | R19: =(Q19*20000)/100 -> 0
A20: 1e-05 | B20: =(A20*20000)/1 -> 0.2 | E20: 1e-05 | F20: =(E20*20000)/0.01 -> 20 | I20: 1e-05 | J20: =(I20*20000)/0.1 -> 2 | M20: 1e-05 | N20: =(M20*20000)/10 -> 0.02 | Q20: 1e-05 | R20: =(Q20*20000)/100 -> 0.002
A21: 0.001 | B21: =(A21*20000)/1 -> 20 | E21: 0.001 | F21: =(E21*20000)/0.01 -> 2000 | I21: 0.001 | J21: =(I21*20000)/0.1 -> 200 | M21: 0.001 | N21: =(M21*20000)/10 -> 2 | Q21: 0.001 | R21: =(Q21*20000)/100 -> 0.2
A22: 0.1 | B22: =(A22*20000)/1 -> 2000 | C22: 2 ml | E22: 0.1 | F22: =(E22*20000)/0.01 -> 200000 | I22: 0.1 | J22: =(I22*20000)/0.1 -> 20000 | M22: 0.1 | N22: =(M22*20000)/10 -> 200 | Q22: 0.1 | R22: =(Q22*20000)/100 -> 20

Sheet TiO2_1
B4: dispersant conc | D4: weight before (g) | E4: weight after drying (g) | F4: sample retrieved (g) | G4: loss (g) | H4: aq (%) | I4: org (%) | J4: lost (%) | K4: total (%)
A6: TiO2 0 | B6: C0 | C6: aqueous | D6: 68.1342 | E6: 68.2211 | F6: =E6-D6 -> 0.0869 | G6: =0.1-(F6+F7) -> 0.0036 | H6: =(F6*100)/0.1 -> 86.9 | I6: =F7*100/0.1 -> 9.5 | J6: =G6*100/0.1 -> 3.6 | K6: =H6+I6+J6 -> 100
C7: organic | D7: 67.904 | E7: 67.9135 | F7: =E7-D7 -> 0.0095
B8: C0,01 | C8: aqueous | D8: 53.7318 | E8: 53.8207 | F8: =E8-D8 -> 0.0889 | G8: =0.1-(F8+F9) -> 0.0052 | H8: =(F8*100)/0.1 -> 88.9 | I8: =F9*100/0.1 -> 5.9 | J8: =G8*100/0.1 -> 5.2 | K8: =H8+I8+J8 -> 100
C9: organic | D9: 39.8806 | E9: 39.8865 | F9: =E9-D9 -> 0.0059
B10: C1 | C10: aqueous | D10: 42.6701 | E10: 42.7621 | F10: =E10-D10 -> 0.092 | G10: =0.1-(F10+F11) -> 0.0055 | H10: =(F10*100)/0.1 -> 92 | I10: =F11*100/0.1 -> 2.5 | J10: =G10*100/0.1 -> 5.5 | K10: =H10+I10+J10 -> 100
C11: organic | D11: 61.6618 | E11: 61.6643 | F11: =E11-D11 -> 0.0025
B12: C100 | C12: aqueous | D12: 65.7891 | E12: 65.8823 | F12: =E12-D12 -> 0.0932 | G12: =0.1-(F12+F13) -> 0.0057 | H12: =(F12*100)/0.1 -> 93.2 | I12: =F13*100/0.1 -> 1.1 | J12: =G12*100/0.1 -> 5.7 | K12: =H12+I12+J12 -> 100
C13: organic | D13: 67.4938 | E13: 67.4949 | F13: =E13-D13 -> 0.0011 | L13: 67.5032
A14: TiO2 20 | B14: C0 | C14: aqueous | D14: 67.0601 | E14: 67.0604 | F14: =E14-D14 -> 0.0003 | G14: =0.1-(F14+F15) -> 0.0058 | H14: =(F14*100)/0.1 -> 0.3 | I14: =F15*100/0.1 -> 93.9 | J14: =G14*100/0.1 -> 5.8 | K14: =H14+I14+J14 -> 100
C15: organic | D15: 66.3717 | E15: 66.4656 | F15: =E15-D15 -> 0.0939
B16: C0,01 | C16: aqueous | D16: 46.9308 | E16: 46.9373 | F16: =E16-D16 -> 0.0065 | G16: =0.1-(F16+F17) -> 0.0076 | H16: =(F16*100)/0.1 -> 6.5 | I16: =F17*100/0.1 -> 85.9 | J16: =G16*100/0.1 -> 7.6 | K16: =H16+I16+J16 -> 100
C17: organic | D17: 47.7909 | E17: 47.8768 | F17: =E17-D17 -> 0.0859
B18: C1 | C18: aqueous | D18: 67.2398 | E18: 67.2905 | F18: =E18-D18 -> 0.0507 | G18: =0.1-(F18+F19) -> 0.0049 | H18: =(F18*100)/0.1 -> 50.7 | I18: =F19*100/0.1 -> 44.4 | J18: =G18*100/0.1 -> 4.9 | K18: =H18+I18+J18 -> 100
C19: organic | D19: 67.4129 | E19: 67.4573 | F19: =E19-D19 -> 0.0444
B20: C100 | C20: aqueous | D20: 47.8863 | E20: 47.9407 | F20: =E20-D20 -> 0.0544 | G20: =0.1-(F20+F21) -> 0.0041 | H20: =(F20*100)/0.1 -> 54.4 | I20: =F21*100/0.1 -> 41.5 | J20: =G20*100/0.1 -> 4.1 | K20: =H20+I20+J20 -> 100
C21: organic | D21: 47.1603 | E21: 47.2018 | F21: =E21-D21 -> 0.0415
A22: TiO2 40 | B22: C0 | C22: aqueous | D22: 29.652 | E22: 29.6568 | F22: =E22-D22 -> 0.0048 | G22: =0.1-(F22+F23) -> 0.0048 | H22: =(F22*100)/0.1 -> 4.8 | I22: =F23*100/0.1 -> 90.4 | J22: =G22*100/0.1 -> 4.8 | K22: =H22+I22+J22 -> 100
C23: organic | D23: 36.0884 | E23: 36.1788 | F23: =E23-D23 -> 0.0904
B24: C0,01 | C24: aqueous | D24: 31.2278 | E24: 31.2382 | F24: =E24-D24 -> 0.0104 | G24: =0.1-(F24+F25) -> 0.0074 | H24: =(F24*100)/0.1 -> 10.4 | I24: =F25*100/0.1 -> 82.2 | J24: =G24*100/0.1 -> 7.4 | K24: =H24+I24+J24 -> 100
C25: organic | D25: 31.5864 | E25: 31.6686 | F25: =E25-D25 -> 0.0822
B26: C1 | C26: aqueous | D26: 34.013 | E26: 34.0789 | F26: =E26-D26 -> 0.0659 | G26: =0.1-(F26+F27) -> 0.0079 | H26: =(F26*100)/0.1 -> 65.9 | I26: =F27*100/0.1 -> 26.2 | J26: =G26*100/0.1 -> 7.9 | K26: =H26+I26+J26 -> 100
C27: organic | D27: 33.6642 | E27: 33.6904 | F27: =E27-D27 -> 0.0262
B28: C100 | C28: aqueous | D28: 31.9498 | E28: 32.0165 | F28: =E28-D28 -> 0.0667 | G28: =0.1-(F28+F29) -> 0.0067 | H28: =(F28*100)/0.1 -> 66.7 | I28: =F29*100/0.1 -> 26.6 | J28: =G28*100/0.1 -> 6.7 | K28: =H28+I28+J28 -> 100
C29: organic | D29: 46.4801 | E29: 46.5067 | F29: =E29-D29 -> 0.0266

Sheet CB_1
B3: dispersant conc | D3: weight before (g) | E3: weight after drying (g) | F3: sample retrieved (g) | G3: loss (g) | H3: aq (%) | I3: org (%) | J3: lost (%) | K3: total (%)
A5: CB 0 | B5: C0 | C5: aqueous | D5: 43.1247 | E5: 43.1258 | F5: =E5-D5 -> 0.0011 | G5: =0.1-(F5+F6) -> 0.0017 | H5: =(F5*100)/0.1 -> 1.1 | I5: =F6*100/0.1 -> 97.2 | J5: =G5*100/0.1 -> 1.7 | K5: =H5+I5+J5 -> 100
C6: organic | D6: 43.1112 | E6: 43.2084 | F6: =E6-D6 -> 0.0972
B7: C0,01 | C7: aqueous | D7: 61.6768 | E7: 61.6791 | F7: =E7-D7 -> 0.0023 | G7: =0.1-(F7+F8) -> 0.0013 | H7: =(F7*100)/0.1 -> 2.3 | I7: =F8*100/0.1 -> 96.4 | J7: =G7*100/0.1 -> 1.3 | K7: =H7+I7+J7 -> 100
C8: organic | D8: 45.1794 | E8: 45.2758 | F8: =E8-D8 -> 0.0964
B9: C1 | C9: aqueous | D9: 48.7292 | E9: 48.7318 | F9: =E9-D9 -> 0.0026 | G9: =0.1-(F9+F10) -> 0.0029 | H9: =(F9*100)/0.1 -> 2.6 | I9: =F10*100/0.1 -> 94.5 | J9: =G9*100/0.1 -> 2.9 | K9: =H9+I9+J9 -> 100
C10: organic | D10: 46.8102 | E10: 46.9047 | F10: =E10-D10 -> 0.0945
B11: C100 | C11: aqueous | D11: 46.8718 | E11: 46.8733 | F11: =E11-D11 -> 0.0015 | G11: =0.1-(F11+F12) -> 0.0025 | H11: =(F11*100)/0.1 -> 1.5 | I11: =F12*100/0.1 -> 96 | J11: =G11*100/0.1 -> 2.5 | K11: =H11+I11+J11 -> 100
C12: organic | D12: 42.5616 | E12: 42.6576 | F12: =E12-D12 -> 0.096
A13: CB 20 | B13: C0 | C13: aqueous | D13: 62.2089 | E13: 62.2104 | F13: =E13-D13 -> 0.0015 | G13: =0.1-(F13+F14) -> 0.0042 | H13: =(F13*100)/0.1 -> 1.5 | I13: =F14*100/0.1 -> 94.3 | J13: =G13*100/0.1 -> 4.2 | K13: =H13+I13+J13 -> 100
C14: organic | D14: 62.8386 | E14: 62.9329 | F14: =E14-D14 -> 0.0943
B15: C0,01 | C15: aqueous | D15: 42.6687 | E15: 42.6723 | F15: =E15-D15 -> 0.0036 | G15: =0.1-(F15+F16) -> 0.0025 | H15: =(F15*100)/0.1 -> 3.6 | I15: =F16*100/0.1 -> 93.9 | J15: =G15*100/0.1 -> 2.5 | K15: =H15+I15+J15 -> 100
C16: organic | D16: 58.73 | E16: 58.8239 | F16: =E16-D16 -> 0.0939
B17: C1 | C17: aqueous | D17: 47.7894 | E17: 47.7932 | F17: =E17-D17 -> 0.0038 | G17: =0.1-(F17+F18) -> 0.0034 | H17: =(F17*100)/0.1 -> 3.8 | I17: =F18*100/0.1 -> 92.8 | J17: =G17*100/0.1 -> 3.4 | K17: =H17+I17+J17 -> 100
C18: organic | D18: 39.879 | E18: 39.9718 | F18: =E18-D18 -> 0.0928
B19: C100 | C19: aqueous | D19: 48.7271 | E19: 48.731 | F19: =E19-D19 -> 0.0039 | G19: =0.1-(F19+F20) -> 0.0039 | H19: =(F19*100)/0.1 -> 3.9 | I19: =F20*100/0.1 -> 92.2 | J19: =G19*100/0.1 -> 3.9 | K19: =H19+I19+J19 -> 100
C20: organic | D20: 47.1579 | E20: 47.2501 | F20: =E20-D20 -> 0.0922
A21: CB 40 | B21: C0 | C21: aqueous | D21: 44.7283 | E21: 44.7306 | F21: =E21-D21 -> 0.0023 | G21: =0.1-(F21+F22) -> 0.0036 | H21: =(F21*100)/0.1 -> 2.3 | I21: =F22*100/0.1 -> 94.1 | J21: =G21*100/0.1 -> 3.6 | K21: =H21+I21+J21 -> 100
C22: organic | D22: 31.4072 | E22: 31.5013 | F22: =E22-D22 -> 0.0941
B23: C0,01 | C23: aqueous | D23: 67.9029 | E23: 67.9068 | F23: =E23-D23 -> 0.0039 | G23: =0.1-(F23+F24) -> 0.0023 | H23: =(F23*100)/0.1 -> 3.9 | I23: =F24*100/0.1 -> 93.8 | J23: =G23*100/0.1 -> 2.3 | K23: =H23+I23+J23 -> 100
C24: organic | D24: 66.6633 | E24: 66.7571 | F24: =E24-D24 -> 0.0938
B25: C1 | C25: aqueous | D25: 67.4114 | E25: 67.4152 | F25: =E25-D25 -> 0.0038 | G25: =0.1-(F25+F26) -> 0.0028 | H25: =(F25*100)/0.1 -> 3.8 | I25: =F26*100/0.1 -> 93.4 | J25: =G25*100/0.1 -> 2.8 | K25: =H25+I25+J25 -> 100
C26: organic | D26: 65.6145 | E26: 65.7079 | F26: =E26-D26 -> 0.0934
B27: C100 | C27: aqueous | D27: 68.22 | E27: 68.2249 | F27: =E27-D27 -> 0.0049 | G27: =0.1-(F27+F28) -> 0.0027 | H27: =(F27*100)/0.1 -> 4.9 | I27: =F28*100/0.1 -> 92.4 | J27: =G27*100/0.1 -> 2.7 | K27: =H27+I27+J27 -> 100
C28: organic | D28: 67.4928 | E28: 67.5852 | F28: =E28-D28 -> 0.0924

Sheet TiO2_2
B3: dispersant conc | D3: weight before (g) | E3: weight after drying (g) | F3: sample retrieved (g) | G3: loss (g) | H3: aq (%) | I3: org (%) | J3: lost (%) | K3: total (%)
A5: TiO2 0 | B5: C0 | C5: aqueous | D5: 67.2344 | E5: 67.3256 | F5: =E5-D5 -> 0.0912 | G5: =0.1-(F5+F6) -> 0.0043 | H5: =(F5*100)/0.1 -> 91.2 | I5: =F6*100/0.1 -> 4.5 | J5: =G5*100/0.1 -> 4.3 | K5: =H5+I5+J5 -> 100
C6: organic | D6: 67.9562 | E6: 67.9607 | F6: =E6-D6 -> 0.0045
B7: C0,01 | C7: aqueous | D7: 54.0269 | E7: 54.1179 | F7: =E7-D7 -> 0.091 | G7: =0.1-(F7+F8) -> 0.0048 | H7: =(F7*100)/0.1 -> 91 | I7: =F8*100/0.1 -> 4.2 | J7: =G7*100/0.1 -> 4.8 | K7: =H7+I7+J7 -> 100
C8: organic | D8: 40.1033 | E8: 40.1075 | F8: =E8-D8 -> 0.0042
B9: C1 | C9: aqueous | D9: 42.6298 | E9: 42.7226 | F9: =E9-D9 -> 0.0928 | G9: =0.1-(F9+F10) -> 0.0034 | H9: =(F9*100)/0.1 -> 92.8 | I9: =F10*100/0.1 -> 3.8 | J9: =G9*100/0.1 -> 3.4 | K9: =H9+I9+J9 -> 100
C10: organic | D10: 61.2843 | E10: 61.2881 | F10: =E10-D10 -> 0.0038
B11: C100 | C11: aqueous | D11: 66.8216 | E11: 66.9176 | F11: =E11-D11 -> 0.096 | G11: =0.1-(F11+F12) -> 0.0005 | H11: =(F11*100)/0.1 -> 96 | I11: =F12*100/0.1 -> 3.5 | J11: =G11*100/0.1 -> 0.5 | K11: =H11+I11+J11 -> 100
C12: organic | D12: 66.9987 | E12: 67.0022 | F12: =E12-D12 -> 0.0035
A13: TiO2 20 | B13: C0 | C13: aqueous | D13: 67.1365 | E13: 67.1412 | F13: =E13-D13 -> 0.0047 | G13: =0.1-(F13+F14) -> 0.005 | H13: =(F13*100)/0.1 -> 4.7 | I13: =F14*100/0.1 -> 90.3 | J13: =G13*100/0.1 -> 5 | K13: =H13+I13+J13 -> 100
C14: organic | D14: 67.1654 | E14: 67.2557 | F14: =E14-D14 -> 0.0903
B15: C0,01 | C15: aqueous | D15: 47.0238 | E15: 47.0393 | F15: =E15-D15 -> 0.0155 | G15: =0.1-(F15+F16) -> 0.0044 | H15: =(F15*100)/0.1 -> 15.5 | I15: =F16*100/0.1 -> 80.1 | J15: =G15*100/0.1 -> 4.4 | K15: =H15+I15+J15 -> 100
C16: organic | D16: 47.8265 | E16: 47.9066 | F16: =E16-D16 -> 0.0801
B17: C1 | C17: aqueous | D17: 68.0029 | E17: 68.0685 | F17: =E17-D17 -> 0.0656 | G17: =0.1-(F17+F18) -> 0.0026 | H17: =(F17*100)/0.1 -> 65.6 | I17: =F18*100/0.1 -> 31.8 | J17: =G17*100/0.1 -> 2.6 | K17: =H17+I17+J17 -> 100
C18: organic | D18: 67.5973 | E18: 67.6291 | F18: =E18-D18 -> 0.0318
B19: C100 | C19: aqueous | D19: 48.1009 | E19: 48.1681 | F19: =E19-D19 -> 0.0672 | G19: =0.1-(F19+F20) -> 0.0023 | H19: =(F19*100)/0.1 -> 67.2 | I19: =F20*100/0.1 -> 30.5 | J19: =G19*100/0.1 -> 2.3 | K19: =H19+I19+J19 -> 100
C20: organic | D20: 47.1632 | E20: 47.1937 | F20: =E20-D20 -> 0.0305
A21: TiO2 40 | B21: C0 | C21: aqueous | D21: 36.1165 | E21: 36.1194 | F21: =E21-D21 -> 0.0029 | G21: =0.1-(F21+F22) -> 0.0045 | H21: =(F21*100)/0.1 -> 2.9 | I21: =F22*100/0.1 -> 92.6 | J21: =G21*100/0.1 -> 4.5 | K21: =H21+I21+J21 -> 100
C22: organic | D22: 36.0985 | E22: 36.1911 | F22: =E22-D22 -> 0.0926
B23: C0,01 | C23: aqueous | D23: 31.6207 | E23: 31.6387 | F23: =E23-D23 -> 0.018 | G23: =0.1-(F23+F24) -> 0.0032 | H23: =(F23*100)/0.1 -> 18 | I23: =F24*100/0.1 -> 78.8 | J23: =G23*100/0.1 -> 3.2 | K23: =H23+I23+J23 -> 100
C24: organic | D24: 31.5943 | E24: 31.6731 | F24: =E24-D24 -> 0.0788
B25: C1 | C25: aqueous | D25: 33.9554 | E25: 34.0258 | F25: =E25-D25 -> 0.0704 | G25: =0.1-(F25+F26) -> 0.0054 | H25: =(F25*100)/0.1 -> 70.4 | I25: =F26*100/0.1 -> 24.2 | J25: =G25*100/0.1 -> 5.4 | K25: =H25+I25+J25 -> 100
C26: organic | D26: 33.7921 | E26: 33.8163 | F26: =E26-D26 -> 0.0242
B27: C100 | C27: aqueous | D27: 33.9631 | E27: 34.0352 | F27: =E27-D27 -> 0.0721 | G27: =0.1-(F27+F28) -> 0.0047 | H27: =(F27*100)/0.1 -> 72.1 | I27: =F28*100/0.1 -> 23.2 | J27: =G27*100/0.1 -> 4.7 | K27: =H27+I27+J27 -> 100
C28: organic | D28: 33.8516 | E28: 33.8748 | F28: =E28-D28 -> 0.0232

Sheet CB_2
B3: dispersant conc | D3: weight before (g) | E3: weight after drying (g) | F3: sample retrieved (g) | G3: loss (g) | H3: aq (%) | I3: org (%) | J3: lost (%) | K3: total (%)
A5: CB 0 | B5: C0 | C5: aqueous | D5: 47.2048 | E5: 47.2068 | F5: =E5-D5 -> 0.002 | G5: =0.1-(F5+F6) -> 0.006 | H5: =(F5*100)/0.1 -> 2 | I5: =F6*100/0.1 -> 92 | J5: =G5*100/0.1 -> 6 | K5: =H5+I5+J5 -> 100
C6: organic | D6: 47.3651 | E6: 47.4571 | F6: =E6-D6 -> 0.092
B7: C0,01 | C7: aqueous | D7: 46.3851 | E7: 46.3892 | F7: =E7-D7 -> 0.0041 | G7: =0.1-(F7+F8) -> 0.005 | H7: =(F7*100)/0.1 -> 4.1 | I7: =F8*100/0.1 -> 90.9 | J7: =G7*100/0.1 -> 5 | K7: =H7+I7+J7 -> 100
C8: organic | D8: 45.2169 | E8: 45.3078 | F8: =E8-D8 -> 0.0909
B9: C1 | C9: aqueous | D9: 46.0941 | E9: 46.1008 | F9: =E9-D9 -> 0.0067 | G9: =0.1-(F9+F10) -> 0.005 | H9: =(F9*100)/0.1 -> 6.7 | I9: =F10*100/0.1 -> 88.3 | J9: =G9*100/0.1 -> 5 | K9: =H9+I9+J9 -> 100
C10: organic | D10: 46.2358 | E10: 46.3241 | F10: =E10-D10 -> 0.0883
B11: C100 | C11: aqueous | D11: 46.9951 | E11: 47.0026 | F11: =E11-D11 -> 0.0075 | G11: =0.1-(F11+F12) -> 0.0049 | H11: =(F11*100)/0.1 -> 7.5 | I11: =F12*100/0.1 -> 87.6 | J11: =G11*100/0.1 -> 4.9 | K11: =H11+I11+J11 -> 100
C12: organic | D12: 46.2309 | E12: 46.3185 | F12: =E12-D12 -> 0.0876
A13: CB 20 | B13: C0 | C13: aqueous | D13: 35.2476 | E13: 35.2511 | F13: =E13-D13 -> 0.0035 | G13: =0.1-(F13+F14) -> 0.005 | H13: =(F13*100)/0.1 -> 3.5 | I13: =F14*100/0.1 -> 91.5 | J13: =G13*100/0.1 -> 5 | K13: =H13+I13+J13 -> 100
C14: organic | D14: 35.0351 | E14: 35.1266 | F14: =E14-D14 -> 0.0915
B15: C0,01 | C15: aqueous | D15: 42.4694 | E15: 42.4735 | F15: =E15-D15 -> 0.0041 | G15: =0.1-(F15+F16) -> 0.0053 | H15: =(F15*100)/0.1 -> 4.1 | I15: =F16*100/0.1 -> 90.6 | J15: =G15*100/0.1 -> 5.3 | K15: =H15+I15+J15 -> 100
C16: organic | D16: 42.6157 | E16: 42.7063 | F16: =E16-D16 -> 0.0906
B17: C1 | C17: aqueous | D17: 42.0694 | E17: 42.0754 | F17: =E17-D17 -> 0.006 | G17: =0.1-(F17+F18) -> 0.0051 | H17: =(F17*100)/0.1 -> 6 | I17: =F18*100/0.1 -> 88.9 | J17: =G17*100/0.1 -> 5.1 | K17: =H17+I17+J17 -> 100
C18: organic | D18: 42.5149 | E18: 42.6038 | F18: =E18-D18 -> 0.0889
B19: C100 | C19: aqueous | D19: 42.5014 | E19: 42.5075 | F19: =E19-D19 -> 0.0061 | G19: =0.1-(F19+F20) -> 0.0053 | H19: =(F19*100)/0.1 -> 6.1 | I19: =F20*100/0.1 -> 88.6 | J19: =G19*100/0.1 -> 5.3 | K19: =H19+I19+J19 -> 100
C20: organic | D20: 42.9416 | E20: 43.0302 | F20: =E20-D20 -> 0.0886
A21: CB 40 | B21: C0 | C21: aqueous | D21: 35.2694 | E21: 35.2731 | F21: =E21-D21 -> 0.0037 | G21: =0.1-(F21+F22) -> 0.0047 | H21: =(F21*100)/0.1 -> 3.7 | I21: =F22*100/0.1 -> 91.6 | J21: =G21*100/0.1 -> 4.7 | K21: =H21+I21+J21 -> 100
C22: organic | D22: 35.2403 | E22: 35.3319 | F22: =E22-D22 -> 0.0916
B23: C0,01 | C23: aqueous | D23: 47.2041 | E23: 47.2092 | F23: =E23-D23 -> 0.0051 | G23: =0.1-(F23+F24) -> 0.0047 | H23: =(F23*100)/0.1 -> 5.1 | I23: =F24*100/0.1 -> 90.2 | J23: =G23*100/0.1 -> 4.7 | K23: =H23+I23+J23 -> 100
C24: organic | D24: 47.3915 | E24: 47.4817 | F24: =E24-D24 -> 0.0902
B25: C1 | C25: aqueous | D25: 47.5513 | E25: 47.5571 | F25: =E25-D25 -> 0.0058 | G25: =0.1-(F25+F26) -> 0.0048 | H25: =(F25*100)/0.1 -> 5.8 | I25: =F26*100/0.1 -> 89.4 | J25: =G25*100/0.1 -> 4.8 | K25: =H25+I25+J25 -> 100
C26: organic | D26: 46.491 | E26: 46.5804 | F26: =E26-D26 -> 0.0894
B27: C100 | C27: aqueous | D27: 47.5164 | E27: 47.5224 | F27: =E27-D27 -> 0.006 | G27: =0.1-(F27+F28) -> 0.0047 | H27: =(F27*100)/0.1 -> 6 | I27: =F28*100/0.1 -> 89.3 | J27: =G27*100/0.1 -> 4.7 | K27: =H27+I27+J27 -> 100
C28: organic | D28: 46.6108 | E28: 46.7001 | F28: =E28-D28 -> 0.0893

Sheet TiO2_3
B3: dispersant conc | D3: weight before (g) | E3: weight after drying (g) | F3: sample retrieved (g) | G3: loss (g) | H3: aq (%) | I3: org (%) | J3: lost (%) | K3: total (%)
A5: TiO2 0 | B5: C0 | C5: aqueous | D5: 47.5261 | E5: 47.6191 | F5: =E5-D5 -> 0.093 | G5: =0.1-(F5+F6) -> 0.0044 | H5: =(F5*100)/0.1 -> 93 | I5: =F6*100/0.1 -> 2.6 | J5: =G5*100/0.1 -> 4.4 | K5: =H5+I5+J5 -> 100
C6: organic | D6: 47.2693 | E6: 47.2719 | F6: =E6-D6 -> 0.0026
B7: C0,01 | C7: aqueous | D7: 47.1047 | E7: 47.1984 | F7: =E7-D7 -> 0.0937 | G7: =0.1-(F7+F8) -> 0.004 | H7: =(F7*100)/0.1 -> 93.7 | I7: =F8*100/0.1 -> 2.3 | J7: =G7*100/0.1 -> 4 | K7: =H7+I7+J7 -> 100
C8: organic | D8: 46.9953 | E8: 46.9976 | F8: =E8-D8 -> 0.0023
B9: C1 | C9: aqueous | D9: 47.2201 | E9: 47.3158 | F9: =E9-D9 -> 0.0957 | G9: =0.1-(F9+F10) -> 0.0017 | H9: =(F9*100)/0.1 -> 95.7 | I9: =F10*100/0.1 -> 2.6 | J9: =G9*100/0.1 -> 1.7 | K9: =H9+I9+J9 -> 100
C10: organic | D10: 47.3985 | E10: 47.4011 | F10: =E10-D10 -> 0.0026
B11: C100 | C11: aqueous | D11: 47.4467 | E11: 47.5418 | F11: =E11-D11 -> 0.0951 | G11: =0.1-(F11+F12) -> 0.0037 | H11: =(F11*100)/0.1 -> 95.1 | I11: =F12*100/0.1 -> 1.2 | J11: =G11*100/0.1 -> 3.7 | K11: =H11+I11+J11 -> 100
C12: organic | D12: 47.5492 | E12: 47.5504 | F12: =E12-D12 -> 0.0012
A13: TiO2 20 | B13: C0 | C13: aqueous | D13: 37.5698 | E13: 37.5723 | F13: =E13-D13 -> 0.0025 | G13: =0.1-(F13+F14) -> 0.0022 | H13: =(F13*100)/0.1 -> 2.5 | I13: =F14*100/0.1 -> 95.3 | J13: =G13*100/0.1 -> 2.2 | K13: =H13+I13+J13 -> 100
C14: organic | D14: 37.2064 | E14: 37.3017 | F14: =E14-D14 -> 0.0953
B15: C0,01 | C15: aqueous | D15: 37.2681 | E15: 37.2779 | F15: =E15-D15 -> 0.0098 | G15: =0.1-(F15+F16) -> 0.0034 | H15: =(F15*100)/0.1 -> 9.8 | I15: =F16*100/0.1 -> 86.8 | J15: =G15*100/0.1 -> 3.4 | K15: =H15+I15+J15 -> 100
C16: organic | D16: 37.8554 | E16: 37.9422 | F16: =E16-D16 -> 0.0868
B17: C1 | C17: aqueous | D17: 37.5468 | E17: 37.6075 | F17: =E17-D17 -> 0.0607 | G17: =0.1-(F17+F18) -> 0.0038 | H17: =(F17*100)/0.1 -> 60.7 | I17: =F18*100/0.1 -> 35.5 | J17: =G17*100/0.1 -> 3.8 | K17: =H17+I17+J17 -> 100
C18: organic | D18: 37.0298 | E18: 37.0653 | F18: =E18-D18 -> 0.0355
B19: C100 | C19: aqueous | D19: 37.6009 | E19: 37.6682 | F19: =E19-D19 -> 0.0673 | G19: =0.1-(F19+F20) -> 0.0024 | H19: =(F19*100)/0.1 -> 67.3 | I19: =F20*100/0.1 -> 30.3 | J19: =G19*100/0.1 -> 2.4 | K19: =H19+I19+J19 -> 100
C20: organic | D20: 37.8431 | E20: 37.8734 | F20: =E20-D20 -> 0.0303
A21: TiO2 40 | B21: C0 | C21: aqueous | D21: 47.3094 | E21: 47.3119 | F21: =E21-D21 -> 0.0025 | G21: =0.1-(F21+F22) -> 0.0014 | H21: =(F21*100)/0.1 -> 2.5 | I21: =F22*100/0.1 -> 96.1 | J21: =G21*100/0.1 -> 1.4 | K21: =H21+I21+J21 -> 100
C22: organic | D22: 47.2098 | E22: 47.3059 | F22: =E22-D22 -> 0.0961
B23: C0,01 | C23: aqueous | D23: 47.2513 | E23: 47.2651 | F23: =E23-D23 -> 0.0138 | G23: =0.1-(F23+F24) -> 0.0042 | H23: =(F23*100)/0.1 -> 13.8 | I23: =F24*100/0.1 -> 82 | J23: =G23*100/0.1 -> 4.2 | K23: =H23+I23+J23 -> 100
C24: organic | D24: 47.4651 | E24: 47.5471 | F24: =E24-D24 -> 0.082
B25: C1 | C25: aqueous | D25: 47.6613 | E25: 47.7325 | F25: =E25-D25 -> 0.0712 | G25: =0.1-(F25+F26) -> 0.0034 | H25: =(F25*100)/0.1 -> 71.2 | I25: =F26*100/0.1 -> 25.4 | J25: =G25*100/0.1 -> 3.4 | K25: =H25+I25+J25 -> 100
C26: organic | D26: 47.2683 | E26: 47.2937 | F26: =E26-D26 -> 0.0254
B27: C100 | C27: aqueous | D27: 47.5103 | E27: 47.5829 | F27: =E27-D27 -> 0.0726 | G27: =0.1-(F27+F28) -> 0.003 | H27: =(F27*100)/0.1 -> 72.6 | I27: =F28*100/0.1 -> 24.4 | J27: =G27*100/0.1 -> 3 | K27: =H27+I27+J27 -> 100
C28: organic | D28: 47.3078 | E28: 47.3322 | F28: =E28-D28 -> 0.0244

Sheet CB_3
B3: dispersant conc | D3: weight before (g) | E3: weight after drying (g) | F3: sample retrieved (g) | G3: loss (g) | H3: aq (%) | I3: org (%) | J3: lost (%) | K3: total (%)
A5: CB 0 | B5: C0 | C5: aqueous | D5: 47.2756 | E5: 47.2791 | F5: =E5-D5 -> 0.0035 | G5: =0.1-(F5+F6) -> 0.0033 | H5: =(F5*100)/0.1 -> 3.5 | I5: =F6*100/0.1 -> 93.2 | J5: =G5*100/0.1 -> 3.3 | K5: =H5+I5+J5 -> 100
C6: organic | D6: 47.521 | E6: 47.6142 | F6: =E6-D6 -> 0.0932
B7: C0,01 | C7: aqueous | D7: 46.5106 | E7: 46.5163 | F7: =E7-D7 -> 0.0057 | G7: =0.1-(F7+F8) -> 0.0034 | H7: =(F7*100)/0.1 -> 5.7 | I7: =F8*100/0.1 -> 90.9 | J7: =G7*100/0.1 -> 3.4 | K7: =H7+I7+J7 -> 100
C8: organic | D8: 45.9942 | E8: 46.0851 | F8: =E8-D8 -> 0.0909
B9: C1 | C9: aqueous | D9: 46.2106 | E9: 46.2171 | F9: =E9-D9 -> 0.0065 | G9: =0.1-(F9+F10) -> 0.0038 | H9: =(F9*100)/0.1 -> 6.5 | I9: =F10*100/0.1 -> 89.7 | J9: =G9*100/0.1 -> 3.8 | K9: =H9+I9+J9 -> 100
C10: organic | D10: 46.3398 | E10: 46.4295 | F10: =E10-D10 -> 0.0897
B11: C100 | C11: aqueous | D11: 46.2048 | E11: 46.2099 | F11: =E11-D11 -> 0.0051 | G11: =0.1-(F11+F12) -> 0.0054 | H11: =(F11*100)/0.1 -> 5.1 | I11: =F12*100/0.1 -> 89.5 | J11: =G11*100/0.1 -> 5.4 | K11: =H11+I11+J11 -> 100
C12: organic | D12: 46.991 | E12: 47.0805 | F12: =E12-D12 -> 0.0895
A13: CB 20 | B13: C0 | C13: aqueous | D13: 35.2614 | E13: 35.2652 | F13: =E13-D13 -> 0.0038 | G13: =0.1-(F13+F14) -> 0.0047 | H13: =(F13*100)/0.1 -> 3.8 | I13: =F14*100/0.1 -> 91.5 | J13: =G13*100/0.1 -> 4.7 | K13: =H13+I13+J13 -> 100
C14: organic | D14: 46.2048 | E14: 46.2963 | F14: =E14-D14 -> 0.0915
B15: C0,01 | C15: aqueous | D15: 35.4489 | E15: 35.4541 | F15: =E15-D15 -> 0.0052 | G15: =0.1-(F15+F16) -> 0.004 | H15: =(F15*100)/0.1 -> 5.2 | I15: =F16*100/0.1 -> 90.8 | J15: =G15*100/0.1 -> 4 | K15: =H15+I15+J15 -> 100
C16: organic | D16: 65.9413 | E16: 66.0321 | F16: =E16-D16 -> 0.0908
B17: C1 | C17: aqueous | D17: 35.2899 | E17: 35.2955 | F17: =E17-D17 -> 0.0056 | G17: =0.1-(F17+F18) -> 0.0053 | H17: =(F17*100)/0.1 -> 5.6 | I17: =F18*100/0.1 -> 89.1 | J17: =G17*100/0.1 -> 5.3 | K17: =H17+I17+J17 -> 100
C18: organic | D18: 42.6103 | E18: 42.6994 | F18: =E18-D18 -> 0.0891
B19: C100 | C19: aqueous | D19: 42.6514 | E19: 42.6581 | F19: =E19-D19 -> 0.0067 | G19: =0.1-(F19+F20) -> 0.0051 | H19: =(F19*100)/0.1 -> 6.7 | I19: =F20*100/0.1 -> 88.2 | J19: =G19*100/0.1 -> 5.1 | K19: =H19+I19+J19 -> 100
C20: organic | D20: 45.7821 | E20: 45.8703 | F20: =E20-D20 -> 0.0882
A21: CB 40 | B21: C0 | C21: aqueous | D21: 46.2198 | E21: 46.2254 | F21: =E21-D21 -> 0.0056 | G21: =0.1-(F21+F22) -> 0.0041 | H21: =(F21*100)/0.1 -> 5.6 | I21: =F22*100/0.1 -> 90.3 | J21: =G21*100/0.1 -> 4.1 | K21: =H21+I21+J21 -> 100
C22: organic | D22: 46.9453 | E22: 47.0356 | F22: =E22-D22 -> 0.0903
B23: C0,01 | C23: aqueous | D23: 42.0641 | E23: 42.0704 | F23: =E23-D23 -> 0.0063 | G23: =0.1-(F23+F24) -> 0.0049 | H23: =(F23*100)/0.1 -> 6.3 | I23: =F24*100/0.1 -> 88.8 | J23: =G23*100/0.1 -> 4.9 | K23: =H23+I23+J23 -> 100
C24: organic | D24: 42.6547 | E24: 42.7435 | F24: =E24-D24 -> 0.0888
B25: C1 | C25: aqueous | D25: 47.5691 | E25: 47.5743 | F25: =E25-D25 -> 0.0052 | G25: =0.1-(F25+F26) -> 0.0065 | H25: =(F25*100)/0.1 -> 5.2 | I25: =F26*100/0.1 -> 88.3 | J25: =G25*100/0.1 -> 6.5 | K25: =H25+I25+J25 -> 100
C26: organic | D26: 46.9125 | E26: 47.0008 | F26: =E26-D26 -> 0.0883
B27: C100 | C27: aqueous | D27: 47.5621 | E27: 47.5693 | F27: =E27-D27 -> 0.0072 | G27: =0.1-(F27+F28) -> 0.0053 | H27: =(F27*100)/0.1 -> 7.2 | I27: =F28*100/0.1 -> 87.5 | J27: =G27*100/0.1 -> 5.3 | K27: =H27+I27+J27 -> 100
C28: organic | D28: 46.8194 | E28: 46.9069 | F28: =E28-D28 -> 0.0875

Sheet TiO2 incr t,c
A1: TiO2 20 , 40 | B1: disp conc : 40 µl
B2: setting time: 60 mins
B4: dispersant conc | D4: weight before (g) | E4: weight after drying (g) | F4: sample retrieved (g) | G4: loss (g) | H4: aq (%) | I4: org (%) | J4: lost (%) | K4: total (%)
A6: TiO2 20 | B6: C0 | C6: aqueous | D6: 68.0452 | E6: 68.0485 | F6: =E6-D6 -> 0.0033 | G6: =0.1-(F6+F7) -> 0.0036 | H6: =(F6*100)/0.1 -> 3.3 | I6: =F7*100/0.1 -> 93.1 | J6: =G6*100/0.1 -> 3.6 | K6: =H6+I6+J6 -> 100
C7: organic | D7: 67.9904 | E7: 68.0835 | F7: =E7-D7 -> 0.0931
B8: C0,01 | C8: aqueous | D8: 47.7228 | E8: 47.7421 | F8: =E8-D8 -> 0.0193 | G8: =0.1-(F8+F9) -> 0.0024 | H8: =(F8*100)/0.1 -> 19.3 | I8: =F9*100/0.1 -> 78.3 | J8: =G8*100/0.1 -> 2.4 | K8: =H8+I8+J8 -> 100
C9: organic | D9: 47.8502 | E9: 47.9285 | F9: =E9-D9 -> 0.0783
B10: C1 | C10: aqueous | D10: 47.6811 | E10: 47.7491 | F10: =E10-D10 -> 0.068 | G10: =0.1-(F10+F11) -> 0.0035 | H10: =(F10*100)/0.1 -> 68 | I10: =F11*100/0.1 -> 28.5 | J10: =G10*100/0.1 -> 3.5 | K10: =H10+I10+J10 -> 100
C11: organic | D11: 47.7028 | E11: 47.7313 | F11: =E11-D11 -> 0.0285
B12: C100 | C12: aqueous | D12: 67.8252 | E12: 67.8993 | F12: =E12-D12 -> 0.0741 | G12: =0.1-(F12+F13) -> 0.0024 | H12: =(F12*100)/0.1 -> 74.1 | I12: =F13*100/0.1 -> 23.5 | J12: =G12*100/0.1 -> 2.4 | K12: =H12+I12+J12 -> 100
C13: organic | D13: 67.5314 | E13: 67.5549 | F13: =E13-D13 -> 0.0235
B15: dispersant conc | D15: weight before (g) | E15: weight after drying (g) | F15: sample retrieved (g) | G15: loss (g) | H15: aq (%) | I15: org (%) | J15: lost (%) | K15: total (%)
A17: TiO2 40 | B17: C0 | C17: aqueous | D17: 47.2564 | E17: 47.2605 | F17: =E17-D17 -> 0.0041 | G17: =0.1-(F17+F18) -> 0.0037 | H17: =(F17*100)/0.1 -> 4.1 | I17: =F18*100/0.1 -> 92.2 | J17: =G17*100/0.1 -> 3.7 | K17: =H17+I17+J17 -> 100
C18: organic | D18: 47.6213 | E18: 47.7135 | F18: =E18-D18 -> 0.0922
B19: C0,01 | C19: aqueous | D19: 47.9021 | E19: 47.9261 | F19: =E19-D19 -> 0.024 | G19: =0.1-(F19+F20) -> 0.0021 | H19: =(F19*100)/0.1 -> 24 | I19: =F20*100/0.1 -> 73.9 | J19: =G19*100/0.1 -> 2.1 | K19: =H19+I19+J19 -> 100
C20: organic | D20: 47.7406 | E20: 47.8145 | F20: =E20-D20 -> 0.0739
B21: C1 | C21: aqueous | D21: 46.9983 | E21: 47.0751 | F21: =E21-D21 -> 0.0768 | G21: =0.1-(F21+F22) -> 0.0025 | H21: =(F21*100)/0.1 -> 76.8 | I21: =F22*100/0.1 -> 20.7 | J21: =G21*100/0.1 -> 2.5 | K21: =H21+I21+J21 -> 100
C22: organic | D22: 47.2046 | E22: 47.2253 | F22: =E22-D22 -> 0.0207
B23: C100 | C23: aqueous | D23: 47.3861 | E23: 47.4653 | F23: =E23-D23 -> 0.0792 | G23: =0.1-(F23+F24) -> 0.0028 | H23: =(F23*100)/0.1 -> 79.2 | I23: =F24*100/0.1 -> 18 | J23: =G23*100/0.1 -> 2.8 | K23: =H23+I23+J23 -> 100
C24: organic | D24: 47.5109 | E24: 47.5289 | F24: =E24-D24 -> 0.018

Sheet cumm TiO2
A3: TiO2 0 | M3: mean | P3: std dev | S3: 95 % confidence interval
A4: rep 1 | B4: aqueous | C4: organic | D4: loss | E4: rep 2 | F4: aqueous | G4: organic | H4: loss | I4: rep 3 | J4: aqueous | K4: organic | L4: loss | M4: aqueous | N4: organic | O4: loss | P4: aqueous | Q4: organic | R4: loss | S4: aqueous | T4: organic | U4: loss
A6: 0 | B6: 86.9 | C6: 9.5 | D6: 3.6 | F6: 91.2 | G6: 4.5 | H6: 4.3 | J6: 93 | K6: 2.6 | L6: 4.4 | M6: =(B6+F6+J6)/3 -> 90.366667 | N6: =(C6+G6+K6)/3 -> 5.5333333 | O6: =(D6+H6+L6)/3 -> 4.1 | P6: =_xlfn.STDEV.S(B6,F6,J6) -> 3.1342197 | Q6: =_xlfn.STDEV.S(C6,G6,K6) -> 3.5641736 | R6: =_xlfn.STDEV.S(D6,H6,L6) -> 0.43588989 | S6: =1.96*(P6/SQRT(3)) -> 3.5467035 | T6: =1.96*(Q6/SQRT(3)) -> 4.0332421 | U6: =1.96*(R6/SQRT(3)) -> 0.49325585
A8: 1e-05 | B8: 88.9 | C8: 5.9 | D8: 5.2 | F8: 91 | G8: 4.2 | H8: 4.8 | J8: 93.7 | K8: 2.3 | L8: 4 | M8: =(B8+F8+J8)/3 -> 91.2 | N8: =(C8+G8+K8)/3 -> 4.1333333 | O8: =(D8+H8+L8)/3 -> 4.6666667 | P8: =_xlfn.STDEV.S(B8,F8,J8) -> 2.4062419 | Q8: =_xlfn.STDEV.S(C8,G8,K8) -> 1.8009257 | R8: =_xlfn.STDEV.S(D8,H8,L8) -> 0.61101009 | S8: =1.96*(P8/SQRT(3)) -> 2.722919 | T8: =1.96*(Q8/SQRT(3)) -> 2.0379393 | U8: =1.96*(R8/SQRT(3)) -> 0.69142301
A10: 0.001 | B10: 92 | C10: 2.5 | D10: 5.5 | F10: 92.8 | G10: 3.8 | H10: 3.4 | J10: 95.7 | K10: 2.6 | L10: 1.7 | M10: =(B10+F10+J10)/3 -> 93.5 | N10: =(C10+G10+K10)/3 -> 2.9666667 | O10: =(D10+H10+L10)/3 -> 3.5333333 | P10: =_xlfn.STDEV.S(B10,F10,J10) -> 1.9467922 | Q10: =_xlfn.STDEV.S(C10,G10,K10) -> 0.72341781 | R10: =_xlfn.STDEV.S(D10,H10,L10) -> 1.9035055 | S10: =1.96*(P10/SQRT(3)) -> 2.2030028 | T10: =1.96*(Q10/SQRT(3)) -> 0.81862432 | U10: =1.96*(R10/SQRT(3)) -> 2.1540193
A12: 0.1 | B12: 93.2 | C12: 1.1 | D12: 5.7 | F12: 96 | G12: 3.5 | H12: 0.5 | J12: 95.1 | K12: 1.2 | L12: 3.7 | M12: =(B12+F12+J12)/3 -> 94.766667 | N12: =(C12+G12+K12)/3 -> 1.9333333 | O12: =(D12+H12+L12)/3 -> 3.3 | P12: =_xlfn.STDEV.S(B12,F12,J12) -> 1.4294521 | Q12: =_xlfn.STDEV.S(C12,G12,K12) -> 1.3576941 | R12: =_xlfn.STDEV.S(D12,H12,L12) -> 2.6229754 | S12: =1.96*(P12/SQRT(3)) -> 1.6175773 | T12: =1.96*(Q12/SQRT(3)) -> 1.5363755 | U12: =1.96*(R12/SQRT(3)) -> 2.9681761
A15: TiO2 20 | M15: mean | P15: std dev | S15: 95 % confidence interval
A16: rep 1 | B16: aqueous | C16: organic | D16: loss | E16: rep 2 | F16: aqueous | G16: organic | H16: loss | I16: rep 3 | J16: aqueous | K16: organic | L16: loss | M16: aqueous | N16: organic | O16: loss | P16: aqueous | Q16: organic | R16: loss | S16: aqueous | T16: organic | U16: loss
A18: 0 | B18: 0.3 | C18: 93.9 | D18: 5.8 | F18: 4.7 | G18: 90.3 | H18: 5 | J18: 2.5 | K18: 95.3 | L18: 2.2 | M18: =(B18+F18+J18)/3 -> 2.5 | N18: =(C18+G18+K18)/3 -> 93.166667 | O18: =(D18+H18+L18)/3 -> 4.3333333 | P18: =_xlfn.STDEV.S(B18,F18,J18) -> 2.2 | Q18: =_xlfn.STDEV.S(C18,G18,K18) -> 2.5794056 | R18: =_xlfn.STDEV.S(D18,H18,L18) -> 1.8903263 | S18: =1.96*(P18/SQRT(3)) -> 2.4895344 | T18: =1.96*(Q18/SQRT(3)) -> 2.9188722 | U18: =1.96*(R18/SQRT(3)) -> 2.1391055
A20: 1e-05 | B20: 6.5 | C20: 85.9 | D20: 7.6 | F20: 15.5 | G20: 80.1 | H20: 4.4 | J20: 9.8 | K20: 86.8 | L20: 3.4 | M20: =(B20+F20+J20)/3 -> 10.6 | N20: =(C20+G20+K20)/3 -> 84.266667 | O20: =(D20+H20+L20)/3 -> 5.1333333 | P20: =_xlfn.STDEV.S(B20,F20,J20) -> 4.553021 | Q20: =_xlfn.STDEV.S(C20,G20,K20) -> 3.6363902 | R20: =_xlfn.STDEV.S(D20,H20,L20) -> 2.193931 | S20: =1.96*(P20/SQRT(3)) -> 5.1522283 | T20: =1.96*(Q20/SQRT(3)) -> 4.1149628 | U20: =1.96*(R20/SQRT(3)) -> 2.4826667
A22: 0.001 | B22: 50.7 | C22: 44.4 | D22: 4.9 | F22: 65.6 | G22: 31.8 | H22: 2.6 | J22: 60.7 | K22: 35.5 | L22: 3.8 | M22: =(B22+F22+J22)/3 -> 59 | N22: =(C22+G22+K22)/3 -> 37.233333 | O22: =(D22+H22+L22)/3 -> 3.7666667 | P22: =_xlfn.STDEV.S(B22,F22,J22) -> 7.5940766 | Q22: =_xlfn.STDEV.S(C22,G22,K22) -> 6.4763673 | R22: =_xlfn.STDEV.S(D22,H22,L22) -> 1.1503623 | S22: =1.96*(P22/SQRT(3)) -> 8.5935067 | T22: =1.96*(Q22/SQRT(3)) -> 7.3286995 | U22: =1.96*(R22/SQRT(3)) -> 1.3017574
A24: 0.1 | B24: 54.4 | C24: 41.5 | D24: 4.1 | F24: 67.2 | G24: 30.5 | H24: 2.3 | J24: 67.3 | K24: 30.3 | L24: 2.4 | M24: =(B24+F24+J24)/3 -> 62.966667 | N24: =(C24+G24+K24)/3 -> 34.1 | O24: =(D24+H24+L24)/3 -> 2.9333333 | P24: =_xlfn.STDEV.S(B24,F24,J24) -> 7.4191194 | Q24: =_xlfn.STDEV.S(C24,G24,K24) -> 6.4093681 | R24: =_xlfn.STDEV.S(D24,H24,L24) -> 1.0115994 | S24: =1.96*(P24/SQRT(3)) -> 8.395524 | T24: =1.96*(Q24/SQRT(3)) -> 7.2528828 | U24: =1.96*(R24/SQRT(3)) -> 1.1447325
A27: TiO2 40 | M27: mean | P27: std dev | S27: 95 % confidence interval
A28: rep 1 | B28: aqueous | C28: organic | D28: loss | E28: rep 2 | F28: aqueous | G28: organic | H28: loss | I28: rep 3 | J28: aqueous | K28: organic | L28: loss | M28: aqueous | N28: organic | O28: loss | P28: aqueous | Q28: organic | R28: loss | S28: aqueous | T28: organic | U28: loss
A30: 0 | B30: 4.8 | C30: 90.4 | D30: 4.8 | F30: 2.9 | G30: 92.6 | H30: 4.5 | J30: 2.5 | K30: 96.1 | L30: 1.4 | M30: =(B30+F30+J30)/3 -> 3.4 | N30: =(C30+G30+K30)/3 -> 93.033333 | O30: =(D30+H30+L30)/3 -> 3.5666667 | P30: =_xlfn.STDEV.S(B30,F30,J30) -> 1.2288206 | Q30: =_xlfn.STDEV.S(C30,G30,K30) -> 2.8746014 | R30: =_xlfn.STDEV.S(D30,H30,L30) -> 1.8823744 | S30: =1.96*(P30/SQRT(3)) -> 1.3905414 | T30: =1.96*(Q30/SQRT(3)) -> 3.2529177 | U30: =1.96*(R30/SQRT(3)) -> 2.1301071
A32: 1e-05 | B32: 10.4 | C32: 82.2 | D32: 7.4 | F32: 18 | G32: 78.8 | H32: 3.2 | J32: 13.8 | K32: 82 | L32: 4.2 | M32: =(B32+F32+J32)/3 -> 14.066667 | N32: =(C32+G32+K32)/3 -> 81 | O32: =(D32+H32+L32)/3 -> 4.9333333 | P32: =_xlfn.STDEV.S(B32,F32,J32) -> 3.8070111 | Q32: =_xlfn.STDEV.S(C32,G32,K32) -> 1.9078784 | R32: =_xlfn.STDEV.S(D32,H32,L32) -> 2.193931 | S32: =1.96*(P32/SQRT(3)) -> 4.3080386 | T32: =1.96*(Q32/SQRT(3)) -> 2.1589677 | U32: =1.96*(R32/SQRT(3)) -> 2.4826667
A34: 0.001 | B34: 65.9 | C34: 26.2 | D34: 7.9 | F34: 70.4 | G34: 24.2 | H34: 5.4 | J34: 71.2 | K34: 25.4 | L34: 3.4 | M34: =(B34+F34+J34)/3 -> 69.166667 | N34: =(C34+G34+K34)/3 -> 25.266667 | O34: =(D34+H34+L34)/3 -> 5.5666667 | P34: =_xlfn.STDEV.S(B34,F34,J34) -> 2.8571548 | Q34: =_xlfn.STDEV.S(C34,G34,K34) -> 1.0066446 | R34: =_xlfn.STDEV.S(D34,H34,L34) -> 2.2546249 | S34: =1.96*(P34/SQRT(3)) -> 3.233175 | T34: =1.96*(Q34/SQRT(3)) -> 1.1391256 | U34: =1.96*(R34/SQRT(3)) -> 2.5513482
A36: 0.1 | B36: 66.7 | C36: 26.6 | D36: 6.7 | F36: 72.1 | G36: 23.2 | H36: 4.7 | J36: 72.6 | K36: 24.4 | L36: 3 | M36: =(B36+F36+J36)/3 -> 70.466667 | N36: =(C36+G36+K36)/3 -> 24.733333 | O36: =(D36+H36+L36)/3 -> 4.8 | P36: =_xlfn.STDEV.S(B36,F36,J36) -> 3.2715949 | Q36: =_xlfn.STDEV.S(C36,G36,K36) -> 1.7243356 | R36: =_xlfn.STDEV.S(D36,H36,L36) -> 1.8520259 | S36: =1.96*(P36/SQRT(3)) -> 3.7021582 | T36: =1.96*(Q36/SQRT(3)) -> 1.9512694 | U36: =1.96*(R36/SQRT(3)) -> 2.0957646
B60: recovery in aqueous phase
B61: TiO2 0 | C61: TiO2 20 | D61: TiO2 40 | E61: CI Ti0 | F61: CI Ti20 | G61: CI Ti40
A62: 0 | B62: 86.9 | C62: 0.3 | D62: 4.8 | E62: 3.5467035 | F62: 2.4895344 | G62: 1.3905414
A63: 1e-05 | B63: 88.9 | C63: 6.5 | D63: 10.4 | E63: 2.722919 | F63: 5.1522283 | G63: 4.3080386
A64: 0.001 | B64: 92 | C64: 50.7 | D64: 65.9 | E64: 2.2030028 | F64: 8.5935067 | G64: 3.233175
A65: 0.1 | B65: 93.2 | C65: 54.4 | D65: 66.7 | E65: 1.6175773 | F65: 8.395524 | G65: 3.7021582

Sheet cumm CB
B3: CB 0 | N3: mean | Q3: std dev | T3: 95 % confidence interval
B4: SHMP conc | C4: aqueous | D4: organic | E4: loss | F4: rep 2 | G4: aqueous | H4: organic | I4: loss | J4: rep 3 | K4: aqueous | L4: organic | M4: loss | N4: aqueous | O4: organic | P4: loss | Q4: aqueous | R4: organic | S4: loss | T4: aqueous | U4: organic | V4: loss
B6: 0 | C6: 1.1 | D6: 97.2 | E6: 1.7 | G6: 2 | H6: 92 | I6: 6 | K6: 3.5 | L6: 93.2 | M6: 3.3 | N6: =(C6+G6+K6)/3 -> 2.2 | O6: =(D6+H6+L6)/3 -> 94.133333 | P6: =(E6+I6+M6)/3 -> 3.6666667 | Q6: =_xlfn.STDEV.S(C6,G6,K6) -> 1.2124356 | R6: =_xlfn.STDEV.S(D6,H6,L6) -> 2.7227437 | S6: =_xlfn.STDEV.S(E6,I6,M6) -> 2.1733231 | T6: =1.96*(Q6/SQRT(3)) -> 1.372 | U6: =1.96*(R6/SQRT(3)) -> 3.0810746 | V6: =1.96*(S6/SQRT(3)) -> 2.4593466
B8: 1e-05 | C8: 2.3 | D8: 96.4 | E8: 1.3 | G8: 4.1 | H8: 90.9 | I8: 5 | K8: 5.7 | L8: 90.9 | M8: 3.4 | N8: =(C8+G8+K8)/3 -> 4.0333333 | O8: =(D8+H8+L8)/3 -> 92.733333 | P8: =(E8+I8+M8)/3 -> 3.2333333 | Q8: =_xlfn.STDEV.S(C8,G8,K8) -> 1.7009801 | R8: =_xlfn.STDEV.S(D8,H8,L8) -> 3.1754265 | S8: =_xlfn.STDEV.S(E8,I8,M8) -> 1.8556221 | T8: =1.96*(Q8/SQRT(3)) -> 1.9248402 | U8: =1.96*(R8/SQRT(3)) -> 3.5933333 | V8: =1.96*(S8/SQRT(3)) -> 2.0998341
B10: 0.001 | C10: 2.6 | D10: 94.5 | E10: 2.9 | G10: 6.7 | H10: 88.3 | I10: 5 | K10: 6.5 | L10: 89.7 | M10: 3.8 | N10: =(C10+G10+K10)/3 -> 5.2666667 | O10: =(D10+H10+L10)/3 -> 90.833333 | P10: =(E10+I10+M10)/3 -> 3.9 | Q10: =_xlfn.STDEV.S(C10,G10,K10) -> 2.3115651 | R10: =_xlfn.STDEV.S(D10,H10,L10) -> 3.2516662 | S10: =_xlfn.STDEV.S(E10,I10,M10) -> 1.0535654 | T10: =1.96*(Q10/SQRT(3)) -> 2.6157822 | U10: =1.96*(R10/SQRT(3)) -> 3.6796067 | V10: =1.96*(S10/SQRT(3)) -> 1.1922215
B12: 0.1 | C12: 1.5 | D12: 96 | E12: 2.5 | G12: 7.5 | H12: 87.6 | I12: 4.9 | K12: 5.1 | L12: 89.5 | M12: 5.4 | N12: =(C12+G12+K12)/3 -> 4.7 | O12: =(D12+H12+L12)/3 -> 91.033333 | P12: =(E12+I12+M12)/3 -> 4.2666667 | Q12: =_xlfn.STDEV.S(C12,G12,K12) -> 3.0199338 | R12: =_xlfn.STDEV.S(D12,H12,L12) -> 4.4049215 | S12: =_xlfn.STDEV.S(E12,I12,M12) -> 1.5502688 | T12: =1.96*(Q12/SQRT(3)) -> 3.4173768 | U12: =1.96*(R12/SQRT(3)) -> 4.9846379 | V12: =1.96*(S12/SQRT(3)) -> 1.7542943
B15: CB 20 | N15: mean | Q15: std dev | T15: 95 % confidence interval
B16: rep 1 | C16: aqueous | D16: organic | E16: loss | F16: rep 2 | G16: aqueous | H16: organic | I16: loss | J16: rep 3 | K16: aqueous | L16: organic | M16: loss | N16: aqueous | O16: organic | P16: loss | Q16: aqueous | R16: organic | S16: loss | T16: aqueous | U16: organic | V16: loss
B18: 0 | C18: 1.5 | D18: 94.3 | E18: 4.2 | G18: 3.5 | H18: 91.5 | I18: 5 | K18: 3.8 | L18: 91.5 | M18: 4.7 | N18: =(C18+G18+K18)/3 -> 2.9333333 | O18: =(D18+H18+L18)/3 -> 92.433333 | P18: =(E18+I18+M18)/3 -> 4.6333333 | Q18: =_xlfn.STDEV.S(C18,G18,K18) -> 1.2503333 | R18: =_xlfn.STDEV.S(D18,H18,L18) -> 1.6165808 | S18: =_xlfn.STDEV.S(E18,I18,M18) -> 0.40414519 | T18: =1.96*(Q18/SQRT(3)) -> 1.4148853 | U18: =1.96*(R18/SQRT(3)) -> 1.8293333 | V18: =1.96*(S18/SQRT(3)) -> 0.45733333
B20: 1e-05 | C20: 3.6 | D20: 93.9 | E20: 2.5 | G20: 4.1 | H20: 90.6 | I20: 5.3 | K20: 5.2 | L20: 90.8 | M20: 4 | N20: =(C20+G20+K20)/3 -> 4.3 | O20: =(D20+H20+L20)/3 -> 91.766667 | P20: =(E20+I20+M20)/3 -> 3.9333333 | Q20: =_xlfn.STDEV.S(C20,G20,K20) -> 0.81853528 | R20: =_xlfn.STDEV.S(D20,H20,L20) -> 1.8502252 | S20: =_xlfn.STDEV.S(E20,I20,M20) -> 1.40119 | T20: =1.96*(Q20/SQRT(3)) -> 0.92625986 | U20: =1.96*(R20/SQRT(3)) -> 2.0937269 | V20: =1.96*(S20/SQRT(3)) -> 1.5855957
B22: 0.001 | C22: 3.8 | D22: 92.8 | E22: 3.4 | G22: 6 | H22: 88.9 | I22: 5.1 | K22: 5.6 | L22: 89.1 | M22: 5.3 | N22: =(C22+G22+K22)/3 -> 5.1333333 | O22: =(D22+H22+L22)/3 -> 90.266667 | P22: =(E22+I22+M22)/3 -> 4.6 | Q22: =_xlfn.STDEV.S(C22,G22,K22) -> 1.1718931 | R22: =_xlfn.STDEV.S(D22,H22,L22) -> 2.1962089 | S22: =_xlfn.STDEV.S(E22,I22,M22) -> 1.0440307 | T22: =1.96*(Q22/SQRT(3)) -> 1.3261218 | U22: =1.96*(R22/SQRT(3)) -> 2.4852443 | V22: =1.96*(S22/SQRT(3)) -> 1.1814319
B24: 0.1 | C24: 3.9 | D24: 92.2 | E24: 3.9 | G24: 6.1 | H24: 88.6 | I24: 5.3 | K24: 6.7 | L24: 88.2 | M24: 5.1 | N24: =(C24+G24+K24)/3 -> 5.5666667 | O24: =(D24+H24+L24)/3 -> 89.666667 | P24: =(E24+I24+M24)/3 -> 4.7666667 | Q24: =_xlfn.STDEV.S(C24,G24,K24) -> 1.474223 | R24: =_xlfn.STDEV.S(D24,H24,L24) -> 2.2030282 | S24: =_xlfn.STDEV.S(E24,I24,M24) -> 0.75718778 | T24: =1.96*(Q24/SQRT(3)) -> 1.6682403 | U24: =1.96*(R24/SQRT(3)) -> 2.4929611 | V24: =1.96*(S24/SQRT(3)) -> 0.85683863
B27: CB 40 | N27: mean | Q27: std dev | T27: 95 % confidence interval
B28: rep 1 | C28: aqueous | D28: organic | E28: loss | F28: rep 2 | G28: aqueous | H28: organic | I28: loss | J28: rep 3 | K28: aqueous | L28: organic | M28: loss | N28: aqueous | O28: organic | P28: loss | Q28: aqueous | R28: organic | S28: loss | T28: aqueous | U28: organic | V28: loss
B30: 0 | C30: 2.3 | D30: 94.1 | E30: 3.6 | G30: 3.7 | H30: 91.6 | I30: 4.7 | K30: 5.6 | L30: 90.3 | M30: 4.1 | N30: =(C30+G30+K30)/3 -> 3.8666667 | O30: =(D30+H30+L30)/3 -> 92 | P30: =(E30+I30+M30)/3 -> 4.1333333 | Q30: =_xlfn.STDEV.S(C30,G30,K30) -> 1.6563011 | R30: =_xlfn.STDEV.S(D30,H30,L30) -> 1.9313208 | S30: =_xlfn.STDEV.S(E30,I30,M30) -> 0.55075705 | T30: =1.96*(Q30/SQRT(3)) -> 1.8742811 | U30: =1.96*(R30/SQRT(3)) -> 2.1854952 | V30: =1.96*(S30/SQRT(3)) -> 0.62324028
B32: 1e-05 | C32: 3.9 | D32: 93.8 | E32: 2.3 | G32: 5.1 | H32: 90.2 | I32: 4.7 | K32: 6.3 | L32: 88.8 | M32: 4.9 | N32: =(C32+G32+K32)/3 -> 5.1 | O32: =(D32+H32+L32)/3 -> 90.933333 | P32: =(E32+I32+M32)/3 -> 3.9666667 | Q32: =_xlfn.STDEV.S(C32,G32,K32) -> 1.2 | R32: =_xlfn.STDEV.S(D32,H32,L32) -> 2.5794056 | S32: =_xlfn.STDEV.S(E32,I32,M32) -> 1.4468356 | T32: =1.96*(Q32/SQRT(3)) -> 1.3579278 | U32: =1.96*(R32/SQRT(3)) -> 2.9188722 | V32: =1.96*(S32/SQRT(3)) -> 1.6372486
B34: 0.001 | C34: 3.8 | D34: 93.4 | E34: 2.8 | G34: 5.8 | H34: 89.4 | I34: 4.8 | K34: 5.2 | L34: 88.3 | M34: 6.5 | N34: =(C34+G34+K34)/3 -> 4.9333333 | O34: =(D34+H34+L34)/3 -> 90.366667 | P34: =(E34+I34+M34)/3 -> 4.7 | Q34: =_xlfn.STDEV.S(C34,G34,K34) -> 1.0263203 | R34: =_xlfn.STDEV.S(D34,H34,L34) -> 2.6839026 | S34: =_xlfn.STDEV.S(E34,I34,M34) -> 1.8520259 | T34: =1.96*(Q34/SQRT(3)) -> 1.1613907 | U34: =1.96*(R34/SQRT(3)) -> 3.0371217 | V34: =1.96*(S34/SQRT(3)) -> 2.0957646
B36: 0.1 | C36: 4.9 | D36: 92.4 | E36: 2.7 | G36: 6 | H36: 89.3 | I36: 4.7 | K36: 7.2 | L36: 87.5 | M36: 5.3 | N36: =(C36+G36+K36)/3 -> 6.0333333 | O36: =(D36+H36+L36)/3 -> 89.733333 | P36: =(E36+I36+M36)/3 -> 4.2333333 | Q36: =_xlfn.STDEV.S(C36,G36,K36) -> 1.1503623 | R36: =_xlfn.STDEV.S(D36,H36,L36) -> 2.4785749 | S36: =_xlfn.STDEV.S(E36,I36,M36) -> 1.3613719 | T36: =1.96*(Q36/SQRT(3)) -> 1.3017574 | U36: =1.96*(R36/SQRT(3)) -> 2.8047715 | V36: =1.96*(S36/SQRT(3)) -> 1.5405373
B64: recovery in aqueous phase
B65: CB 0 | C65: CB 20 | D65: CB 40 | E65: CI CB0 | F65: CI CB20 | G65: CI CB40
A66: 0 | B66: 2.2 | C66: 2.9333333 | D66: 3.8666667 | E66: 1.372 | F66: 1.4148853 | G66: 1.8742811
A67: 1e-05 | B67: 4.0333333 | C67: 4.3 | D67: 5.1 | E67: 1.9248402 | F67: 0.92625986 | G67: 1.3579278
A68: 0.001 | B68: 5.2666667 | C68: 5.1333333 | D68: 4.9333333 | E68: 2.6157822 | F68: 1.3261218 | G68: 1.1613907
A69: 0.1 | B69: 4.7 | C69: 5.5666667 | D69: 6.0333333 | E69: 3.4173768 | F69: 1.6682403 | G69: 1.3017574
B71: recovery in organic phase
B72: CB 0 | C72: CB 20 | D72: CB 40 | E72: CI CB0 | F72: CI CB20 | G72: CI CB40
A73: 0 | B73: 94.133333 | C73: 92.433333 | D73: 92 | E73: 3.0810746 | F73: 1.8293333 | G73: 2.1854952
A74: 1e-05 | B74: 92.733333 | C74: 91.766667 | D74: 90.933333 | E74: 3.5933333 | F74: 2.0937269 | G74: 2.9188722
A75: 0.001 | B75: 90.833333 | C75: 90.266667 | D75: 90.366667 | E75: 3.6796067 | F75: 2.4852443 | G75: 3.0371217
A76: 0.1 | B76: 91.033333 | C76: 89.666667 | D76: 89.733333 | E76: 4.9846379 | F76: 2.4929611 | G76: 2.8047715

Sheet TiO2 Dolapix
A1: Dispersant: Dolapix
A2: settling time: 45 mins
B4: dispersant conc (µl) | D4: weight before (g) | E4: weight after drying (g) | F4: sample retrieved (g) | G4: loss (g) | H4: aq (%) | I4: org (%) | J4: lost (%) | K4: total (%)
A6: TiO2 0 | B6: C0 | C6: aqueous | D6: 41.5526 | E6: 41.6435 | F6: =E6-D6 -> 0.0909 | G6: =0.1-(F6+F7) -> 0.0043 | H6: =(F6*100)/0.1 -> 90.9 | I6: =F7*100/0.1 -> 4.8 | J6: =G6*100/0.1 -> 4.3 | K6: =H6+I6+J6 -> 100
C7: organic | D7: 47.9469 | E7: 47.9517 | F7: =E7-D7 -> 0.0048
B8: C10 | C8: aqueous | D8: 45.1701 | E8: 45.2639 | F8: =E8-D8 -> 0.0938 | G8: =0.1-(F8+F9) -> 0.0036 | H8: =(F8*100)/0.1 -> 93.8 | I8: =F9*100/0.1 -> 2.6 | J8: =G8*100/0.1 -> 3.6 | K8: =H8+I8+J8 -> 100
C9: organic | D9: 42.6776 | E9: 42.6802 | F9: =E9-D9 -> 0.0026
B10: C20 | C10: aqueous | D10: 58.7262 | E10: 58.8206 | F10: =E10-D10 -> 0.0944 | G10: =0.1-(F10+F11) -> 0.0036 | H10: =(F10*100)/0.1 -> 94.4 | I10: =F11*100/0.1 -> 2 | J10: =G10*100/0.1 -> 3.6 | K10: =H10+I10+J10 -> 100
C11: organic | D11: 46.9254 | E11: 46.9274 | F11: =E11-D11 -> 0.002
B12: C30 | C12: aqueous | D12: 41.7671 | E12: 41.8602 | F12: =E12-D12 -> 0.0931 | G12: =0.1-(F12+F13) -> 0.0032 | H12: =(F12*100)/0.1 -> 93.1 | I12: =F13*100/0.1 -> 3.7 | J12: =G12*100/0.1 -> 3.2 | K12: =H12+I12+J12 -> 100
C13: organic | D13: 43.0754 | E13: 43.0791 | F13: =E13-D13 -> 0.0037
A14: TiO2 20 | B14: C0 | C14: aqueous | D14: 55.2213 | E14: 55.2255 | F14: =E14-D14 -> 0.0042 | G14: =0.1-(F14+F15) -> 0.0009 | H14: =(F14*100)/0.1 -> 4.2 | I14: =F15*100/0.1 -> 94.9 | J14: =G14*100/0.1 -> 0.9 | K14: =H14+I14+J14 -> 100
C15: organic | D15: 39.8741 | E15: 39.969 | F15: =E15-D15 -> 0.0949
B16: C10 | C16: aqueous | D16: 32.1454 | E16: 32.1616 | F16: =E16-D16 -> 0.0162 | G16: =0.1-(F16+F17) -> 0.0016 | H16: =(F16*100)/0.1 -> 16.2 | I16: =F17*100/0.1 -> 82.2 | J16: =G16*100/0.1 -> 1.6 | K16: =H16+I16+J16 -> 100
C17: organic | D17: 31.5847 | E17: 31.6669 | F17: =E17-D17 -> 0.0822
B18: C20 | C18: aqueous | D18: 57.2457 | E18: 57.2744 | F18: =E18-D18 -> 0.0287 | G18: =0.1-(F18+F19) -> 0.0029 | H18: =(F18*100)/0.1 -> 28.7 | I18: =F19*100/0.1 -> 68.4 | J18: =G18*100/0.1 -> 2.9 | K18: =H18+I18+J18 -> 100
C19: organic | D19: 42.7667 | E19: 42.8351 | F19: =E19-D19 -> 0.0684
B20: C30 | C20: aqueous | D20: 47.8847 | E20: 47.9259 | F20: =E20-D20 -> 0.0412 | G20: =0.1-(F20+F21) -> 0.0038 | H20: =(F20*100)/0.1 -> 41.2 | I20: =F21*100/0.1 -> 55 | J20: =G20*100/0.1 -> 3.8 | K20: =H20+I20+J20 -> 100
C21: organic | D21: 47.1575 | E21: 47.2125 | F21: =E21-D21 -> 0.055
A22: TiO2 40 | B22: C0 | C22: aqueous | D22: 47.7878 | E22: 47.7901 | F22: =E22-D22 -> 0.0023 | G22: =0.1-(F22+F23) -> 0.0002 | H22: =(F22*100)/0.1 -> 2.3 | I22: =F23*100/0.1 -> 97.5 | J22: =G22*100/0.1 -> 0.2 | K22: =H22+I22+J22 -> 100
C23: organic | D23: 43.1131 | E23: 43.2106 | F23: =E23-D23 -> 0.0975
B24: C10 | C24: aqueous | D24: 61.667 | E24: 61.6856 | F24: =E24-D24 -> 0.0186 | G24: =0.1-(F24+F25) -> 0.0023 | H24: =(F24*100)/0.1 -> 18.6 | I24: =F25*100/0.1 -> 79.1 | J24: =G24*100/0.1 -> 2.3 | K24: =H24+I24+J24 -> 100
C25: organic | D25: 62.1094 | E25: 62.1885 | F25: =E25-D25 -> 0.0791
B26: C20 | C26: aqueous | D26: 45.5309 | E26: 45.5601 | F26: =E26-D26 -> 0.0292 | G26: =0.1-(F26+F27) -> 0.0025 | H26: =(F26*100)/0.1 -> 29.2 | I26: =F27*100/0.1 -> 68.3 | J26: =G26*100/0.1 -> 2.5 | K26: =H26+I26+J26 -> 100
C27: organic | D27: 46.3941 | E27: 46.4624 | F27: =E27-D27 -> 0.0683
B28: C30 | C28: aqueous | D28: 31.2269 | E28: 31.2777 | F28: =E28-D28 -> 0.0508 | G28: =0.1-(F28+F29) -> 0.0017 | H28: =(F28*100)/0.1 -> 50.8 | I28: =F29*100/0.1 -> 47.5 | J28: =G28*100/0.1 -> 1.7 | K28: =H28+I28+J28 -> 100
C29: organic | D29: 48.8673 | E29: 48.9148 | F29: =E29-D29 -> 0.0475
B52: dispersant conc (µl) | D52: weight before (g) | E52: weight after drying (g) | F52: sample retrieved (g) | G52: loss (g) | H52: aq (%) | I52: org (%) | J52: lost (%) | K52: total (%)
A54: TiO2 20 | B54: C40 | C54: aqueous | D54: 42.0315 | E54: 42.0721 | F54: =E54-D54 -> 0.0406 | G54: =0.1-(F54+F55) -> 0.0023 | H54: =(F54*100)/0.1 -> 40.6 | I54: =F55*100/0.1 -> 57.1 | J54: =G54*100/0.1 -> 2.3 | K54: =H54+I54+J54 -> 100
C55: organic | D55: 42.3154 | E55: 42.3725 | F55: =E55-D55 -> 0.0571
B56: C50 | C56: aqueous | D56: 46.8213 | E56: 46.8626 | F56: =E56-D56 -> 0.0413 | G56: =0.1-(F56+F57) -> 0.0019 | H56: =(F56*100)/0.1 -> 41.3 | I56: =F57*100/0.1 -> 56.8 | J56: =G56*100/0.1 -> 1.9 | K56: =H56+I56+J56 -> 100
C57: organic | D57: 46.9514 | E57: 47.0082 | F57: =E57-D57 -> 0.0568
B58: C60 | C58: aqueous | D58: 47.2055 | E58: 47.2482 | F58: =E58-D58 -> 0.0427 | G58: =0.1-(F58+F59) -> 0.0035 | H58: =(F58*100)/0.1 -> 42.7 | I58: =F59*100/0.1 -> 53.8 | J58: =G58*100/0.1 -> 3.5 | K58: =H58+I58+J58 -> 100
C59: organic | D59: 47.3843 | E59: 47.4381 | F59: =E59-D59 -> 0.0538
B60: C70 | C60: aqueous | D60: 47.6512 | E60: 47.6939 | F60: =E60-D60 -> 0.0427 | G60: =0.1-(F60+F61) -> 0.0021 | H60: =(F60*100)/0.1 -> 42.7 | I60: =F61*100/0.1 -> 55.2 | J60: =G60*100/0.1 -> 2.1 | K60: =H60+I60+J60 -> 100
C61: organic | D61: 47.1873 | E61: 47.2425 | F61: =E61-D61 -> 0.0552
A62: TiO2 40 | B62: C40 | C62: aqueous | D62: 43.2516 | E62: 43.2998 | F62: =E62-D62 -> 0.0482 | G62: =0.1-(F62+F63) -> 0.0016 | H62: =(F62*100)/0.1 -> 48.2 | I62: =F63*100/0.1 -> 50.2 | J62: =G62*100/0.1 -> 1.6 | K62: =H62+I62+J62 -> 100
C63: organic | D63: 43.9517 | E63: 44.0019 | F63: =E63-D63 -> 0.0502
B64: C50 | C64: aqueous | D64: 42.9994 | E64: 43.0483 | F64: =E64-D64 -> 0.0489 | G64: =0.1-(F64+F65) -> 0.0024 | H64: =(F64*100)/0.1 -> 48.9 | I64: =F65*100/0.1 -> 48.7 | J64: =G64*100/0.1 -> 2.4 | K64: =H64+I64+J64 -> 100
C65: organic | D65: 45.1047 | E65: 45.1534 | F65: =E65-D65 -> 0.0487
B66: C60 | C66: aqueous | D66: 35.6604 | E66: 35.7114 | F66: =E66-D66 -> 0.051 | G66: =0.1-(F66+F67) -> 0.0026 | H66: =(F66*100)/0.1 -> 51 | I66: =F67*100/0.1 -> 46.4 | J66: =G66*100/0.1 -> 2.6 | K66: =H66+I66+J66 -> 100
C67: organic | D67: 35.2894 | E67: 35.3358 | F67: =E67-D67 -> 0.0464 | M67: 50 µl (Dol) ̴ C100 (SHMP)
B68: C70 | C68: aqueous | D68: 36.0157 | E68: 36.0681 | F68: =E68-D68 -> 0.0524 | G68: =0.1-(F68+F69) -> 0.0028 | H68: =(F68*100)/0.1 -> 52.4 | I68: =F69*100/0.1 -> 44.8 | J68: =G68*100/0.1 -> 2.8 | K68: =H68+I68+J68 -> 100
C69: organic | D69: 35.8471 | E69: 35.8919 | F69: =E69-D69 -> 0.0448
B94: recovery in aqueous phase
B95: TiO2 20 | C95: TiO2 40
A96: 0 | B96: 4.2 | C96: 2.3
A97: 10 | B97: 16.2 | C97: 18.6
A98: 20 | B98: 28.7 | C98: 29.2
A99: 30 | B99: 41.2 | C99: 50.8
A100: 40 | B100: 40.6 | C100: 48.2
A101: 50 | B101: 41.3 | C101: 48.9
A102: 60 | B102: 42.7 | C102: 51
A103: 70 | B103: 42.7 | C103: 52.4

Sheet comp SHMP & Dol
D1: CI SHMP
D2: 8.4
D3: 3.7
B4: T20 | C4: T40
A5: SHMP (1.00E-01 g/l) | B5: 62.97 | C5: 70.47
A6: Dolapix (50 µl) | B6: 41.3 | C6: 48.9
A7: CI SHMP | B7: 8.4 | C7: 3.7
A10: 0.1 g/l of SHMP corresponds to 1.6E-04
A11: 50 µl of Dolapix corresponds to 1.2E-04
A12: Hence, these two have similar values and can be compared

Sheet CB Dolapix
B1: dispersant conc | D1: weight before (g) | E1: weight after drying (g) | F1: sample retrieved (g) | G1: loss (g) | H1: aq (%) | I1: org (%) | J1: lost (%) | K1: total (%)
A3: CB 0 | B3: 0 | C3: aqueous | D3: 47.5164 | E3: 47.5191 | F3: =E3-D3 -> 0.0027 | G3: =0.1-(F3+F4) -> 0.0014 | H3: =(F3*100)/0.1 -> 2.7 | I3: =F4*100/0.1 -> 95.9 | J3: =G3*100/0.1 -> 1.4 | K3: =H3+I3+J3 -> 100
C4: organic | D4: 47.621 | E4: 47.7169 | F4: =E4-D4 -> 0.0959
B5: 10 | C5: aqueous | D5: 47.5594 | E5: 47.5631 | F5: =E5-D5 -> 0.0037 | G5: =0.1-(F5+F6) -> 0.0018 | H5: =(F5*100)/0.1 -> 3.7 | I5: =F6*100/0.1 -> 94.5 | J5: =G5*100/0.1 -> 1.8 | K5: =H5+I5+J5 -> 100
C6: organic | D6: 47.2106 | E6: 47.3051 | F6: =E6-D6 -> 0.0945
B7: 20 | C7: aqueous | D7: 46.9847 | E7: 46.9881 | F7: =E7-D7 -> 0.0034 | G7: =0.1-(F7+F8) -> 0.0023 | H7: =(F7*100)/0.1 -> 3.4 | I7: =F8*100/0.1 -> 94.3 | J7: =G7*100/0.1 -> 2.3 | K7: =H7+I7+J7 -> 100
C8: organic | D8: 47.5801 | E8: 47.6744 | F8: =E8-D8 -> 0.0943
B9: 30 | C9: aqueous | D9: 45.2098 | E9: 45.2133 | F9: =E9-D9 -> 0.0035 | G9: =0.1-(F9+F10) -> 0.0031 | H9: =(F9*100)/0.1 -> 3.5 | I9: =F10*100/0.1 -> 93.4 | J9: =G9*100/0.1 -> 3.1 | K9: =H9+I9+J9 -> 100
C10: organic | D10: 46.1098 | E10: 46.2032 | F10: =E10-D10 -> 0.0934
A11: CB 20 | B11: 0 | C11: aqueous | D11: 35.3354 | E11: 35.3389 | F11: =E11-D11 -> 0.0035 | G11: =0.1-(F11+F12) -> 0.0025 | H11: =(F11*100)/0.1 -> 3.5 | I11: =F12*100/0.1 -> 94 | J11: =G11*100/0.1 -> 2.5 | K11: =H11+I11+J11 -> 100
C12: organic | D12: 37.8214 | E12: 37.9154 | F12: =E12-D12 -> 0.094
B13: 10 | C13: aqueous | D13: 42.0981 | E13: 42.1024 | F13: =E13-D13 -> 0.0043 | G13: =0.1-(F13+F14) -> 0.0019 | H13: =(F13*100)/0.1 -> 4.3 | I13: =F14*100/0.1 -> 93.8 | J13: =G13*100/0.1 -> 1.9 | K13: =H13+I13+J13 -> 100
C14: organic | D14: 43.5581 | E14: 43.6519 | F14: =E14-D14 -> 0.0938
B15: 20 | C15: aqueous | D15: 49.5102 | E15: 49.5146 | F15: =E15-D15 -> 0.0044 | G15: =0.1-(F15+F16) -> 0.002 | H15: =(F15*100)/0.1 -> 4.4 | I15: =F16*100/0.1 -> 93.6 | J15: =G15*100/0.1 -> 2 | K15: =H15+I15+J15 -> 100
C16: organic | D16: 48.7845 | E16: 48.8781 | F16: =E16-D16 -> 0.0936
B17: 30 | C17: aqueous | D17: 42.9817 | E17: 42.9861 | F17: =E17-D17 -> 0.0044 | G17: =0.1-(F17+F18) -> 0.003 | H17: =(F17*100)/0.1 -> 4.4 | I17: =F18*100/0.1 -> 92.6 | J17: =G17*100/0.1 -> 3 | K17: =H17+I17+J17 -> 100
C18: organic | D18: 48.5647 | E18: 48.6573 | F18: =E18-D18 -> 0.0926
A19: CB 40 | B19: C0 | C19: aqueous | D19: 46.3874 | E19: 46.2254 | F19: =E19-D19 -> -0.162 | G19: =0.1-(F19+F20) -> -1.4938 | H19: =(F19*100)/0.1 -> -162 | I19: =F20*100/0.1 -> 1755.8 | J19: =G19*100/0.1 -> -1493.8 | K19: =H19+I19+J19 -> 100
C20: organic | D20: 45.2798 | E20: 47.0356 | F20: =E20-D20 -> 1.7558
B21: C0,01 | C21: aqueous | D21: 35.6581 | E21: 42.0704 | F21: =E21-D21 -> 6.4123 | G21: =0.1-(F21+F22) -> -12.4111 | H21: =(F21*100)/0.1 -> 6412.3 | I21: =F22*100/0.1 -> 6098.8 | J21: =G21*100/0.1 -> -12411.1 | K21: =H21+I21+J21 -> 100
C22: organic | D22: 36.6447 | E22: 42.7435 | F22: =E22-D22 -> 6.0988
B23: C1 | C23: aqueous | D23: 34.2091 | E23: 47.5743 | F23: =E23-D23 -> 13.3652 | G23: =0.1-(F23+F24) -> -25.2577 | H23: =(F23*100)/0.1 -> 13365.2 | I23: =F24*100/0.1 -> 11992.5 | J23: =G23*100/0.1 -> -25257.7 | K23: =H23+I23+J23 -> 100
C24: organic | D24: 35.0083 | E24: 47.0008 | F24: =E24-D24 -> 11.9925
B25: C100 | C25: aqueous | D25: 45.8461 | E25: 47.5693 | F25: =E25-D25 -> 1.7232 | G25: =0.1-(F25+F26) -> -2.5017 | H25: =(F25*100)/0.1 -> 1723.2 | I25: =F26*100/0.1 -> 878.5 | J25: =G25*100/0.1 -> -2501.7 | K25: =H25+I25+J25 -> 100
C26: organic | D26: 46.0284 | E26: 46.9069 | F26: =E26-D26 -> 0.8785

Sheet exp act binary
A2: C0T0
B3: C0 aq | C3: T0 aq | D3: C0T0 expected | E3: CI | F3: C0T0 actual | G3: CI
A5: 0 | B5: 2.2 | C5: 90.366667 | D5: =AVERAGE(B5,C5) -> 46.283333 | E5: 3.5467035 | F5: 43.886667 | G5: 2.5259256
A7: 1e-05 | B7: 4.0333333 | C7: 91.2 | D7: =AVERAGE(B7,C7) -> 47.616667 | E7: 2.722919 | F7: 45.76 | G7: 2.9205973
A9: 0.001 | B9: 5.2666667 | C9: 93.5 | D9: =AVERAGE(B9,C9) -> 49.383333 | E9: 2.2030028 | F9: 47.66 | G9: 1.0491646
A11: 0.1 | B11: 4.7 | C11: 94.766667 | D11: =AVERAGE(B11,C11) -> 49.733333 | E11: 1.6175773 | F11: 49.573333 | G11: 2.5386687
A14: C20T20
B15: C20 aq | C15: T20 aq | D15: C20T20 expected | E15: CI | F15: C20T20 actual | G15: CI
A17: C0 | B17: 2.9333333 | C17: 2.5 | D17: =AVERAGE(B17,C17) -> 2.7166667 | E17: 2.4895344 | F17: 4.06 | G17: 2.0880517
A19: C0.01 | B19: 4.3 | C19: 10.6 | D19: =AVERAGE(B19,C19) -> 7.45 | E19: 5.1522283 | F19: 6.18 | G19: 2.6871307
A21: C1 | B21: 5.1333333 | C21: 59 | D21: =AVERAGE(B21,C21) -> 32.066667 | E21: 8.5935067 | F21: 30.353333 | G21: 4.9431564
A23: C100 | B23: 5.5666667 | C23: 62.966667 | D23: =AVERAGE(B23,C23) -> 34.266667 | E23: 8.395524 | F23: 36.386667 | G23: 3.2138688
A27: C20T40
B28: C20 aq | C28: T40 aq | D28: C20T40 expected | E28: CI | F28: C20T40 actual | G28: CI
A30: C0 | B30: 2.9333333 | C30: 3.4 | D30: =AVERAGE(B30,C30) -> 3.1666667 | E30: 1.3905414 | F30: 3.6533333 | G30: 0.75073657
A32: C0.01 | B32: 4.3 | C32: 14.066667 | D32: =AVERAGE(B32,C32) -> 9.1833333 | E32: 4.3080386 | F32: 14.506667 | G32: 1.4181397
A34: C1 | B34: 5.1333333 | C34: 69.166667 | D34: =AVERAGE(B34,C34) -> 37.15 | E34: 3.233175 | F34: 36.246667 | G34: 5.2507193
A36: C100 | B36: 5.5666667 | C36: 70.466667 | D36: =AVERAGE(B36,C36) -> 38.016667 | E36: 3.7021582 | F36: 40.686667 | G36: 0.53573333
A40: C40T20
B41: C40 aq | C41: T20 aq | D41: C40T20 expected | E41: CI | F41: C40T20 actual | G41: CI
A43: C0 | B43: 3.8666667 | C43: 2.5 | D43: =AVERAGE(B43,C43) -> 3.1833333 | E43: 2.4895344 | F43: 3.2933333 | G43: 0.8789701
A45: C0.01 | B45: 5.1 | C45: 10.6 | D45: =AVERAGE(B45,C45) -> 7.85 | E45: 5.1522283 | F45: 8.1266667 | G45: 2.3520363
A47: C1 | B47: 4.9333333 | C47: 59 | D47: =AVERAGE(B47,C47) -> 31.966667 | E47: 8.5935067 | F47: 29.42 | G47: 5.3562656
A49: C100 | B49: 6.0333333 | C49: 62.966667 | D49: =AVERAGE(B49,C49) -> 34.5 | E49: 8.395524 | F49: 37.08 | G49: 2.1861982
A53: C40T40
B54: C40 aq | C54: T40 aq | D54: C40T40 expected | E54: CI | F54: C40T40 actual | G54: CI
A56: C0 | B56: 3.8666667 | C56: 3.4 | D56: =AVERAGE(B56,C56) -> 3.6333333 | E56: 1.3905414 | F56: 3.9666667 | G56: 1.4323356
A58: C0.01 | B58: 5.1 | C58: 14.066667 | D58: =AVERAGE(B58,C58) -> 9.5833333 | E58: 4.3080386 | F58: 8.1133333 | G58: 0.48346667
A60: C1 | B60: 4.9333333 | C60: 69.166667 | D60: =AVERAGE(B60,C60) -> 37.05 | E60: 3.233175 | F60: 36.773333 | G60: 2.5574641
A62: C100 | B62: 6.0333333 | C62: 70.466667 | D62: =AVERAGE(B62,C62) -> 38.25 | E62: 3.7021582 | F62: 40.3 | G62: 1.1630801

Sheet Sheet3
B1: calculated | C1: actual
A2: C0T0 | B2: ='exp act binary'!$D$5 -> 46.283333 | C2: ='exp act binary'!$F$5 -> 43.886667
B3: ='exp act binary'!$D$7 -> 47.616667 | C3: ='exp act binary'!$F$7 -> 45.76
B4: ='exp act binary'!$D$9 -> 49.383333 | C4: ='exp act binary'!$F$9 -> 47.66
B5: ='exp act binary'!$D$11 -> 49.733333 | C5: ='exp act binary'!$F$11 -> 49.573333
A6: C20T20 | B6: ='exp act binary'!$D$17 -> 2.7166667 | C6: ='exp act binary'!$F$17 -> 4.06
B7: ='exp act binary'!$D$19 -> 7.45 | C7: ='exp act binary'!$F$19 -> 6.18
B8: ='exp act binary'!$D$21 -> 32.066667 | C8: ='exp act binary'!$F$21 -> 30.353333
B9: ='exp act binary'!$D$23 -> 34.266667 | C9: ='exp act binary'!$F$23 -> 36.386667
A10: C20T40 | B10: ='exp act binary'!$D$30 -> 3.1666667 | C10: ='exp act binary'!$F$30 -> 3.6533333
B11: ='exp act binary'!$D$32 -> 9.1833333 | C11: ='exp act binary'!$F$32 -> 14.506667
B12: ='exp act binary'!$D$34 -> 37.15 | C12: ='exp act binary'!$F$34 -> 36.246667
B13: ='exp act binary'!$D$36 -> 38.016667 | C13: ='exp act binary'!$F$36 -> 40.686667
A14: C40T20 | B14: ='exp act binary'!$D$43 -> 3.1833333 | C14: ='exp act binary'!$F$43 -> 3.2933333
B15: ='exp act binary'!$D$45 -> 7.85 | C15: ='exp act binary'!$F$45 -> 8.1266667
B16: ='exp act binary'!$D$47 -> 31.966667 | C16: ='exp act binary'!$F$47 -> 29.42
B17: ='exp act binary'!$D$49 -> 34.5 | C17: ='exp act binary'!$F$49 -> 37.08
A18: C40T40 | B18: ='exp act binary'!$D$56 -> 3.6333333 | C18: ='exp act binary'!$F$56 -> 3.9666667
B19: ='exp act binary'!$D$58 -> 9.5833333 | C19: ='exp act binary'!$F$58 -> 8.1133333
B20: ='exp act binary'!$D$60 -> 37.05 | C20: ='exp act binary'!$F$60 -> 36.773333
B21: ='exp act binary'!$D$62 -> 38.25 | C21: ='exp act binary'!$F$62 -> 40.3

Sheet Sheet2
A1: C0 | B1: expected | C1: actual | D1: CI exp | E1: CI actual
A2: C0T0 | B2: 46.283333 | C2: 43.886667 | D2: 3.5467035 | E2: 2.5259256
A3: C20T20 | B3: 2.7166667 | C3: 4.06 | D3: 2.4895344 | E3: 2.0880517
A4: C20T40 | B4: 3.1666667 | C4: 3.6533333 | D4: 1.3905414 | E4: 0.75073657
A5: C40T20 | B5: 3.1833333 | C5: 3.2933333 | D5: 2.4895344 | E5: 0.8789701
A6: C40T40 | B6: 3.6333333 | C6: 3.9666667 | D6: 1.3905414 | E6: 1.4323356
A8: C0.01 | B8: expected | C8: actual | D8: CI exp | E8: CI actual
A9: C0T0 | B9: 47.616667 | C9: 45.76 | D9: 2.722919 | E9: 2.9205973
A10: C20T20 | B10: 7.45 | C10: 6.18 | D10: 5.1522283 | E10: 2.6871307
A11: C20T40 | B11: 9.1833333 | C11: 14.506667 | D11: 4.3080386 | E11: 1.4181397
A12: C40T20 | B12: 7.85 | C12: 8.1266667 | D12: 5.1522283 | E12: 2.3520363
A13: C40T40 | B13: 9.5833333 | C13: 8.1133333 | D13: 4.3080386 | E13: 0.48346667
A15: C1 | B15: expected | C15: actual | D15: CI exp | E15: CI actual
A16: C0T0 | B16: 49.383333 | C16: 47.66 | D16: 2.2030028 | E16: 1.0491646
A17: C20T20 | B17: 32.066667 | C17: 30.353333 | D17: 8.5935067 | E17: 4.9431564
A18: C20T40 | B18: 37.15 | C18: 36.246667 | D18: 3.233175 | E18: 5.2507193
A19: C40T20 | B19: 31.966667 | C19: 29.42 | D19: 8.5935067 | E19: 5.3562656
A20: C40T40 | B20: 37.05 | C20: 36.773333 | D20: 3.233175 | E20: 2.5574641
A22: C100 | B22: expected | C22: actual | D22: CI exp | E22: CI actual
A23: C0T0 | B23: 49.733333 | C23: 49.573333 | D23: 1.6175773 | E23: 2.5386687
A24: C20T20 | B24: 34.266667 | C24: 36.386667 | D24: 8.395524 | E24: 3.2138688
A25: C20T40 | B25: 38.016667 | C25: 40.686667 | D25: 3.7021582 | E25: 0.53573333
A26: C40T20 | B26: 34.5 | C26: 37.08 | D26: 8.395524 | E26: 2.1861982
A27: C40T40 | B27: 38.25 | C27: 40.3 | D27: 3.7021582 | E27: 1.1630801
