Workbook

Sheet TiO2 0
A1: Sample preparation | B1: 200 mg sample + 200 ml DI water + HB (0, 300 mg, 600 mg, 1 g) + MIDC (50 µL during sample preparation, 50 µL every 2 mins while running), Flotation process for 10 mins, solution collected in filter paper and filtered
B2: Filter paper weighed before filtering the sample and after drying
B3: T: tail, C: concentrate (what is collected in small beaker)
B5: HB0 : 0 mg | C5: HB1: 300 mg | D5: HB2: 600 mg | E5: HB3: 1 g
B9: Sample | C9: HB content | E9: weight before (g) | F9: weight after drying (g) | G9: sample retrieved (g) | H9: loss (g) | I9: sample in tail (%) | J9: sample in conc (%) | K9: sample lost (%) | L9: total (%) | M9: Remarks
B11: TiO2 0 | C11: HB0 | D11: C | E11: 2.3034 | F11: 2.3082 | G11: =F11-E11 -> 0.0048 | H11: =0.2-(G11+G12) -> 0.0178 | I11: =(G12*100)/0.2 -> 88.7 | J11: =G11*100/0.2 -> 2.4 | K11: =H11*100/0.2 -> 8.9 | L11: =I11+J11+K11 -> 100
D12: T | E12: 2.2619 | F12: 2.4393 | G12: =F12-E12 -> 0.1774
C13: HB1 | D13: C | E13: 2.2081 | F13: 2.2282 | G13: =F13-E13 -> 0.0201 | H13: =0.2-(G13+G14) -> 0.0158 | I13: =(G14*100)/0.2 -> 82.05 | J13: =G13*100/0.2 -> 10.05 | K13: =H13*100/0.2 -> 7.9 | L13: =I13+J13+K13 -> 100 | M13: HB speeded up the process and so more recovery
D14: T | E14: 2.3313 | F14: 2.4954 | G14: =F14-E14 -> 0.1641
C15: HB2 | D15: C | E15: 2.1987 | F15: 2.2254 | G15: =F15-E15 -> 0.0267 | H15: =0.2-(G15+G16) -> 0.0104 | I15: =(G16*100)/0.2 -> 81.45 | J15: =G15*100/0.2 -> 13.35 | K15: =H15*100/0.2 -> 5.2 | L15: =I15+J15+K15 -> 100 | M15: High conc of HB caused agglomeration of particles and hence more conc
D16: T | E16: 2.2206 | F16: 2.3835 | G16: =F16-E16 -> 0.1629
C17: HB3 | D17: C | E17: 2.1771 | F17: 2.1905 | G17: =F17-E17 -> 0.0134 | H17: =0.2-(G17+G18) -> 0.0232 | I17: =(G18*100)/0.2 -> 81.7 | J17: =G17*100/0.2 -> 6.7 | K17: =H17*100/0.2 -> 11.6 | L17: =I17+J17+K17 -> 100 | M17: High conc of HB caused sticking of particles on agitator and elsewhere
D18: T | E18: 2.29 | F18: 2.4534 | G18: =F18-E18 -> 0.1634 | M18: large lumps in flotation cell. so more losses
B19: TiO2 20 | C19: HB0 | D19: C | E19: 2.35 | F19: 2.4148 | G19: =F19-E19 -> 0.0648 | H19: =0.2-(G19+G20) -> 0.0151 | I19: =(G20*100)/0.2 -> 60.05 | J19: =G19*100/0.2 -> 32.4 | K19: =H19*100/0.2 -> 7.55 | L19: =I19+J19+K19 -> 100
D20: T | E20: 2.2373 | F20: 2.3574 | G20: =F20-E20 -> 0.1201
C21: HB1 | D21: C | E21: 2.1988 | F21: 2.2727 | G21: =F21-E21 -> 0.0739 | H21: =0.2-(G21+G22) -> 0.0101 | I21: =(G22*100)/0.2 -> 58 | J21: =G21*100/0.2 -> 36.95 | K21: =H21*100/0.2 -> 5.05 | L21: =I21+J21+K21 -> 100
D22: T | E22: 2.2048 | F22: 2.3208 | G22: =F22-E22 -> 0.116
C23: HB2 | D23: C | E23: 2.1994 | F23: 2.2811 | G23: =F23-E23 -> 0.0817 | H23: =0.2-(G23+G24) -> 0.0168 | I23: =(G24*100)/0.2 -> 50.75 | J23: =G23*100/0.2 -> 40.85 | K23: =H23*100/0.2 -> 8.4 | L23: =I23+J23+K23 -> 100
D24: T | E24: 2.216 | F24: 2.3175 | G24: =F24-E24 -> 0.1015
C25: HB3 | D25: C | E25: 2.1819 | F25: 2.2398 | G25: =F25-E25 -> 0.0579 | H25: =0.2-(G25+G26) -> 0.0098 | I25: =(G26*100)/0.2 -> 66.15 | J25: =G25*100/0.2 -> 28.95 | K25: =H25*100/0.2 -> 4.9 | L25: =I25+J25+K25 -> 100 | M25: large lumps observed inside the cell
D26: T | E26: 2.258 | F26: 2.3903 | G26: =F26-E26 -> 0.1323
B27: TiO2 40 | C27: HB0 | D27: C | E27: 2.2461 | F27: 2.3312 | G27: =F27-E27 -> 0.0851 | H27: =0.2-(G27+G28) -> 0.0063 | I27: =(G28*100)/0.2 -> 54.3 | J27: =G27*100/0.2 -> 42.55 | K27: =H27*100/0.2 -> 3.15 | L27: =I27+J27+K27 -> 100
D28: T | E28: 2.1967 | F28: 2.3053 | G28: =F28-E28 -> 0.1086
C29: HB1 | D29: C | E29: 2.2234 | F29: 2.3135 | G29: =F29-E29 -> 0.0901 | H29: =0.2-(G29+G30) -> 0.0079 | I29: =(G30*100)/0.2 -> 51 | J29: =G29*100/0.2 -> 45.05 | K29: =H29*100/0.2 -> 3.95 | L29: =I29+J29+K29 -> 100
D30: T | E30: 2.349 | F30: 2.451 | G30: =F30-E30 -> 0.102
C31: HB2 | D31: C | E31: 2.2396 | F31: 2.3397 | G31: =F31-E31 -> 0.1001 | H31: =0.2-(G31+G32) -> 0.0095 | I31: =(G32*100)/0.2 -> 45.2 | J31: =G31*100/0.2 -> 50.05 | K31: =H31*100/0.2 -> 4.75 | L31: =I31+J31+K31 -> 100
D32: T | E32: 2.2144 | F32: 2.3048 | G32: =F32-E32 -> 0.0904
C33: HB3 | D33: C | E33: 2.3047 | F33: 2.3842 | G33: =F33-E33 -> 0.0795 | H33: =0.2-(G33+G34) -> 0.0192 | I33: =(G34*100)/0.2 -> 50.65 | J33: =G33*100/0.2 -> 39.75 | K33: =H33*100/0.2 -> 9.6 | L33: =I33+J33+K33 -> 100
D34: T | E34: 2.1992 | F34: 2.3005 | G34: =F34-E34 -> 0.1013
B37: addition of HB speeded up the process. So more recovery with HB
B38: The concentrate was collected within the intial minutes of the flotation process.
B39: In contrary to this, in the expts without HB, it was seen that the concentrate was getting collected almost till the end.
B40: The more the HB amt, the more agglomeration os observed
B42: In general, flotation separation relies on the attachment of properly prepared mineral surfaces to air bubbles in water.
B43: Surfaces which are easily wetted by water, such as ordinary ground rock, are not attracted to bubbles and thus sink.
B44: Elemental sulfur, graphite (and other forms of elemental carbon, such as the pigment in printers’ inks), and talc (minerals with layer lattice type structures)
B45: have hydrophobic surfaces, which are attracted to the surface of an air bubble and, if small enough, may be lifted to the surface of the water and separated from the water as a froth layer.

Sheet TiO2 1
B2: HB content | D2: weight before (g) | E2: weight after drying (g) | F2: sample retrieved (g) | G2: loss (g) | H2: sample in tail (%) | I2: sample in conc (%) | J2: sample lost (%) | K2: total (%)
A4: TiO2 0 | B4: HB0 | C4: C | D4: 2.2784 | E4: 2.3042 | F4: =E4-D4 -> 0.0258 | G4: =0.5-(F4+F5) -> 0.0178 | H4: =(F5*100)/0.5 -> 91.28 | I4: =F4*100/0.5 -> 5.16 | J4: =G4*100/0.5 -> 3.56 | K4: =H4+I4+J4 -> 100
C5: T | D5: 2.2645 | E5: 2.7209 | F5: =E5-D5 -> 0.4564
B6: HB1 | C6: C | D6: 2.2514 | E6: 2.3009 | F6: =E6-D6 -> 0.0495 | G6: =0.5-(F6+F7) -> 0.0151 | H6: =(F7*100)/0.5 -> 87.08 | I6: =F6*100/0.5 -> 9.9 | J6: =G6*100/0.5 -> 3.02 | K6: =H6+I6+J6 -> 100
C7: T | D7: 2.2361 | E7: 2.6715 | F7: =E7-D7 -> 0.4354
B8: HB2 | C8: C | D8: 2.2981 | E8: 2.3577 | F8: =E8-D8 -> 0.0596 | G8: =0.5-(F8+F9) -> 0.0214 | H8: =(F9*100)/0.5 -> 83.8 | I8: =F8*100/0.5 -> 11.92 | J8: =G8*100/0.5 -> 4.28 | K8: =H8+I8+J8 -> 100
C9: T | D9: 2.2544 | E9: 2.6734 | F9: =E9-D9 -> 0.419
B10: HB3 | C10: C | D10: 2.2365 | E10: 2.3067 | F10: =E10-D10 -> 0.0702 | G10: =0.5-(F10+F11) -> 0.026 | H10: =(F11*100)/0.5 -> 80.76 | I10: =F10*100/0.5 -> 14.04 | J10: =G10*100/0.5 -> 5.2 | K10: =H10+I10+J10 -> 100
C11: T | D11: 2.2154 | E11: 2.6192 | F11: =E11-D11 -> 0.4038
A12: TiO2 20 | B12: HB0 | C12: C | D12: 2.2106 | E12: 2.2554 | F12: =E12-D12 -> 0.0448 | G12: =0.5-(F12+F13) -> 0.0253 | H12: =(F13*100)/0.5 -> 85.98 | I12: =F12*100/0.5 -> 8.96 | J12: =G12*100/0.5 -> 5.06 | K12: =H12+I12+J12 -> 100
C13: T | D13: 2.2414 | E13: 2.6713 | F13: =E13-D13 -> 0.4299
B14: HB1 | C14: C | D14: 2.2511 | E14: 2.3891 | F14: =E14-D14 -> 0.138 | G14: =0.5-(F14+F15) -> 0.0231 | H14: =(F15*100)/0.5 -> 67.78 | I14: =F14*100/0.5 -> 27.6 | J14: =G14*100/0.5 -> 4.62 | K14: =H14+I14+J14 -> 100
C15: T | D15: 2.2354 | E15: 2.5743 | F15: =E15-D15 -> 0.3389
B16: HB2 | C16: C | D16: 2.3598 | E16: 2.5932 | F16: =E16-D16 -> 0.2334 | G16: =0.5-(F16+F17) -> 0.0215 | H16: =(F17*100)/0.5 -> 49.02 | I16: =F16*100/0.5 -> 46.68 | J16: =G16*100/0.5 -> 4.3 | K16: =H16+I16+J16 -> 100
C17: T | D17: 2.1456 | E17: 2.3907 | F17: =E17-D17 -> 0.2451
B18: HB3 | C18: C | D18: 2.2542 | E18: 2.5088 | F18: =E18-D18 -> 0.2546 | G18: =0.5-(F18+F19) -> 0.0196 | H18: =(F19*100)/0.5 -> 45.16 | I18: =F18*100/0.5 -> 50.92 | J18: =G18*100/0.5 -> 3.92 | K18: =H18+I18+J18 -> 100
C19: T | D19: 2.2985 | E19: 2.5243 | F19: =E19-D19 -> 0.2258
A20: TiO2 40 | B20: HB0 | C20: C | D20: 2.2422 | E20: 2.3212 | F20: =E20-D20 -> 0.079 | G20: =0.5-(F20+F21) -> 0.0213 | H20: =(F21*100)/0.5 -> 79.94 | I20: =F20*100/0.5 -> 15.8 | J20: =G20*100/0.5 -> 4.26 | K20: =H20+I20+J20 -> 100
C21: T | D21: 2.2256 | E21: 2.6253 | F21: =E21-D21 -> 0.3997
B22: HB1 | C22: C | D22: 2.2654 | E22: 2.4605 | F22: =E22-D22 -> 0.1951 | G22: =0.5-(F22+F23) -> 0.0244 | H22: =(F23*100)/0.5 -> 56.1 | I22: =F22*100/0.5 -> 39.02 | J22: =G22*100/0.5 -> 4.88 | K22: =H22+I22+J22 -> 100
C23: T | D23: 2.2946 | E23: 2.5751 | F23: =E23-D23 -> 0.2805
B24: HB2 | C24: C | D24: 2.2351 | E24: 2.4797 | F24: =E24-D24 -> 0.2446 | G24: =0.5-(F24+F25) -> 0.0221 | H24: =(F25*100)/0.5 -> 46.66 | I24: =F24*100/0.5 -> 48.92 | J24: =G24*100/0.5 -> 4.42 | K24: =H24+I24+J24 -> 100
C25: T | D25: 2.2335 | E25: 2.4668 | F25: =E25-D25 -> 0.2333
B26: HB3 | C26: C | D26: 2.2645 | E26: 2.5274 | F26: =E26-D26 -> 0.2629 | G26: =0.5-(F26+F27) -> 0.0262 | H26: =(F27*100)/0.5 -> 42.18 | I26: =F26*100/0.5 -> 52.58 | J26: =G26*100/0.5 -> 5.24 | K26: =H26+I26+J26 -> 100
C27: T | D27: 2.2648 | E27: 2.4757 | F27: =E27-D27 -> 0.2109

Sheet TiO2 2
B4: HB content | D4: weight before (g) | E4: weight after drying (g) | F4: sample retrieved (g) | G4: loss (g) | H4: sample in tail (%) | I4: sample in conc (%) | J4: sample lost (%) | K4: total (%)
A6: TiO2 0 | B6: HB0 | C6: C | D6: 2.3162 | E6: 2.3362 | F6: =E6-D6 -> 0.02 | G6: =0.5-(F6+F7) -> 0.032 | H6: =(F7*100)/0.5 -> 89.6 | I6: =F6*100/0.5 -> 4 | J6: =G6*100/0.5 -> 6.4 | K6: =H6+I6+J6 -> 100 | S6: =D6+Q6 -> 2.3162
C7: T | D7: 2.2409 | E7: 2.6889 | F7: =E7-D7 -> 0.448 | S7: =D7+Q7 -> 2.2409
B8: HB1 | C8: C | D8: 2.2414 | E8: 2.2759 | F8: =E8-D8 -> 0.0345 | G8: =0.5-(F8+F9) -> 0.0205 | H8: =(F9*100)/0.5 -> 89 | I8: =F8*100/0.5 -> 6.9 | J8: =G8*100/0.5 -> 4.1 | K8: =H8+I8+J8 -> 100 | S8: =D8+Q8 -> 2.2414
C9: T | D9: 2.3024 | E9: 2.7474 | F9: =E9-D9 -> 0.445 | S9: =D9+Q9 -> 2.3024
B10: HB2 | C10: C | D10: 2.2389 | E10: 2.2877 | F10: =E10-D10 -> 0.0488 | G10: =0.5-(F10+F11) -> 0.0467 | H10: =(F11*100)/0.5 -> 80.9 | I10: =F10*100/0.5 -> 9.76 | J10: =G10*100/0.5 -> 9.34 | K10: =H10+I10+J10 -> 100 | S10: =D10+Q10 -> 2.2389
C11: T | D11: 2.2889 | E11: 2.6934 | F11: =E11-D11 -> 0.4045 | S11: =D11+Q11 -> 2.2889
B12: HB3 | C12: C | D12: 2.2577 | E12: 2.3107 | F12: =E12-D12 -> 0.053 | G12: =0.5-(F12+F13) -> 0.0507 | H12: =(F13*100)/0.5 -> 79.26 | I12: =F12*100/0.5 -> 10.6 | J12: =G12*100/0.5 -> 10.14 | K12: =H12+I12+J12 -> 100 | S12: =D12+Q12 -> 2.2577
C13: T | D13: 2.2329 | E13: 2.6292 | F13: =E13-D13 -> 0.3963 | S13: =D13+Q13 -> 2.2329
A14: TiO2 20 | B14: HB0 | C14: C | D14: 2.3511 | E14: 2.3754 | F14: =E14-D14 -> 0.0243 | G14: =0.5-(F14+F15) -> 0.0417 | H14: =(F15*100)/0.5 -> 86.8 | I14: =F14*100/0.5 -> 4.86 | J14: =G14*100/0.5 -> 8.34 | K14: =H14+I14+J14 -> 100
C15: T | D15: 2.2373 | E15: 2.6713 | F15: =E15-D15 -> 0.434
B16: HB1 | C16: C | D16: 2.1988 | E16: 2.3035 | F16: =E16-D16 -> 0.1047 | G16: =0.5-(F16+F17) -> 0.0457 | H16: =(F17*100)/0.5 -> 69.92 | I16: =F16*100/0.5 -> 20.94 | J16: =G16*100/0.5 -> 9.14 | K16: =H16+I16+J16 -> 100
C17: T | D17: 2.2048 | E17: 2.5544 | F17: =E17-D17 -> 0.3496
B18: HB2 | C18: C | D18: 2.1994 | E18: 2.4128 | F18: =E18-D18 -> 0.2134 | G18: =0.5-(F18+F19) -> 0.0491 | H18: =(F19*100)/0.5 -> 47.5 | I18: =F18*100/0.5 -> 42.68 | J18: =G18*100/0.5 -> 9.82 | K18: =H18+I18+J18 -> 100
C19: T | D19: 2.216 | E19: 2.4535 | F19: =E19-D19 -> 0.2375
B20: HB3 | C20: C | D20: 2.1819 | E20: 2.4108 | F20: =E20-D20 -> 0.2289 | G20: =0.5-(F20+F21) -> 0.0448 | H20: =(F21*100)/0.5 -> 45.26 | I20: =F20*100/0.5 -> 45.78 | J20: =G20*100/0.5 -> 8.96 | K20: =H20+I20+J20 -> 100
C21: T | D21: 2.258 | E21: 2.4843 | F21: =E21-D21 -> 0.2263
A22: TiO2 40 | B22: HB0 | C22: C | D22: 2.2461 | E22: 2.2512 | F22: =E22-D22 -> 0.0051 | G22: =0.5-(F22+F23) -> 0.0475 | H22: =(F23*100)/0.5 -> 89.48 | I22: =F22*100/0.5 -> 1.02 | J22: =G22*100/0.5 -> 9.5 | K22: =H22+I22+J22 -> 100 | L22: 2.2412
C23: T | D23: 2.1967 | E23: 2.6441 | F23: =E23-D23 -> 0.4474
B24: HB1 | C24: C | D24: 2.2234 | E24: 2.3935 | F24: =E24-D24 -> 0.1701 | G24: =0.5-(F24+F25) -> 0.0268 | H24: =(F25*100)/0.5 -> 60.62 | I24: =F24*100/0.5 -> 34.02 | J24: =G24*100/0.5 -> 5.36 | K24: =H24+I24+J24 -> 100
C25: T | D25: 2.349 | E25: 2.6521 | F25: =E25-D25 -> 0.3031
B26: HB2 | C26: C | D26: 2.2396 | E26: 2.4717 | F26: =E26-D26 -> 0.2321 | G26: =0.5-(F26+F27) -> 0.0275 | H26: =(F27*100)/0.5 -> 48.08 | I26: =F26*100/0.5 -> 46.42 | J26: =G26*100/0.5 -> 5.5 | K26: =H26+I26+J26 -> 100
C27: T | D27: 2.2144 | E27: 2.4548 | F27: =E27-D27 -> 0.2404
B28: HB3 | C28: C | D28: 2.3047 | E28: 2.5582 | F28: =E28-D28 -> 0.2535 | G28: =0.5-(F28+F29) -> 0.0352 | H28: =(F29*100)/0.5 -> 42.26 | I28: =F28*100/0.5 -> 50.7 | J28: =G28*100/0.5 -> 7.04 | K28: =H28+I28+J28 -> 100
C29: T | D29: 2.1992 | E29: 2.4105 | F29: =E29-D29 -> 0.2113

Sheet TiO2 3
B4: HB content | D4: weight before (g) | E4: weight after drying (g) | F4: sample retrieved (g) | G4: loss (g) | H4: sample in tail (%) | I4: sample in conc (%) | J4: sample lost (%) | K4: total (%)
A6: TiO2 0 | B6: HB0 | C6: C | D6: 2.2251 | E6: 2.2442 | F6: =E6-D6 -> 0.0191 | G6: =0.5-(F6+F7) -> 0.0214 | H6: =(F7*100)/0.5 -> 91.9 | I6: =F6*100/0.5 -> 3.82 | J6: =G6*100/0.5 -> 4.28 | K6: =H6+I6+J6 -> 100
C7: T | D7: 2.2614 | E7: 2.7209 | F7: =E7-D7 -> 0.4595
B8: HB1 | C8: C | D8: 2.2983 | E8: 2.3279 | F8: =E8-D8 -> 0.0296 | G8: =0.5-(F8+F9) -> 0.0456 | H8: =(F9*100)/0.5 -> 84.96 | I8: =F8*100/0.5 -> 5.92 | J8: =G8*100/0.5 -> 9.12 | K8: =H8+I8+J8 -> 100
C9: T | D9: 2.3126 | E9: 2.7374 | F9: =E9-D9 -> 0.4248
B10: HB2 | C10: C | D10: 2.2743 | E10: 2.3177 | F10: =E10-D10 -> 0.0434 | G10: =0.5-(F10+F11) -> 0.0213 | H10: =(F11*100)/0.5 -> 87.06 | I10: =F10*100/0.5 -> 8.68 | J10: =G10*100/0.5 -> 4.26 | K10: =H10+I10+J10 -> 100
C11: T | D11: 2.2581 | E11: 2.6934 | F11: =E11-D11 -> 0.4353
B12: HB3 | C12: C | D12: 2.2498 | E12: 2.3107 | F12: =E12-D12 -> 0.0609 | G12: =0.5-(F12+F13) -> 0.028 | H12: =(F13*100)/0.5 -> 82.22 | I12: =F12*100/0.5 -> 12.18 | J12: =G12*100/0.5 -> 5.6 | K12: =H12+I12+J12 -> 100
C13: T | D13: 2.2381 | E13: 2.6492 | F13: =E13-D13 -> 0.4111
A14: TiO2 20 | B14: HB0 | C14: C | D14: 2.2722 | E14: 2.3054 | F14: =E14-D14 -> 0.0332 | G14: =0.5-(F14+F15) -> 0.045 | H14: =(F15*100)/0.5 -> 84.36 | I14: =F14*100/0.5 -> 6.64 | J14: =G14*100/0.5 -> 9 | K14: =H14+I14+J14 -> 100
C15: T | D15: 2.2495 | E15: 2.6713 | F15: =E15-D15 -> 0.4218
B16: HB1 | C16: C | D16: 2.2762 | E16: 2.4091 | F16: =E16-D16 -> 0.1329 | G16: =0.5-(F16+F17) -> 0.047 | H16: =(F17*100)/0.5 -> 64.02 | I16: =F16*100/0.5 -> 26.58 | J16: =G16*100/0.5 -> 9.4 | K16: =H16+I16+J16 -> 100
C17: T | D17: 2.3042 | E17: 2.6243 | F17: =E17-D17 -> 0.3201
B18: HB2 | C18: C | D18: 2.3063 | E18: 2.5332 | F18: =E18-D18 -> 0.2269 | G18: =0.5-(F18+F19) -> 0.0217 | H18: =(F19*100)/0.5 -> 50.28 | I18: =F18*100/0.5 -> 45.38 | J18: =G18*100/0.5 -> 4.34 | K18: =H18+I18+J18 -> 100
C19: T | D19: 2.2763 | E19: 2.5277 | F19: =E19-D19 -> 0.2514
B20: HB3 | C20: C | D20: 2.2584 | E20: 2.5088 | F20: =E20-D20 -> 0.2504 | G20: =0.5-(F20+F21) -> 0.0268 | H20: =(F21*100)/0.5 -> 44.56 | I20: =F20*100/0.5 -> 50.08 | J20: =G20*100/0.5 -> 5.36 | K20: =H20+I20+J20 -> 100
C21: T | D21: 2.2615 | E21: 2.4843 | F21: =E21-D21 -> 0.2228
A22: TiO2 40 | B22: HB0 | C22: C | D22: 2.2958 | E22: 2.3212 | F22: =E22-D22 -> 0.0254 | G22: =0.5-(F22+F23) -> 0.0236 | H22: =(F23*100)/0.5 -> 90.2 | I22: =F22*100/0.5 -> 5.08 | J22: =G22*100/0.5 -> 4.72 | K22: =H22+I22+J22 -> 100
C23: T | D23: 2.2743 | E23: 2.7253 | F23: =E23-D23 -> 0.451
B24: HB1 | C24: C | D24: 2.2468 | E24: 2.4505 | F24: =E24-D24 -> 0.2037 | G24: =0.5-(F24+F25) -> 0.0403 | H24: =(F25*100)/0.5 -> 51.2 | I24: =F24*100/0.5 -> 40.74 | J24: =G24*100/0.5 -> 8.06 | K24: =H24+I24+J24 -> 100
C25: T | D25: 2.2591 | E25: 2.5151 | F25: =E25-D25 -> 0.256
B26: HB2 | C26: C | D26: 2.2166 | E26: 2.4697 | F26: =E26-D26 -> 0.2531 | G26: =0.5-(F26+F27) -> 0.0354 | H26: =(F27*100)/0.5 -> 42.3 | I26: =F26*100/0.5 -> 50.62 | J26: =G26*100/0.5 -> 7.08 | K26: =H26+I26+J26 -> 100
C27: T | D27: 2.2783 | E27: 2.4898 | F27: =E27-D27 -> 0.2115
B28: HB3 | C28: C | D28: 2.2554 | E28: 2.5194 | F28: =E28-D28 -> 0.264 | G28: =0.5-(F28+F29) -> 0.0157 | H28: =(F29*100)/0.5 -> 44.06 | I28: =F28*100/0.5 -> 52.8 | J28: =G28*100/0.5 -> 3.14 | K28: =H28+I28+J28 -> 100
C29: T | D29: 2.2954 | E29: 2.5157 | F29: =E29-D29 -> 0.2203

Sheet CB 1
B9: Sample | C9: HB content | E9: weight before (g) | F9: weight after drying (g) | G9: sample retrieved (g) | H9: loss (g) | I9: sample in tail (%) | J9: sample in conc (%) | K9: sample lost (%) | L9: total (%) | M9: Remarks
B11: CB 0 | C11: HB0 | D11: C | E11: 2.2138 | F11: 2.2323 | G11: =F11-E11 -> 0.0185 | H11: =0.2-(G11+G12) -> 0.0063 | I11: =(G12*100)/0.2 -> 87.6 | J11: =G11*100/0.2 -> 9.25 | K11: =H11*100/0.2 -> 3.15 | L11: =I11+J11+K11 -> 100
D12: T | E12: 2.2999 | F12: 2.4751 | G12: =F12-E12 -> 0.1752
C13: HB1 | D13: C | E13: 2.2375 | F13: 2.3402 | G13: =F13-E13 -> 0.1027 | H13: =0.2-(G13+G14) -> 0.0162 | I13: =(G14*100)/0.2 -> 40.55 | J13: =G13*100/0.2 -> 51.35 | K13: =H13*100/0.2 -> 8.1 | L13: =I13+J13+K13 -> 100
D14: T | E14: 2.2171 | F14: 2.2982 | G14: =F14-E14 -> 0.0811
C15: HB2 | D15: C | E15: 2.2468 | F15: 2.4012 | G15: =F15-E15 -> 0.1544 | H15: =0.2-(G15+G16) -> 0.0159 | I15: =(G16*100)/0.2 -> 14.85 | J15: =G15*100/0.2 -> 77.2 | K15: =H15*100/0.2 -> 7.95 | L15: =I15+J15+K15 -> 100
D16: T | E16: 2.2237 | F16: 2.2534 | G16: =F16-E16 -> 0.0297
C17: HB3 | D17: C | E17: 2.2611 | F17: 2.4374 | G17: =F17-E17 -> 0.1763 | H17: =0.2-(G17+G18) -> 0.0104 | I17: =(G18*100)/0.2 -> 6.65 | J17: =G17*100/0.2 -> 88.15 | K17: =H17*100/0.2 -> 5.2 | L17: =I17+J17+K17 -> 100
D18: T | E18: 2.2134 | F18: 2.2267 | G18: =F18-E18 -> 0.0133
B19: CB 20 | C19: HB0 | D19: C | E19: 2.2395 | F19: 2.2581 | G19: =F19-E19 -> 0.0186 | H19: =0.2-(G19+G20) -> 0.0108 | I19: =(G20*100)/0.2 -> 85.3 | J19: =G19*100/0.2 -> 9.3 | K19: =H19*100/0.2 -> 5.4 | L19: =I19+J19+K19 -> 100
D20: T | E20: 2.211 | F20: 2.3816 | G20: =F20-E20 -> 0.1706
C21: HB1 | D21: C | E21: 2.2358 | F21: 2.3372 | G21: =F21-E21 -> 0.1014 | H21: =0.2-(G21+G22) -> 0.0143 | I21: =(G22*100)/0.2 -> 42.15 | J21: =G21*100/0.2 -> 50.7 | K21: =H21*100/0.2 -> 7.15 | L21: =I21+J21+K21 -> 100
D22: T | E22: 2.2135 | F22: 2.2978 | G22: =F22-E22 -> 0.0843
C23: HB2 | D23: C | E23: 2.2373 | F23: 2.3801 | G23: =F23-E23 -> 0.1428 | H23: =0.2-(G23+G24) -> 0.0146 | I23: =(G24*100)/0.2 -> 21.3 | J23: =G23*100/0.2 -> 71.4 | K23: =H23*100/0.2 -> 7.3 | L23: =I23+J23+K23 -> 100
D24: T | E24: 2.3239 | F24: 2.3665 | G24: =F24-E24 -> 0.0426
C25: HB3 | D25: C | E25: 2.2612 | F25: 2.4201 | G25: =F25-E25 -> 0.1589 | H25: =0.2-(G25+G26) -> 0.0185 | I25: =(G26*100)/0.2 -> 11.3 | J25: =G25*100/0.2 -> 79.45 | K25: =H25*100/0.2 -> 9.25 | L25: =I25+J25+K25 -> 100
D26: T | E26: 2.2132 | F26: 2.2358 | G26: =F26-E26 -> 0.0226
B27: CB 40 | C27: HB0 | D27: C | E27: 2.3161 | F27: 2.3424 | G27: =F27-E27 -> 0.0263 | H27: =0.2-(G27+G28) -> 0.0116 | I27: =(G28*100)/0.2 -> 81.05 | J27: =G27*100/0.2 -> 13.15 | K27: =H27*100/0.2 -> 5.8 | L27: =I27+J27+K27 -> 100
D28: T | E28: 2.2843 | F28: 2.4464 | G28: =F28-E28 -> 0.1621
C29: HB1 | D29: C | E29: 2.2677 | F29: 2.3772 | G29: =F29-E29 -> 0.1095 | H29: =0.2-(G29+G30) -> 0.0168 | I29: =(G30*100)/0.2 -> 36.85 | J29: =G29*100/0.2 -> 54.75 | K29: =H29*100/0.2 -> 8.4 | L29: =I29+J29+K29 -> 100
D30: T | E30: 2.2954 | F30: 2.3691 | G30: =F30-E30 -> 0.0737
C31: HB2 | D31: C | E31: 2.2841 | F31: 2.4174 | G31: =F31-E31 -> 0.1333 | H31: =0.2-(G31+G32) -> 0.0168 | I31: =(G32*100)/0.2 -> 24.95 | J31: =G31*100/0.2 -> 66.65 | K31: =H31*100/0.2 -> 8.4 | L31: =I31+J31+K31 -> 100
D32: T | E32: 2.2652 | F32: 2.3151 | G32: =F32-E32 -> 0.0499
C33: HB3 | D33: C | E33: 2.2301 | F33: 2.4012 | G33: =F33-E33 -> 0.1711 | H33: =0.2-(G33+G34) -> 0.0157 | I33: =(G34*100)/0.2 -> 6.6 | J33: =G33*100/0.2 -> 85.55 | K33: =H33*100/0.2 -> 7.85 | L33: =I33+J33+K33 -> 100
D34: T | E34: 2.2579 | F34: 2.2711 | G34: =F34-E34 -> 0.0132

Sheet CB 2
B1: Sample: 500 mg with 200 ml DI water
B4: Sample | C4: HB content | E4: weight before (g) | F4: weight after drying (g) | G4: sample retrieved (g) | H4: loss (g) | I4: sample in tail (%) | J4: sample in conc (%) | K4: sample lost (%) | L4: total (%)
N5: tail % | O5: conc %
B6: CB 0 | C6: HB0 | D6: C | E6: 2.2892 | F6: 2.334 | G6: =F6-E6 -> 0.0448 | H6: =0.5-(G6+G7) -> 0.0167 | I6: =(G7*100)/0.5 -> 87.7 | J6: =G6*100/0.5 -> 8.96 | K6: =H6*100/0.5 -> 3.34 | L6: =I6+J6+K6 -> 100 | N6: 87.7 | O6: 8.95 | P6: =O6*0.5/100 -> 0.04475 | Q6: C | R6: =E6+P6 -> 2.33395
D7: T | E7: 2.2645 | F7: 2.703 | G7: =F7-E7 -> 0.4385 | P7: =N6*0.5/100 -> 0.4385 | Q7: T | R7: =E7+P7 -> 2.703
C8: HB1 | D8: C | E8: 2.2599 | F8: 2.5104 | G8: =F8-E8 -> 0.2505 | H8: =0.5-(G8+G9) -> 0.0445 | I8: =(G9*100)/0.5 -> 41 | J8: =G8*100/0.5 -> 50.1 | K8: =H8*100/0.5 -> 8.9 | L8: =I8+J8+K8 -> 100 | N8: 41 | O8: 50.1 | P8: =O8*0.5/100 -> 0.2505 | Q8: C | R8: =E8+P8 -> 2.5104
D9: T | E9: 2.2898 | F9: 2.4948 | G9: =F9-E9 -> 0.205 | P9: =N8*0.5/100 -> 0.205 | Q9: T | R9: =E9+P9 -> 2.4948
C10: HB2 | D10: C | E10: 2.2211 | F10: 2.6006 | G10: =F10-E10 -> 0.3795 | H10: =0.5-(G10+G11) -> 0.036 | I10: =(G11*100)/0.5 -> 16.9 | J10: =G10*100/0.5 -> 75.9 | K10: =H10*100/0.5 -> 7.2 | L10: =I10+J10+K10 -> 100 | N10: 16.9 | O10: 75.9 | P10: =O10*0.5/100 -> 0.3795 | Q10: C | R10: =E10+P10 -> 2.6006
D11: T | E11: 2.3689 | F11: 2.4534 | G11: =F11-E11 -> 0.0845 | P11: =N10*0.5/100 -> 0.0845 | Q11: T | R11: =E11+P11 -> 2.4534
C12: HB3 | D12: C | E12: 2.2534 | F12: 2.6952 | G12: =F12-E12 -> 0.4418 | H12: =0.5-(G12+G13) -> 0.0197 | I12: =(G13*100)/0.5 -> 7.7 | J12: =G12*100/0.5 -> 88.36 | K12: =H12*100/0.5 -> 3.94 | L12: =I12+J12+K12 -> 100 | N12: 7.7 | O12: 88.35 | P12: =O12*0.5/100 -> 0.44175 | Q12: C | R12: =E12+P12 -> 2.69515
D13: T | E13: 2.2271 | F13: 2.2656 | G13: =F13-E13 -> 0.0385 | P13: =N12*0.5/100 -> 0.0385 | Q13: T | R13: =E13+P13 -> 2.2656
B14: CB 20 | C14: HB0 | D14: C | E14: 2.2502 | F14: 2.3075 | G14: =F14-E14 -> 0.0573 | H14: =0.5-(G14+G15) -> 0.0219 | I14: =(G15*100)/0.5 -> 84.16 | J14: =G14*100/0.5 -> 11.46 | K14: =H14*100/0.5 -> 4.38 | L14: =I14+J14+K14 -> 100 | N14: 84.15 | O14: 11.45 | P14: =O14*0.5/100 -> 0.05725 | Q14: C | R14: =E14+P14 -> 2.30745
D15: T | E15: 2.2878 | F15: 2.7086 | G15: =F15-E15 -> 0.4208 | P15: =N14*0.5/100 -> 0.42075 | Q15: T | R15: =E15+P15 -> 2.70855
C16: HB1 | D16: C | E16: 2.2286 | F16: 2.4851 | G16: =F16-E16 -> 0.2565 | H16: =0.5-(G16+G17) -> 0.048 | I16: =(G17*100)/0.5 -> 39.1 | J16: =G16*100/0.5 -> 51.3 | K16: =H16*100/0.5 -> 9.6 | L16: =I16+J16+K16 -> 100 | N16: 39.1 | O16: 51.3 | P16: =O16*0.5/100 -> 0.2565 | Q16: C | R16: =E16+P16 -> 2.4851
D17: T | E17: 2.2722 | F17: 2.4677 | G17: =F17-E17 -> 0.1955 | P17: =N16*0.5/100 -> 0.1955 | Q17: T | R17: =E17+P17 -> 2.4677
C18: HB2 | D18: C | E18: 2.2362 | F18: 2.6427 | G18: =F18-E18 -> 0.4065 | H18: =0.5-(G18+G19) -> 0.016 | I18: =(G19*100)/0.5 -> 15.5 | J18: =G18*100/0.5 -> 81.3 | K18: =H18*100/0.5 -> 3.2 | L18: =I18+J18+K18 -> 100 | N18: 15.5 | O18: 81.3 | P18: =O18*0.5/100 -> 0.4065 | Q18: C | R18: =E18+P18 -> 2.6427
D19: T | E19: 2.2829 | F19: 2.3604 | G19: =F19-E19 -> 0.0775 | P19: =N18*0.5/100 -> 0.0775 | Q19: T | R19: =E19+P19 -> 2.3604
C20: HB3 | D20: C | E20: 2.288 | F20: 2.7253 | G20: =F20-E20 -> 0.4373 | H20: =0.5-(G20+G21) -> 0.0359 | I20: =(G21*100)/0.5 -> 5.36 | J20: =G20*100/0.5 -> 87.46 | K20: =H20*100/0.5 -> 7.18 | L20: =I20+J20+K20 -> 100 | N20: 5.35 | O20: 87.45 | P20: =O20*0.5/100 -> 0.43725 | Q20: C | R20: =E20+P20 -> 2.72525
D21: T | E21: 2.2568 | F21: 2.2836 | G21: =F21-E21 -> 0.0268 | P21: =N20*0.5/100 -> 0.02675 | Q21: T | R21: =E21+P21 -> 2.28355
B22: CB 40 | C22: HB0 | D22: C | E22: 2.2631 | F22: 2.3369 | G22: =F22-E22 -> 0.0738 | H22: =0.5-(G22+G23) -> 0.0544 | I22: =(G23*100)/0.5 -> 74.36 | J22: =G22*100/0.5 -> 14.76 | K22: =H22*100/0.5 -> 10.88 | L22: =I22+J22+K22 -> 100 | N22: 74.35 | O22: 14.75 | P22: =O22*0.5/100 -> 0.07375 | Q22: C | R22: =E22+P22 -> 2.33685
D23: T | E23: 2.2122 | F23: 2.584 | G23: =F23-E23 -> 0.3718 | P23: =N22*0.5/100 -> 0.37175 | Q23: T | R23: =E23+P23 -> 2.58395
C24: HB1 | D24: C | E24: 2.2658 | F24: 2.5426 | G24: =F24-E24 -> 0.2768 | H24: =0.5-(G24+G25) -> 0.0369 | I24: =(G25*100)/0.5 -> 37.26 | J24: =G24*100/0.5 -> 55.36 | K24: =H24*100/0.5 -> 7.38 | L24: =I24+J24+K24 -> 100 | N24: 37.25 | O24: 55.35 | P24: =O24*0.5/100 -> 0.27675 | Q24: C | R24: =E24+P24 -> 2.54255
D25: T | E25: 2.2473 | F25: 2.4336 | G25: =F25-E25 -> 0.1863 | P25: =N24*0.5/100 -> 0.18625 | Q25: T | R25: =E25+P25 -> 2.43355
C26: HB2 | D26: C | E26: 2.2613 | F26: 2.6576 | G26: =F26-E26 -> 0.3963 | H26: =0.5-(G26+G27) -> 0.0354 | I26: =(G27*100)/0.5 -> 13.66 | J26: =G26*100/0.5 -> 79.26 | K26: =H26*100/0.5 -> 7.08 | L26: =I26+J26+K26 -> 100 | N26: 13.65 | O26: 79.25 | P26: =O26*0.5/100 -> 0.39625 | Q26: C | R26: =E26+P26 -> 2.65755
D27: T | E27: 2.2902 | F27: 2.3585 | G27: =F27-E27 -> 0.0683 | P27: =N26*0.5/100 -> 0.06825 | Q27: T | R27: =E27+P27 -> 2.35845
C28: HB3 | D28: C | E28: 2.2741 | F28: 2.6846 | G28: =F28-E28 -> 0.4105 | H28: =0.5-(G28+G29) -> 0.0582 | I28: =(G29*100)/0.5 -> 6.26 | J28: =G28*100/0.5 -> 82.1 | K28: =H28*100/0.5 -> 11.64 | L28: =I28+J28+K28 -> 100 | N28: 6.25 | O28: 82.1 | P28: =O28*0.5/100 -> 0.4105 | Q28: C | R28: =E28+P28 -> 2.6846
D29: T | E29: 2.2872 | F29: 2.3185 | G29: =F29-E29 -> 0.0313 | P29: =N28*0.5/100 -> 0.03125 | Q29: T | R29: =E29+P29 -> 2.31845

Sheet CB 3
C4: Sample | D4: HB content | F4: weight before (g) | G4: weight after drying (g) | H4: sample retrieved (g) | I4: loss (g) | J4: sample in tail (%) | K4: sample in conc (%) | L4: sample lost (%) | M4: total (%)
C6: CB 0 | D6: HB0 | E6: C | F6: 2.2354 | G6: 2.2947 | H6: =G6-F6 -> 0.0593 | I6: =0.5-(H6+H7) -> 0.0369 | J6: =(H7*100)/0.5 -> 80.76 | K6: =H6*100/0.5 -> 11.86 | L6: =I6*100/0.5 -> 7.38 | M6: =J6+K6+L6 -> 100
E7: T | F7: 2.2489 | G7: 2.6527 | H7: =G7-F7 -> 0.4038
D8: HB1 | E8: C | F8: 2.2766 | G8: 2.5596 | H8: =G8-F8 -> 0.283 | I8: =0.5-(H8+H9) -> 0.0427 | J8: =(H9*100)/0.5 -> 34.86 | K8: =H8*100/0.5 -> 56.6 | L8: =I8*100/0.5 -> 8.54 | M8: =J8+K8+L8 -> 100
E9: T | F9: 2.2651 | G9: 2.4394 | H9: =G9-F9 -> 0.1743
D10: HB2 | E10: C | F10: 2.3015 | G10: 2.7115 | H10: =G10-F10 -> 0.41 | I10: =0.5-(H10+H11) -> 0.041 | J10: =(H11*100)/0.5 -> 9.8 | K10: =H10*100/0.5 -> 82 | L10: =I10*100/0.5 -> 8.2 | M10: =J10+K10+L10 -> 100
E11: T | F11: 2.2812 | G11: 2.3302 | H11: =G11-F11 -> 0.049
D12: HB3 | E12: C | F12: 2.2248 | G12: 2.6808 | H12: =G12-F12 -> 0.456 | I12: =0.5-(H12+H13) -> 0.0217 | J12: =(H13*100)/0.5 -> 4.46 | K12: =H12*100/0.5 -> 91.2 | L12: =I12*100/0.5 -> 4.34 | M12: =J12+K12+L12 -> 100
E13: T | F13: 2.5469 | G13: 2.5692 | H13: =G13-F13 -> 0.0223
C14: CB 20 | D14: HB0 | E14: C | F14: 2.2557 | G14: 2.3342 | H14: =G14-F14 -> 0.0785 | I14: =0.5-(H14+H15) -> 0.0422 | J14: =(H15*100)/0.5 -> 75.86 | K14: =H14*100/0.5 -> 15.7 | L14: =I14*100/0.5 -> 8.44 | M14: =J14+K14+L14 -> 100
E15: T | F15: 2.2614 | G15: 2.6407 | H15: =G15-F15 -> 0.3793
D16: HB1 | E16: C | F16: 2.3006 | G16: 2.5446 | H16: =G16-F16 -> 0.244 | I16: =0.5-(H16+H17) -> 0.0335 | J16: =(H17*100)/0.5 -> 44.5 | K16: =H16*100/0.5 -> 48.8 | L16: =I16*100/0.5 -> 6.7 | M16: =J16+K16+L16 -> 100
E17: T | F17: 2.2914 | G17: 2.5139 | H17: =G17-F17 -> 0.2225
D18: HB2 | E18: C | F18: 2.2785 | G18: 2.6625 | H18: =G18-F18 -> 0.384 | I18: =0.5-(H18+H19) -> 0.0235 | J18: =(H19*100)/0.5 -> 18.5 | K18: =H18*100/0.5 -> 76.8 | L18: =I18*100/0.5 -> 4.7 | M18: =J18+K18+L18 -> 100
E19: T | F19: 2.2859 | G19: 2.3784 | H19: =G19-F19 -> 0.0925
D20: HB3 | E20: C | F20: 2.2551 | G20: 2.6871 | H20: =G20-F20 -> 0.432 | I20: =0.5-(H20+H21) -> 0.0275 | J20: =(H21*100)/0.5 -> 8.1 | K20: =H20*100/0.5 -> 86.4 | L20: =I20*100/0.5 -> 5.5 | M20: =J20+K20+L20 -> 100
E21: T | F21: 2.2313 | G21: 2.2718 | H21: =G21-F21 -> 0.0405
C22: CB 40 | D22: HB0 | E22: C | F22: 2.2495 | G22: 2.3298 | H22: =G22-F22 -> 0.0803 | I22: =0.5-(H22+H23) -> 0.0217 | J22: =(H23*100)/0.5 -> 79.6 | K22: =H22*100/0.5 -> 16.06 | L22: =I22*100/0.5 -> 4.34 | M22: =J22+K22+L22 -> 100
E23: T | F23: 2.2761 | G23: 2.6741 | H23: =G23-F23 -> 0.398
D24: HB1 | E24: C | F24: 2.2699 | G24: 2.5862 | H24: =G24-F24 -> 0.3163 | I24: =0.5-(H24+H25) -> 0.0372 | J24: =(H25*100)/0.5 -> 29.3 | K24: =H24*100/0.5 -> 63.26 | L24: =I24*100/0.5 -> 7.44 | M24: =J24+K24+L24 -> 100
E25: T | F25: 2.2912 | G25: 2.4377 | H25: =G25-F25 -> 0.1465
D26: HB2 | E26: C | F26: 2.2804 | G26: 2.6864 | H26: =G26-F26 -> 0.406 | I26: =0.5-(H26+H27) -> 0.0445 | J26: =(H27*100)/0.5 -> 9.9 | K26: =H26*100/0.5 -> 81.2 | L26: =I26*100/0.5 -> 8.9 | M26: =J26+K26+L26 -> 100
E27: T | F27: 2.2097 | G27: 2.2592 | H27: =G27-F27 -> 0.0495
D28: HB3 | E28: C | F28: 2.2416 | G28: 2.6659 | H28: =G28-F28 -> 0.4243 | I28: =0.5-(H28+H29) -> 0.0297 | J28: =(H29*100)/0.5 -> 9.2 | K28: =H28*100/0.5 -> 84.86 | L28: =I28*100/0.5 -> 5.94 | M28: =J28+K28+L28 -> 100
E29: T | F29: 2.2913 | G29: 2.3373 | H29: =G29-F29 -> 0.046

Sheet Sheet1
A1: CB 0 | B1: rep 1 | C1: rep 2
W2: x ± t(s/​√n) {t=1.96, n= 2 repititions}
A3: HB0 C | I3: CB0 | Q3: mean (x) | T3: std dev (s) | W3: 95 % confidence interval
A4: HB0 T | E4: rep 1 | F4: tail | G4: concentrate | H4: loss | I4: rep 2 | J4: tail | K4: concentrate | L4: loss | M4: rep 3 | N4: tail | O4: concentrate | P4: loss | Q4: tail | R4: conc | S4: loss | T4: tail | U4: conc | V4: loss | W4: tail | X4: conc | Y4: loss
A5: HB1 C
A6: HB1 T | E6: 0 | F6: 87.6 | G6: 9.25 | H6: 3.15 | I6: 0 | J6: 87.7 | K6: 8.96 | L6: 3.34 | N6: 80.76 | O6: 11.86 | P6: 7.38 | Q6: =AVERAGE(F6,J6,N6) -> 85.353333 | R6: =AVERAGE(G6,K6,O6) -> 10.023333 | S6: =AVERAGE(H6,L6,P6) -> 4.6233333 | T6: =_xlfn.STDEV.S(F6,J6,N6) -> 3.9782576 | U6: =_xlfn.STDEV.S(G6,K6,O6) -> 1.5971955 | V6: =_xlfn.STDEV.S(H6,L6,P6) -> 2.3892328 | W6: =1.96*(T6/SQRT(3)) -> 4.5018222 | X6: =1.96*(U6/SQRT(3)) -> 1.8073968 | Y6: =1.96*(V6/SQRT(3)) -> 2.7036714
A7: HB2 C
A8: HB2 T | E8: 2.8 | F8: 40.55 | G8: 51.35 | H8: 8.1 | I8: 2.8 | J8: 41 | K8: 50.1 | L8: 8.9 | N8: 34.86 | O8: 56.6 | P8: 8.54 | Q8: =AVERAGE(F8,J8,N8) -> 38.803333 | R8: =AVERAGE(G8,K8,O8) -> 52.683333 | S8: =AVERAGE(H8,L8,P8) -> 8.5133333 | T8: =_xlfn.STDEV.S(F8,J8,N8) -> 3.4224309 | U8: =_xlfn.STDEV.S(G8,K8,O8) -> 3.4490337 | V8: =_xlfn.STDEV.S(H8,L8,P8) -> 0.40066611 | W8: =1.96*(T8/SQRT(3)) -> 3.8728452 | X8: =1.96*(U8/SQRT(3)) -> 3.902949 | Y8: =1.96*(V8/SQRT(3)) -> 0.45339639
A9: HB3 C
A10: HB3 T | E10: 5.6 | F10: 14.85 | G10: 77.2 | H10: 7.95 | I10: 5.6 | J10: 16.9 | K10: 75.9 | L10: 7.2 | N10: 9.8 | O10: 82 | P10: 8.2 | Q10: =AVERAGE(F10,J10,N10) -> 13.85 | R10: =AVERAGE(G10,K10,O10) -> 78.366667 | S10: =AVERAGE(H10,L10,P10) -> 7.7833333 | T10: =_xlfn.STDEV.S(F10,J10,N10) -> 3.6541073 | U10: =_xlfn.STDEV.S(G10,K10,O10) -> 3.2129944 | V10: =_xlfn.STDEV.S(H10,L10,P10) -> 0.5204165 | W10: =1.96*(T10/SQRT(3)) -> 4.1350116 | X10: =1.96*(U10/SQRT(3)) -> 3.6358455 | Y10: =1.96*(V10/SQRT(3)) -> 0.58890671
E12: 9.3 | F12: 6.65 | G12: 88.15 | H12: 5.2 | I12: 9.3 | J12: 7.7 | K12: 88.36 | L12: 3.94 | N12: 4.46 | O12: 91.2 | P12: 4.34 | Q12: =AVERAGE(F12,J12,N12) -> 6.27 | R12: =AVERAGE(G12,K12,O12) -> 89.236667 | S12: =AVERAGE(H12,L12,P12) -> 4.4933333 | T12: =_xlfn.STDEV.S(F12,J12,N12) -> 1.653088 | U12: =_xlfn.STDEV.S(G12,K12,O12) -> 1.7035355 | V12: =_xlfn.STDEV.S(H12,L12,P12) -> 0.64384263 | W12: =1.96*(T12/SQRT(3)) -> 1.8706452 | X12: =1.96*(U12/SQRT(3)) -> 1.9277319 | Y12: =1.96*(V12/SQRT(3)) -> 0.72857652
I36: CB20 | Q36: mean | T36: std dev | W36: 95 % confidence interval
E37: rep 1 | F37: tail | G37: concentrate | H37: loss | I37: rep 2 | J37: tail | K37: concentrate | L37: loss | M37: rep 3 | N37: tail | O37: concentrate | P37: loss | Q37: tail | R37: conc | S37: loss | T37: tail | U37: conc | V37: loss | W37: tail | X37: conc | Y37: loss
E39: 0 | F39: 85.3 | G39: 9.3 | H39: 5.4 | I39: 0 | J39: 84.16 | K39: 11.46 | L39: 4.38 | N39: 75.86 | O39: 15.7 | P39: 8.44 | Q39: =AVERAGE(F39,J39,N39) -> 81.773333 | R39: =AVERAGE(G39,K39,O39) -> 12.153333 | S39: =AVERAGE(H39,L39,P39) -> 6.0733333 | T39: =_xlfn.STDEV.S(F39,J39,N39) -> 5.152721 | U39: =_xlfn.STDEV.S(G39,K39,O39) -> 3.255846 | V39: =_xlfn.STDEV.S(H39,L39,P39) -> 2.1120922 | W39: =1.96*(T39/SQRT(3)) -> 5.8308527 | X39: =1.96*(U39/SQRT(3)) -> 3.6843366 | Y39: =1.96*(V39/SQRT(3)) -> 2.3900573
E41: 2.8 | F41: 42.15 | G41: 50.7 | H41: 7.15 | I41: 2.8 | J41: 39.1 | K41: 51.3 | L41: 9.6 | N41: 44.5 | O41: 48.8 | P41: 6.7 | Q41: =AVERAGE(F41,J41,N41) -> 41.916667 | R41: =AVERAGE(G41,K41,O41) -> 50.266667 | S41: =AVERAGE(H41,L41,P41) -> 7.8166667 | T41: =_xlfn.STDEV.S(F41,J41,N41) -> 2.7075512 | U41: =_xlfn.STDEV.S(G41,K41,O41) -> 1.3051181 | V41: =_xlfn.STDEV.S(H41,L41,P41) -> 1.5607156 | W41: =1.96*(T41/SQRT(3)) -> 3.0638826 | X41: =1.96*(U41/SQRT(3)) -> 1.4768802 | Y41: =1.96*(V41/SQRT(3)) -> 1.766116
E43: 5.6 | F43: 21.3 | G43: 71.4 | H43: 7.3 | I43: 5.6 | J43: 15.5 | K43: 81.3 | L43: 3.2 | N43: 18.5 | O43: 76.8 | P43: 4.7 | Q43: =AVERAGE(F43,J43,N43) -> 18.433333 | R43: =AVERAGE(G43,K43,O43) -> 76.5 | S43: =AVERAGE(H43,L43,P43) -> 5.0666667 | T43: =_xlfn.STDEV.S(F43,J43,N43) -> 2.9005747 | U43: =_xlfn.STDEV.S(G43,K43,O43) -> 4.9568135 | V43: =_xlfn.STDEV.S(H43,L43,P43) -> 2.0744477 | W43: =1.96*(T43/SQRT(3)) -> 3.2823092 | X43: =1.96*(U43/SQRT(3)) -> 5.6091625 | Y43: =1.96*(V43/SQRT(3)) -> 2.3474586
E45: 9.3 | F45: 11.3 | G45: 79.45 | H45: 9.25 | I45: 9.3 | J45: 5.36 | K45: 87.46 | L45: 7.18 | N45: 8.1 | O45: 86.4 | P45: 5.5 | Q45: =AVERAGE(F45,J45,N45) -> 8.2533333 | R45: =AVERAGE(G45,K45,O45) -> 84.436667 | S45: =AVERAGE(H45,L45,P45) -> 7.31 | T45: =_xlfn.STDEV.S(F45,J45,N45) -> 2.9729671 | U45: =_xlfn.STDEV.S(G45,K45,O45) -> 4.3509807 | V45: =_xlfn.STDEV.S(H45,L45,P45) -> 1.878377 | W45: =1.96*(T45/SQRT(3)) -> 3.364229 | X45: =1.96*(U45/SQRT(3)) -> 4.9235982 | Y45: =1.96*(V45/SQRT(3)) -> 2.1255836
I48: CB40 | Q48: mean | T48: std dev | W48: 95 % confidence interval
E49: rep 1 | F49: tail | G49: concentrate | H49: loss | I49: rep 2 | J49: tail | K49: concentrate | L49: loss | M49: rep 3 | N49: tail | O49: concentrate | P49: loss | Q49: tail | R49: conc | S49: loss | T49: tail | U49: conc | V49: loss | W49: tail | X49: conc | Y49: loss
E51: 0 | F51: 81.05 | G51: 13.15 | H51: 5.8 | I51: 0 | J51: 74.36 | K51: 14.76 | L51: 10.88 | N51: 79.6 | O51: 16.06 | P51: 4.34 | Q51: =AVERAGE(F51,J51,N51) -> 78.336667 | R51: =AVERAGE(G51,K51,O51) -> 14.656667 | S51: =AVERAGE(H51,L51,P51) -> 7.0066667 | T51: =_xlfn.STDEV.S(F51,J51,N51) -> 3.5193797 | U51: =_xlfn.STDEV.S(G51,K51,O51) -> 1.4577494 | V51: =_xlfn.STDEV.S(H51,L51,P51) -> 3.4329191 | W51: =1.96*(T51/SQRT(3)) -> 3.982553 | X51: =1.96*(U51/SQRT(3)) -> 1.6495987 | Y51: =1.96*(V51/SQRT(3)) -> 3.8847136
E53: 2.8 | F53: 36.85 | G53: 54.75 | H53: 8.4 | I53: 2.8 | J53: 37.26 | K53: 55.36 | L53: 7.38 | N53: 29.3 | O53: 63.26 | P53: 7.44 | Q53: =AVERAGE(F53,J53,N53) -> 34.47 | R53: =AVERAGE(G53,K53,O53) -> 57.79 | S53: =AVERAGE(H53,L53,P53) -> 7.74 | T53: =_xlfn.STDEV.S(F53,J53,N53) -> 4.4820419 | U53: =_xlfn.STDEV.S(G53,K53,O53) -> 4.7469675 | V53: =_xlfn.STDEV.S(H53,L53,P53) -> 0.57236352 | W53: =1.96*(T53/SQRT(3)) -> 5.0719079 | X53: =1.96*(U53/SQRT(3)) -> 5.3716994 | Y53: =1.96*(V53/SQRT(3)) -> 0.6476903
E55: 5.6 | F55: 24.95 | G55: 66.65 | H55: 8.4 | I55: 5.6 | J55: 13.66 | K55: 79.26 | L55: 7.08 | N55: 9.9 | O55: 81.2 | P55: 8.9 | Q55: =AVERAGE(F55,J55,N55) -> 16.17 | R55: =AVERAGE(G55,K55,O55) -> 75.703333 | S55: =AVERAGE(H55,L55,P55) -> 8.1266667 | T55: =_xlfn.STDEV.S(F55,J55,N55) -> 7.8326688 | U55: =_xlfn.STDEV.S(G55,K55,O55) -> 7.900192 | V55: =_xlfn.STDEV.S(H55,L55,P55) -> 0.94028365 | W55: =1.96*(T55/SQRT(3)) -> 8.8634991 | X55: =1.96*(U55/SQRT(3)) -> 8.9399088 | Y55: =1.96*(V55/SQRT(3)) -> 1.0640311
E57: 9.3 | F57: 6.6 | G57: 85.55 | H57: 7.85 | I57: 9.3 | J57: 6.26 | K57: 82.1 | L57: 11.64 | N57: 9.2 | O57: 84.86 | P57: 5.94 | Q57: =AVERAGE(F57,J57,N57) -> 7.3533333 | R57: =AVERAGE(G57,K57,O57) -> 84.17 | S57: =AVERAGE(H57,L57,P57) -> 8.4766667 | T57: =_xlfn.STDEV.S(F57,J57,N57) -> 1.6082703 | U57: =_xlfn.STDEV.S(G57,K57,O57) -> 1.8255684 | V57: =_xlfn.STDEV.S(H57,L57,P57) -> 2.9012124 | W57: =1.96*(T57/SQRT(3)) -> 1.8199292 | X57: =1.96*(U57/SQRT(3)) -> 2.0658251 | Y57: =1.96*(V57/SQRT(3)) -> 3.2830309
S60: CB and TiO2 recovery in froth
K61: recovery in froth (%) (avg) | T61: Nafion | U61: HB | V61: CB % | W61: TiO2 % | X61: CI CB | Y61: CI TiO2
K62: CB0 | L62: CB20 | M62: CB40 | N62: CI CB0 | O62: CI CB20 | P62: CI CB40 | S62: Point 1 | T62: 0 | U62: 0 | V62: 10.023333 | W62: 4.3266667 | X62: 1.81 | Y62: 0.82299257
J63: 0 | K63: 10.023333 | L63: 12.153333 | M63: 14.656667 | N63: 1.81 | O63: 3.68 | P63: 1.65 | S63: Point 2 | U63: 2.8 | V63: 52.683333 | W63: 7.5733333 | X63: 3.9 | Y63: 2.3465856
J64: 2.8 | K64: 52.683333 | L64: 50.266667 | M64: 57.79 | N64: 3.9 | O64: 1.48 | P64: 5.37 | S64: Point 3 | U64: 5.6 | V64: 78.366667 | W64: 10.12 | X64: 3.64 | Y64: 1.8668421
J65: 5.6 | K65: 78.366667 | L65: 76.5 | M65: 75.703333 | N65: 3.64 | O65: 5.61 | P65: 8.94 | S65: Point 4 | U65: 9.3 | V65: 89.236667 | W65: 12.273333 | X65: 1.93 | Y65: 1.9485112
J66: 9.3 | K66: 89.236667 | L66: 84.436667 | M66: 84.17 | N66: 1.93 | O66: 4.92 | P66: 2.07 | S66: Point 5 | T66: 20 | U66: 0 | V66: 12.153333 | W66: 6.82 | X66: 3.68 | Y66: 2.3264906
K67: CB0 | L67: CB20 | M67: CB40 | S67: Point 6 | U67: 2.8 | V67: 50.266667 | W67: 25.04 | X67: 1.48 | Y67: 4.0592352
S68: Point 7 | U68: 5.6 | V68: 76.5 | W68: 44.913333 | X68: 5.61 | Y68: 2.308958
S69: Point 8 | U69: 9.3 | V69: 84.436667 | W69: 48.926667 | X69: 4.92 | Y69: 3.1201438
S70: Point 9 | T70: 40 | U70: 0 | V70: 14.656667 | W70: 7.3 | X70: 1.65 | Y70: 8.6409403
S71: Point 10 | U71: 2.8 | V71: 57.79 | W71: 37.926667 | X71: 5.37 | Y71: 3.9502848
S72: Point 11 | U72: 5.6 | V72: 75.703333 | W72: 48.653333 | X72: 8.94 | Y72: 2.3907001
S73: Point 12 | U73: 9.3 | V73: 84.17 | W73: 52.026667 | X73: 2.07 | Y73: 1.3060785

Sheet Sheet2
S2: x ± t(s/​√n) {t=1.96, n= 2 repititions}
E3: TiO2 0 | M3: mean | P3: std dev | S3: 95 % confidence interval
A4: rep 1 | B4: tail | C4: concentrate | D4: loss | E4: rep 2 | F4: tail | G4: concentrate | H4: loss | I4: rep 3 | J4: tail | K4: concentrate | L4: loss | M4: tail | N4: conc | O4: loss | P4: tail | Q4: conc | R4: loss | S4: tail | T4: conc | U4: loss
A6: 0 | B6: 91.28 | C6: 5.16 | D6: 3.56 | E6: 0 | F6: 89.6 | G6: 4 | H6: 6.4 | J6: 91.9 | K6: 3.82 | L6: 4.28 | M6: =AVERAGE(F6,J6,B6) -> 90.926667 | N6: =AVERAGE(G6,K6,C6) -> 4.3266667 | O6: =AVERAGE(H6,L6,D6) -> 4.7466667 | P6: =_xlfn.STDEV.S(B6,F6,J6) -> 1.190014 | Q6: =_xlfn.STDEV.S(C6,G6,K6) -> 0.72727803 | R6: =_xlfn.STDEV.S(D6,H6,L6) -> 1.476392 | S6: =1.96*(P6/SQRT(3)) -> 1.3466276 | T6: =1.96*(Q6/SQRT(3)) -> 0.82299257 | U6: =1.96*(R6/SQRT(3)) -> 1.6706948
A8: 2.8 | B8: 87.08 | C8: 9.9 | D8: 3.02 | E8: 2.8 | F8: 89 | G8: 6.9 | H8: 4.1 | J8: 84.96 | K8: 5.92 | L8: 9.12 | M8: =AVERAGE(F8,J8,B8) -> 87.013333 | N8: =AVERAGE(G8,K8,C8) -> 7.5733333 | O8: =AVERAGE(H8,L8,D8) -> 5.4133333 | P8: =_xlfn.STDEV.S(B8,F8,J8) -> 2.0208249 | Q8: =_xlfn.STDEV.S(C8,G8,K8) -> 2.0736763 | R8: =_xlfn.STDEV.S(D8,H8,L8) -> 3.2551702 | S8: =1.96*(P8/SQRT(3)) -> 2.2867787 | T8: =1.96*(Q8/SQRT(3)) -> 2.3465856 | U8: =1.96*(R8/SQRT(3)) -> 3.6835719
A10: 5.6 | B10: 83.8 | C10: 11.92 | D10: 4.28 | E10: 5.6 | F10: 80.9 | G10: 9.76 | H10: 9.34 | J10: 87.06 | K10: 8.68 | L10: 4.26 | M10: =AVERAGE(F10,J10,B10) -> 83.92 | N10: =AVERAGE(G10,K10,C10) -> 10.12 | O10: =AVERAGE(H10,L10,D10) -> 5.96 | P10: =_xlfn.STDEV.S(B10,F10,J10) -> 3.0817527 | Q10: =_xlfn.STDEV.S(C10,G10,K10) -> 1.6497273 | R10: =_xlfn.STDEV.S(D10,H10,L10) -> 2.9271829 | S10: =1.96*(P10/SQRT(3)) -> 3.4873315 | T10: =1.96*(Q10/SQRT(3)) -> 1.8668421 | U10: =1.96*(R10/SQRT(3)) -> 3.3124193
A12: 9.3 | B12: 80.76 | C12: 14.04 | D12: 5.2 | E12: 9.3 | F12: 79.26 | G12: 10.6 | H12: 10.14 | J12: 82.22 | K12: 12.18 | L12: 5.6 | M12: =AVERAGE(F12,J12,B12) -> 80.746667 | N12: =AVERAGE(G12,K12,C12) -> 12.273333 | O12: =AVERAGE(H12,L12,D12) -> 6.98 | P12: =_xlfn.STDEV.S(B12,F12,J12) -> 1.480045 | Q12: =_xlfn.STDEV.S(C12,G12,K12) -> 1.7218982 | R12: =_xlfn.STDEV.S(D12,H12,L12) -> 2.7439388 | S12: =1.96*(P12/SQRT(3)) -> 1.6748286 | T12: =1.96*(Q12/SQRT(3)) -> 1.9485112 | U12: =1.96*(R12/SQRT(3)) -> 3.105059
E15: TiO2 20 | M15: mean | P15: std dev | S15: 95 % confidence interval
A16: rep 1 | B16: tail | C16: concentrate | D16: loss | E16: rep 2 | F16: tail | G16: concentrate | H16: loss | I16: rep 3 | J16: tail | K16: concentrate | L16: loss | M16: tail | N16: conc | O16: loss | P16: tail | Q16: conc | R16: loss | S16: tail | T16: conc | U16: loss
A18: 0 | B18: 85.98 | C18: 8.96 | D18: 5.06 | E18: 0 | F18: 86.8 | G18: 4.86 | H18: 8.34 | J18: 84.36 | K18: 6.64 | L18: 9 | M18: =AVERAGE(B18,F18,J18) -> 85.713333 | N18: =AVERAGE(C18,G18,K18) -> 6.82 | O18: =AVERAGE(D18,H18,L18) -> 7.4666667 | P18: =_xlfn.STDEV.S(B18,F18,J18) -> 1.2416655 | Q18: =_xlfn.STDEV.S(C18,G18,K18) -> 2.0559183 | R18: =_xlfn.STDEV.S(D18,H18,L18) -> 2.1101975 | S18: =1.96*(P18/SQRT(3)) -> 1.4050768 | T18: =1.96*(Q18/SQRT(3)) -> 2.3264906 | U18: =1.96*(R18/SQRT(3)) -> 2.3879132
A20: 2.8 | B20: 67.78 | C20: 27.6 | D20: 4.62 | E20: 2.8 | F20: 69.92 | G20: 20.94 | H20: 9.14 | J20: 64.02 | K20: 26.58 | L20: 9.4 | M20: =AVERAGE(B20,F20,J20) -> 67.24 | N20: =AVERAGE(C20,G20,K20) -> 25.04 | O20: =AVERAGE(D20,H20,L20) -> 7.72 | P20: =_xlfn.STDEV.S(B20,F20,J20) -> 2.9868378 | Q20: =_xlfn.STDEV.S(C20,G20,K20) -> 3.5871437 | R20: =_xlfn.STDEV.S(D20,H20,L20) -> 2.6878244 | S20: =1.96*(P20/SQRT(3)) -> 3.3799251 | T20: =1.96*(Q20/SQRT(3)) -> 4.0592352 | U20: =1.96*(R20/SQRT(3)) -> 3.0415596
A22: 5.6 | B22: 49.02 | C22: 46.68 | D22: 4.3 | E22: 5.6 | F22: 47.5 | G22: 42.68 | H22: 9.82 | J22: 50.28 | K22: 45.38 | L22: 4.34 | M22: =AVERAGE(B22,F22,J22) -> 48.933333 | N22: =AVERAGE(C22,G22,K22) -> 44.913333 | O22: =AVERAGE(D22,H22,L22) -> 6.1533333 | P22: =_xlfn.STDEV.S(B22,F22,J22) -> 1.3920249 | Q22: =_xlfn.STDEV.S(C22,G22,K22) -> 2.0404248 | R22: =_xlfn.STDEV.S(D22,H22,L22) -> 3.1754895 | S22: =1.96*(P22/SQRT(3)) -> 1.5752245 | T22: =1.96*(Q22/SQRT(3)) -> 2.308958 | U22: =1.96*(R22/SQRT(3)) -> 3.5934046
A24: 9.3 | B24: 45.16 | C24: 50.92 | D24: 3.92 | E24: 9.3 | F24: 45.26 | G24: 45.78 | H24: 8.96 | J24: 44.56 | K24: 50.08 | L24: 5.36 | M24: =AVERAGE(B24,F24,J24) -> 44.993333 | N24: =AVERAGE(C24,G24,K24) -> 48.926667 | O24: =AVERAGE(D24,H24,L24) -> 6.08 | P24: =_xlfn.STDEV.S(B24,F24,J24) -> 0.37859389 | Q24: =_xlfn.STDEV.S(C24,G24,K24) -> 2.7572692 | R24: =_xlfn.STDEV.S(D24,H24,L24) -> 2.5959969 | S24: =1.96*(P24/SQRT(3)) -> 0.42841932 | T24: =1.96*(Q24/SQRT(3)) -> 3.1201438 | U24: =1.96*(R24/SQRT(3)) -> 2.9376471
E27: TiO2 40 | M27: mean | P27: std dev | S27: 95 % confidence interval
A28: rep 1 | B28: tail | C28: concentrate | D28: loss | E28: rep 2 | F28: tail | G28: concentrate | H28: loss | I28: rep 3 | J28: tail | K28: concentrate | L28: loss | M28: tail | N28: conc | O28: loss | P28: tail | Q28: conc | R28: loss | S28: tail | T28: conc | U28: loss
A30: 0 | B30: 79.94 | C30: 15.8 | D30: 4.26 | E30: 0 | F30: 89.48 | G30: 1.02 | H30: 9.5 | J30: 90.2 | K30: 5.08 | L30: 4.72 | M30: =AVERAGE(B30,F30,J30) -> 86.54 | N30: =AVERAGE(C30,G30,K30) -> 7.3 | O30: =AVERAGE(D30,H30,L30) -> 6.16 | P30: =_xlfn.STDEV.S(B30,F30,J30) -> 5.7270935 | Q30: =_xlfn.STDEV.S(C30,G30,K30) -> 7.6359937 | R30: =_xlfn.STDEV.S(D30,H30,L30) -> 2.9016547 | S30: =1.96*(P30/SQRT(3)) -> 6.4808164 | T30: =1.96*(Q30/SQRT(3)) -> 8.6409403 | U30: =1.96*(R30/SQRT(3)) -> 3.2835314
A32: 2.8 | B32: 56.1 | C32: 39.02 | D32: 4.88 | E32: 2.8 | F32: 60.62 | G32: 34.02 | H32: 5.36 | J32: 51.2 | K32: 40.74 | L32: 8.06 | M32: =AVERAGE(B32,F32,J32) -> 55.973333 | N32: =AVERAGE(C32,G32,K32) -> 37.926667 | O32: =AVERAGE(D32,H32,L32) -> 6.1 | P32: =_xlfn.STDEV.S(B32,F32,J32) -> 4.7112773 | Q32: =_xlfn.STDEV.S(C32,G32,K32) -> 3.4908643 | R32: =_xlfn.STDEV.S(D32,H32,L32) -> 1.7142929 | S32: =1.96*(P32/SQRT(3)) -> 5.3313121 | T32: =1.96*(Q32/SQRT(3)) -> 3.9502848 | U32: =1.96*(R32/SQRT(3)) -> 1.939905
A34: 5.6 | B34: 46.66 | C34: 48.92 | D34: 4.42 | E34: 5.6 | F34: 48.08 | G34: 46.42 | H34: 5.5 | J34: 42.3 | K34: 50.62 | L34: 7.08 | M34: =AVERAGE(B34,F34,J34) -> 45.68 | N34: =AVERAGE(C34,G34,K34) -> 48.653333 | O34: =AVERAGE(D34,H34,L34) -> 5.6666667 | P34: =_xlfn.STDEV.S(B34,F34,J34) -> 3.0120425 | Q34: =_xlfn.STDEV.S(C34,G34,K34) -> 2.1126603 | R34: =_xlfn.STDEV.S(D34,H34,L34) -> 1.3378092 | S34: =1.96*(P34/SQRT(3)) -> 3.408447 | T34: =1.96*(Q34/SQRT(3)) -> 2.3907001 | U34: =1.96*(R34/SQRT(3)) -> 1.5138736
A36: 9.3 | B36: 42.18 | C36: 52.58 | D36: 5.24 | E36: 9.3 | F36: 42.26 | G36: 50.7 | H36: 7.04 | J36: 44.06 | K36: 52.8 | L36: 3.14 | M36: =AVERAGE(B36,F36,J36) -> 42.833333 | N36: =AVERAGE(C36,G36,K36) -> 52.026667 | O36: =AVERAGE(D36,H36,L36) -> 5.14 | P36: =_xlfn.STDEV.S(B36,F36,J36) -> 1.0630773 | Q36: =_xlfn.STDEV.S(C36,G36,K36) -> 1.1541808 | R36: =_xlfn.STDEV.S(D36,H36,L36) -> 1.9519221 | S36: =1.96*(P36/SQRT(3)) -> 1.2029852 | T36: =1.96*(Q36/SQRT(3)) -> 1.3060785 | U36: =1.96*(R36/SQRT(3)) -> 2.2088078
G66: recovery in froth (%) (avg)
G67: TiO2 0 | H67: TiO2 20 | I67: TiO2 40 | J67: CI Ti0 | K67: CI Ti20 | L67: CI Ti40
F68: 0 | G68: 4.3266667 | H68: 6.82 | I68: 7.3 | J68: 0.82299257 | K68: 2.3264906 | L68: 8.6409403
F69: 2.8 | G69: 7.5733333 | H69: 25.04 | I69: 37.926667 | J69: 2.3465856 | K69: 4.0592352 | L69: 3.9502848
F70: 5.6 | G70: 10.12 | H70: 44.913333 | I70: 48.653333 | J70: 1.8668421 | K70: 2.308958 | L70: 2.3907001
F71: 9.3 | G71: 12.273333 | H71: 48.926667 | I71: 52.026667 | J71: 1.9485112 | K71: 3.1201438 | L71: 1.3060785

Sheet exp act binary
B1: CONFIDENCE INTERVAL
B2: If we know the standard deviation of the population, we can use the formula: =(sample mean) ± (t-value * (known standard deviation / √sample size))
B8: C0T0
B9: C0 mean (x) | E9: T0 mean | H9: C0T0 expected | K9: std dev | N9: CI
B10: tail | C10: conc | D10: loss | E10: tail | F10: conc | G10: loss | H10: tail | I10: conc | J10: loss | K10: tail | L10: conc | M10: loss | N10: tail | O10: conc | P10: loss
B12: 84.23 | C12: 10.41 | D12: 5.36 | E12: 90.75 | F12: 3.91 | G12: 5.34 | H12: =AVERAGE(B12,C12) -> 47.32 | I12: =AVERAGE(C12,D12) -> 7.885 | J12: =AVERAGE(D12,E12) -> 48.055 | K12: =_xlfn.STDEV.P(B12,E12) -> 3.26 | L12: =_xlfn.STDEV.P(C12,F12) -> 3.25 | M12: =_xlfn.STDEV.P(D12,G12) -> 0.01
B14: 37.93 | C14: 53.35 | D14: 8.72 | E14: 86.98 | F14: 6.41 | G14: 6.61 | H14: =AVERAGE(B14,C14) -> 45.64 | I14: =AVERAGE(C14,D14) -> 31.035 | J14: =AVERAGE(D14,E14) -> 47.85 | K14: =_xlfn.STDEV.P(B14,E14) -> 24.525 | L14: =_xlfn.STDEV.P(C14,F14) -> 23.47 | M14: =_xlfn.STDEV.P(D14,G14) -> 1.055
B16: 13.35 | C16: 78.95 | D16: 7.7 | E16: 83.98 | F16: 9.22 | G16: 6.8 | H16: =AVERAGE(B16,C16) -> 46.15 | I16: =AVERAGE(C16,D16) -> 43.325 | J16: =AVERAGE(D16,E16) -> 45.84 | K16: =_xlfn.STDEV.P(B16,E16) -> 35.315 | L16: =_xlfn.STDEV.P(C16,F16) -> 34.865 | M16: =_xlfn.STDEV.P(D16,G16) -> 0.45
B18: 6.08 | C18: 89.78 | D18: 4.14 | E18: 80.74 | F18: 11.39 | G18: 7.87 | H18: =AVERAGE(B18,C18) -> 47.93 | I18: =AVERAGE(C18,D18) -> 46.96 | J18: =AVERAGE(D18,E18) -> 42.44 | K18: =_xlfn.STDEV.P(B18,E18) -> 37.33 | L18: =_xlfn.STDEV.P(C18,F18) -> 39.195 | M18: =_xlfn.STDEV.P(D18,G18) -> 1.865
B20: C0T0
B21: C0 conc | C21: T0 conc | D21: C0T0 expected | E21: CI | F21: C0T0 actual | G21: CI
A23: 0 | B23: 10.41 | C23: 3.91 | D23: =AVERAGE(B23,C23) -> 7.16 | E23: 2.842 | F23: 2.52 | G23: 2.7165157
A25: 2.8 | B25: 53.35 | C25: 6.41 | D25: =AVERAGE(B25,C25) -> 29.88 | E25: 6.37 | F25: 33.58 | G25: 4.05589
A27: 5.6 | B27: 78.95 | C27: 9.22 | D27: =AVERAGE(B27,C27) -> 44.085 | E27: 5.978 | F27: 41.913333 | G27: 2.1044636
A29: 9.3 | B29: 89.78 | C29: 11.39 | D29: =AVERAGE(B29,C29) -> 50.585 | E29: 2.7832 | F29: 49.546667 | G29: 3.8237139
B33: C20T20
B34: C20 conc | C34: T20 conc | D34: C20T20 expected | E34: CI | F34: C20T20 actual | G34: CI
A36: 0 | B36: 13.58 | C36: 6.82 | D36: =AVERAGE(B36,C36) -> 10.2 | E36: 4.1552 | F36: 5.66 | G36: 2.1932158
A38: 2.8 | B38: 50.05 | C38: 25.04 | D38: =AVERAGE(B38,C38) -> 37.545 | E38: 2.45 | F38: 42.52 | G38: 0.91345253
A40: 5.6 | B40: 79.05 | C40: 44.913333 | D40: =AVERAGE(B40,C40) -> 61.981667 | E40: 4.41 | F40: 62.813333 | G40: 5.2585176
A42: 9.3 | B42: 86.93 | C42: 48.926667 | D42: =AVERAGE(B42,C42) -> 67.928333 | E42: 1.0388 | F42: 73.146667 | G42: 0.98711727
B49: C20T40
B50: C20 conc | C50: T40 conc | D50: C20T40 expected | E50: CI | F50: C20T40 actual | G50: CI
A52: 0 | B52: 13.58 | C52: 7.3 | D52: =AVERAGE(B52,C52) -> 10.44 | E52: 8.6409403 | F52: 4.6466667 | G52: 0.90424732
A54: 2.8 | B54: 50.05 | C54: 37.926667 | D54: =AVERAGE(B54,C54) -> 43.988333 | E54: 3.9502848 | F54: 47.4 | G54: 7.0758986
A56: 5.6 | B56: 79.05 | C56: 48.653333 | D56: =AVERAGE(B56,C56) -> 63.851667 | E56: 2.3907001 | F56: 65.86 | G56: 6.6880531
A58: 9.3 | B58: 86.93 | C58: 52.026667 | D58: =AVERAGE(B58,C58) -> 69.478333 | E58: 1.3060785 | F58: 79.953333 | G58: 4.2618972
B64: C40T20
B65: C40 conc | C65: T20 conc | D65: C40T20 expected | E65: CI | F65: C40T20 actual | G65: CI
A67: 0 | B67: 15.41 | C67: 6.82 | D67: =AVERAGE(B67,C67) -> 11.115 | E67: 1.274 | F67: 3.66 | G67: 1.7540996
A69: 2.8 | B69: 59.31 | C69: 25.04 | D69: =AVERAGE(B69,C69) -> 42.175 | E69: 7.742 | F69: 38.033333 | G69: 7.0230507
A71: 5.6 | B71: 80.23 | C71: 44.913333 | D71: =AVERAGE(B71,C71) -> 62.571667 | E71: 1.9012 | F71: 57.733333 | G71: 5.942231
A73: 9.3 | B73: 83.48 | C73: 48.926667 | D73: =AVERAGE(B73,C73) -> 66.203333 | E73: 2.7048 | F73: 76.78 | G73: 7.2490682
B80: C40T40
B81: C40 conc | C81: T40 conc | D81: C40T40 expected | E81: CI | F81: C40T40 actual | G81: CI
A83: 0 | B83: 15.41 | C83: 7.3 | D83: =AVERAGE(B83,C83) -> 11.355 | E83: 8.6409403 | F83: 3.6 | G83: 0.87155744
A85: 2.8 | B85: 59.31 | C85: 37.926667 | D85: =AVERAGE(B85,C85) -> 48.618333 | E85: 3.9502848 | F85: 48.053333 | G85: 3.9230259
A87: 5.6 | B87: 80.23 | C87: 48.653333 | D87: =AVERAGE(B87,C87) -> 64.441667 | E87: 2.3907001 | F87: 69.96 | G87: 6.622248
A89: 9.3 | B89: 83.48 | C89: 52.026667 | D89: =AVERAGE(B89,C89) -> 67.753333 | E89: 1.3060785 | F89: 83.84 | G89: 1.0403397

Sheet Sheet3
B1: calculated | C1: actual
A2: C0T0 | B2: ='exp act binary'!$D$23 -> 7.16 | C2: ='exp act binary'!$F$23 -> 2.52
B3: ='exp act binary'!$D$25 -> 29.88 | C3: ='exp act binary'!$F$25 -> 33.58
B4: ='exp act binary'!$D$27 -> 44.085 | C4: ='exp act binary'!$F$27 -> 41.913333
B5: ='exp act binary'!$D$29 -> 50.585 | C5: ='exp act binary'!$F$29 -> 49.546667
A6: C20T20 | B6: ='exp act binary'!$D$36 -> 10.2 | C6: 5.66
B7: ='exp act binary'!$D$38 -> 37.545 | C7: 42.52
B8: ='exp act binary'!$D$40 -> 61.981667 | C8: 62.813333
B9: ='exp act binary'!$D$42 -> 67.928333 | C9: 73.146667
A10: C20T40 | B10: ='exp act binary'!$D$52 -> 10.44 | C10: 4.6466667
B11: ='exp act binary'!$D$54 -> 43.988333 | C11: 47.4
B12: ='exp act binary'!$D$56 -> 63.851667 | C12: 65.86
B13: ='exp act binary'!$D$58 -> 69.478333 | C13: 79.953333
A14: C40T20 | B14: ='exp act binary'!$D$67 -> 11.115 | C14: ='exp act binary'!$F$67 -> 3.66
B15: ='exp act binary'!$D$69 -> 42.175 | C15: ='exp act binary'!$F$69 -> 38.033333
B16: ='exp act binary'!$D$71 -> 62.571667 | C16: ='exp act binary'!$F$71 -> 57.733333
B17: ='exp act binary'!$D$73 -> 66.203333 | C17: ='exp act binary'!$F$73 -> 76.78
A18: C40T40 | B18: ='exp act binary'!$D$83 -> 11.355 | C18: ='exp act binary'!$F$83 -> 3.6
B19: ='exp act binary'!$D$85 -> 48.618333 | C19: ='exp act binary'!$F$85 -> 48.053333
B20: ='exp act binary'!$D$87 -> 64.441667 | C20: ='exp act binary'!$F$87 -> 69.96
B21: ='exp act binary'!$D$89 -> 67.753333 | C21: ='exp act binary'!$F$89 -> 83.84

Sheet water recovery
A1: water recovery for rep 3
E2: total in | G2: total out
A3: mixture | B3: particle wt (g) | C3: empty beaker wt (g) | D3: HB (g) | E3: water+part+HB (g) | F3: water in (g) | G3: water+part(g)+beaker | H3: dried particle wt (g) | I3: water out (g)
F4: mw,f | H4: (tail) | I4: (tail) (mw,t) | J4: mw,c
A5: C0 | B5: 0.5 | C5: 181.26 | D5: 0 | E5: 401.23 | F5: =E5-D5-C5-B5 -> 219.47 | G5: 398.21 | H5: 2.6527 | I5: =G5-H5-C5 -> 214.2973 | J5: =F5-I5 -> 5.1727 | K5: =(J5/F5)*100 -> 2.3569053 | L5: HB0
B6: 0.5 | C6: 182.58 | D6: 0.3 | E6: 406.31 | F6: =E6-D6-C6-B6 -> 222.93 | G6: 351.94 | H6: 2.4394 | I6: =G6-H6-C6 -> 166.9206 | J6: =F6-I6 -> 56.0094 | K6: =(J6/F6)*100 -> 25.124209 | L6: HB1
B7: 0.5 | C7: 184.36 | D7: 0.6 | E7: 416.56 | F7: =E7-D7-C7-B7 -> 231.1 | G7: 323.95 | H7: 2.3302 | I7: =G7-H7-C7 -> 137.2598 | J7: =F7-I7 -> 93.8402 | K7: =(J7/F7)*100 -> 40.605885 | L7: HB2
B8: 0.5 | C8: 187.02 | D8: 1 | E8: 415.27 | F8: =E8-D8-C8-B8 -> 226.75 | G8: 320.81 | H8: 2.5692 | I8: =G8-H8-C8 -> 131.2208 | J8: =F8-I8 -> 95.5292 | K8: =(J8/F8)*100 -> 42.129746 | L8: HB3
A9: C20 | B9: 0.5 | C9: 182.34 | D9: 0 | E9: 410.32 | F9: =E9-D9-C9-B9 -> 227.48 | G9: 404.35 | H9: 2.6407 | I9: =G9-H9-C9 -> 219.3693 | J9: =F9-I9 -> 8.1107 | K9: =(J9/F9)*100 -> 3.5654563
B10: 0.5 | C10: 182.96 | D10: 0.3 | E10: 411.65 | F10: =E10-D10-C10-B10 -> 227.89 | G10: 355.31 | H10: 2.5139 | I10: =G10-H10-C10 -> 169.8361 | J10: =F10-I10 -> 58.0539 | K10: =(J10/F10)*100 -> 25.474527
B11: 0.5 | C11: 184.57 | D11: 0.6 | E11: 423.21 | F11: =E11-D11-C11-B11 -> 237.54 | G11: 332.62 | H11: 2.3784 | I11: =G11-H11-C11 -> 145.6716 | J11: =F11-I11 -> 91.8684 | K11: =(J11/F11)*100 -> 38.674918
B12: 0.5 | C12: 185.2 | D12: 1 | E12: 410.25 | F12: =E12-D12-C12-B12 -> 223.55 | G12: 315.01 | H12: 2.2718 | I12: =G12-H12-C12 -> 127.5382 | J12: =F12-I12 -> 96.0118 | K12: =(J12/F12)*100 -> 42.948692
A13: C40 | B13: 0.5 | C13: 187.46 | D13: 0 | E13: 405.32 | F13: =E13-D13-C13-B13 -> 217.36 | G13: 398.7 | H13: 2.6741 | I13: =G13-H13-C13 -> 208.5659 | J13: =F13-I13 -> 8.7941 | K13: =(J13/F13)*100 -> 4.0458686
B14: 0.5 | C14: 179.88 | D14: 0.3 | E14: 406.21 | F14: =E14-D14-C14-B14 -> 225.53 | G14: 344.61 | H14: 2.4377 | I14: =G14-H14-C14 -> 162.2923 | J14: =F14-I14 -> 63.2377 | K14: =(J14/F14)*100 -> 28.039596
B15: 0.5 | C15: 181.25 | D15: 0.6 | E15: 402.95 | F15: =E15-D15-C15-B15 -> 220.6 | G15: 315.21 | H15: 2.2592 | I15: =G15-H15-C15 -> 131.7008 | J15: =F15-I15 -> 88.8992 | K15: =(J15/F15)*100 -> 40.298821
B16: 0.5 | C16: 143.61 | D16: 1 | E16: 408.56 | F16: =E16-D16-C16-B16 -> 263.45 | G16: 294.94 | H16: 2.3373 | I16: =G16-H16-C16 -> 148.9927 | J16: =F16-I16 -> 114.4573 | K16: =(J16/F16)*100 -> 43.445549
A17: T0 | B17: 0.5 | C17: 184.56 | D17: 0 | E17: 399.62 | F17: =E17-D17-C17-B17 -> 214.56 | G17: 396.23 | H17: 2.7209 | I17: =G17-H17-C17 -> 208.9491 | J17: =F17-I17 -> 5.6109 | K17: =(J17/F17)*100 -> 2.6150727
B18: 0.5 | C18: 183.94 | D18: 0.3 | E18: 398.51 | F18: =E18-D18-C18-B18 -> 213.77 | G18: 392.52 | H18: 2.7374 | I18: =G18-H18-C18 -> 205.8426 | J18: =F18-I18 -> 7.9274 | K18: =(J18/F18)*100 -> 3.7083782
B19: 0.5 | C19: 184.68 | D19: 0.6 | E19: 402.36 | F19: =E19-D19-C19-B19 -> 216.58 | G19: 392.62 | H19: 2.6934 | I19: =G19-H19-C19 -> 205.2466 | J19: =F19-I19 -> 11.3334 | K19: =(J19/F19)*100 -> 5.2328932
B20: 0.5 | C20: 182.09 | D20: 1 | E20: 405.61 | F20: =E20-D20-C20-B20 -> 222.02 | G20: 391.82 | H20: 2.6492 | I20: =G20-H20-C20 -> 207.0808 | J20: =F20-I20 -> 14.9392 | K20: =(J20/F20)*100 -> 6.7287632
A21: T20 | B21: 0.5 | C21: 186.77 | D21: 0 | E21: 406.12 | F21: =E21-D21-C21-B21 -> 218.85 | G21: 403.62 | H21: 2.6713 | I21: =G21-H21-C21 -> 214.1787 | J21: =F21-I21 -> 4.6713 | K21: =(J21/F21)*100 -> 2.1344757
B22: 0.5 | C22: 185.76 | D22: 0.3 | E22: 401.23 | F22: =E22-D22-C22-B22 -> 214.67 | G22: 380.21 | H22: 2.6243 | I22: =G22-H22-C22 -> 191.8257 | J22: =F22-I22 -> 22.8443 | K22: =(J22/F22)*100 -> 10.641589
B23: 0.5 | C23: 186.53 | D23: 0.6 | E23: 407.91 | F23: =E23-D23-C23-B23 -> 220.28 | G23: 357.62 | H23: 2.5277 | I23: =G23-H23-C23 -> 168.5623 | J23: =F23-I23 -> 51.7177 | K23: =(J23/F23)*100 -> 23.478164
B24: 0.5 | C24: 184.53 | D24: 1 | E24: 410.26 | F24: =E24-D24-C24-B24 -> 224.23 | G24: 348.92 | H24: 2.4843 | I24: =G24-H24-C24 -> 161.9057 | J24: =F24-I24 -> 62.3243 | K24: =(J24/F24)*100 -> 27.794809
A25: T40 | B25: 0.5 | C25: 185.61 | D25: 0 | E25: 412.36 | F25: =E25-D25-C25-B25 -> 226.25 | G25: 406.23 | H25: 2.7253 | I25: =G25-H25-C25 -> 217.8947 | J25: =F25-I25 -> 8.3553 | K25: =(J25/F25)*100 -> 3.6929503
B26: 0.5 | C26: 184.93 | D26: 0.3 | E26: 415.62 | F26: =E26-D26-C26-B26 -> 229.89 | G26: 369.72 | H26: 2.5151 | I26: =G26-H26-C26 -> 182.2749 | J26: =F26-I26 -> 47.6151 | K26: =(J26/F26)*100 -> 20.712123
B27: 0.5 | C27: 186.51 | D27: 0.6 | E27: 412.03 | F27: =E27-D27-C27-B27 -> 224.42 | G27: 358.61 | H27: 2.4898 | I27: =G27-H27-C27 -> 169.6102 | J27: =F27-I27 -> 54.8098 | K27: =(J27/F27)*100 -> 24.422868
B28: 0.5 | C28: 184.63 | D28: 1 | E28: 412.36 | F28: =E28-D28-C28-B28 -> 226.23 | G28: 351.96 | H28: 2.5157 | I28: =G28-H28-C28 -> 164.8143 | J28: =F28-I28 -> 61.4157 | K28: =(J28/F28)*100 -> 27.147461
B52: Rm from rep 3
C53: T0 | E53: T20 | G53: T40 | I53: C0 | K53: C20 | M53: C40
C54: Rw | D54: Rm | E54: Rw | F54: Rm | G54: Rw | H54: Rm | I54: Rw | J54: Rm | K54: Rw | L54: Rm | M54: Rw | N54: Rm
B55: 0 | C55: 2.6150727 | D55: 3.82 | E55: 2.1344757 | F55: 6.54 | G55: 3.6929503 | H55: 5.08 | I55: 2.3569053 | J55: 11.86 | K55: 3.5654563 | L55: 15.7 | M55: 4.0458686 | N55: 16.06
B56: 2.8 | C56: 3.71 | D56: 5.92 | E56: 10.641589 | F56: 26.58 | G56: 20.712123 | H56: 40.74 | I56: 25.124209 | J56: 56.6 | K56: 25.474527 | L56: 48.8 | M56: 28.039596 | N56: 63.26
B57: 5.6 | C57: 5.2328932 | D57: 8.68 | E57: 23.478164 | F57: 45.38 | G57: 24.422868 | H57: 50.62 | I57: 40.605885 | J57: 82 | K57: 38.674918 | L57: 76.8 | M57: 40.298821 | N57: 81.2
B58: 9.3 | C58: 6.73 | D58: 12.18 | E58: 27.794809 | F58: 50.08 | G58: 27.147461 | H58: 52.8 | I58: 42.129746 | J58: 91.2 | K58: 42.948692 | L58: 86.4 | M58: 43.445549 | N58: 84.86
