Workbook

Sheet Fluorite-CS
B2: Fluorite pH2 with CS_Al_1100 | C2: Sq µm | D2: Ssk | E2: Sku | F2: Sp | G2: Sv | H2: Sz | I2: Sa | K2: Fluorite pH2 with CS_Al_500 | L2: Sq µm | M2: Ssk | N2: Sku | O2: Sp | P2: Sv | Q2: Sz | R2: Sa
B3: 81 | C3: 0.0001 | D3: 0.0945 | E3: 3.2329 | F3: 0.0006 | G3: 0.0005 | H3: 0.001 | I3: 0.0001 | K3: 25 | L3: 0.0001 | M3: 2.1403 | N3: 16.9242 | O3: 0.0016 | P3: 0.0004 | Q3: 0.002 | R3: 0.0001
B4: 85 | C4: 0.0001 | D4: 2.5399 | E4: 28.5747 | F4: 0.0017 | G4: 0.0004 | H4: 0.0021 | I4: 0.0001 | K4: 24 | L4: 0.0001 | M4: 1.9363 | N4: 14.972 | O4: 0.0014 | P4: 0.0004 | Q4: 0.0018 | R4: 0.0001
B5: 86 | C5: 0.0001 | D5: 1.2386 | E5: 13.2014 | F5: 0.0015 | G5: 0.0003 | H5: 0.0018 | I5: 0.0001 | K5: average | L5: =AVERAGE(L3:L4) -> 0.0001 | M5: =AVERAGE(M3:M4) -> 2.0383 | N5: =AVERAGE(N3:N4) -> 15.9481 | O5: =AVERAGE(O3:O4) -> 0.0015 | P5: =AVERAGE(P3:P4) -> 0.0004 | Q5: =AVERAGE(Q3:Q4) -> 0.0019 | R5: =AVERAGE(R3:R4) -> 0.0001
B6: average | C6: =AVERAGE(C3:C5) -> 0.0001 | D6: =AVERAGE(D3:D5) -> 1.291 | E6: =AVERAGE(E3:E5) -> 15.003 | F6: =AVERAGE(F3:F5) -> 0.0012666667 | G6: =AVERAGE(G3:G5) -> 0.0004 | H6: =AVERAGE(H3:H5) -> 0.0016333333 | I6: =AVERAGE(I3:I5) -> 0.0001
B8: Fluorite pH4 with CS_Al_1100 | C8: Sq µm | D8: Ssk | E8: Sku | F8: Sp | G8: Sv | H8: Sz | I8: Sa | K8: Fluorite pH4 with CS_Al_500 | L8: Sq µm | M8: Ssk | N8: Sku | O8: Sp | P8: Sv | Q8: Sz | R8: Sa
B9: 52 | C9: 0.0002 | D9: -0.39689 | E9: 48.724 | F9: 0.0023 | G9: 0.0029 | H9: 0.0052 | I9: 0.0001 | K9: 131 | L9: 0.0001 | M9: -0.3302 | N9: 4.7563 | O9: 0.0015 | P9: 0.0007 | Q9: 0.0022 | R9: 0.0001
B10: 54 | C10: 0.0001 | D10: 0.1524 | E10: 3.6583 | F10: 0.0006 | G10: 0.0003 | H10: 0.0009 | I10: 0.0001 | K10: 132 | L10: 0.0001 | M10: 0.4091 | N10: 8.1044 | O10: 0.0017 | P10: 0.0004 | Q10: 0.0021 | R10: 0.0001
B11: 58 | C11: 0.0002 | D11: -0.0661 | E11: 3.5182 | F11: 0.0006 | G11: 0.0008 | H11: 0.0014 | I11: 0.0001 | K11: avegae | L11: =AVERAGE(L9:L10) -> 0.0001 | M11: =AVERAGE(M9:M10) -> 0.03945 | N11: =AVERAGE(N9:N10) -> 6.43035 | O11: =AVERAGE(O9:O10) -> 0.0016 | P11: =AVERAGE(P9:P10) -> 0.00055 | Q11: =AVERAGE(Q9:Q10) -> 0.00215 | R11: =AVERAGE(R9:R10) -> 0.0001
B12: average | C12: =AVERAGE(C9:C11) -> 0.00016666667 | D12: =AVERAGE(D9:D11) -> -0.10353 | E12: =AVERAGE(E9:E11) -> 18.6335 | F12: =AVERAGE(F9:F11) -> 0.0011666667 | G12: =AVERAGE(G9:G11) -> 0.0013333333 | H12: =AVERAGE(H9:H11) -> 0.0025 | I12: =AVERAGE(I9:I11) -> 0.0001
B14: Fluorite pH10 with CS_Al_1100 | C14: Sq µm | D14: Ssk | E14: Sku | F14: Sp | G14: Sv | H14: Sz | I14: Sa | K14: Fluorite pH4 with CS_Al_500 | L14: Sq µm | M14: Ssk | N14: Sku | O14: Sp | P14: Sv | Q14: Sz | R14: Sa
B15: 149 | C15: 0.0001 | D15: 0.5983 | E15: 9.7568 | F15: 0.0014 | G15: 0.0005 | H15: 0.0019 | I15: 0.0001 | K15: 37 | L15: 0.0001 | M15: 0.4602 | N15: 4.6776 | O15: 0.0008 | P15: 0.0004 | Q15: 0.0012 | R15: 0.0001
K16: 42 | L16: 0.0001 | M16: 0.2823 | N16: 4.0192 | O16: 0.0005 | P16: 0.0004 | Q16: 0.0009 | R16: 0.0001
K17: average | L17: =AVERAGE(L15:L16) -> 0.0001 | M17: =AVERAGE(M15:M16) -> 0.37125 | N17: =AVERAGE(N15:N16) -> 4.3484 | O17: =AVERAGE(O15:O16) -> 0.00065 | P17: =AVERAGE(P15:P16) -> 0.0004 | Q17: =AVERAGE(Q15:Q16) -> 0.00105 | R17: =AVERAGE(R15:R16) -> 0.0001
B18: average | C18: 0.0001 | D18: 0.5983 | E18: 9.7568 | F18: 0.0014 | G18: 0.0005 | H18: 0.0019 | I18: 0.0001
B20: Fluorite pH10 with CS_Al_1100 | C20: Sq µm | D20: Ssk | E20: Sku | F20: Sp | G20: Sv | H20: Sz | I20: Sa | K20: Fluorite pH4 with CS_Al_500 | L20: Sq µm | M20: Ssk | N20: Sku | O20: Sp | P20: Sv | Q20: Sz | R20: Sa
B21: 31 | C21: 0.0001 | D21: -0.6704 | E21: 4.5839 | F21: 0.0005 | G21: 0.0005 | H21: 0.001 | I21: 0 | K21: 114 | L21: 0.0001 | M21: 2.2762 | N21: 26.6885 | O21: 0.0011 | P21: 0.0003 | Q21: 0.0014 | R21: 0.0001
B22: 32 | C22: 0.0002 | D22: -3.0444 | E22: 17.0728 | F22: 0.0007 | G22: 0.0017 | H22: 0.0024 | I22: 0 | K22: 115 | L22: 0.0001 | M22: 0.4121 | N22: 5.5274 | O22: 0.0007 | P22: 0.0003 | Q22: 0.001 | R22: 0.0001
B23: 33 | C23: 0.0001 | D23: -0.7786 | E23: 12.2989 | F23: 0.001 | G23: 0.0007 | H23: 0.0016 | I23: 0 | K23: average | L23: =AVERAGE(L21:L22) -> 0.0001 | M23: =AVERAGE(M21:M22) -> 1.34415 | N23: =AVERAGE(N21:N22) -> 16.10795 | O23: =AVERAGE(O21:O22) -> 0.0009 | P23: =AVERAGE(P21:P22) -> 0.0003 | Q23: =AVERAGE(Q21:Q22) -> 0.0012 | R23: =AVERAGE(R21:R22) -> 0.0001
B24: average | C24: =AVERAGE(C21:C23) -> 0.00013333333 | D24: =AVERAGE(D21:D23) -> -1.4978 | E24: =AVERAGE(E21:E23) -> 11.318533 | F24: =AVERAGE(F21:F23) -> 0.00073333333 | G24: =AVERAGE(G21:G23) -> 0.00096666667 | H24: =AVERAGE(H21:H23) -> 0.0016666667 | I24: =AVERAGE(I21:I23) -> 0

Sheet Scheelite-CS
B2: Scheelite pH2 with CS_Al_1100 | C2: Sq µm | D2: Ssk | E2: Sku | F2: Sp | G2: Sv | H2: Sz | I2: Sa | K2: Scheelite pH2 with CS_Al_500 | L2: Sq µm | M2: Ssk | N2: Sku | O2: Sp | P2: Sv | Q2: Sz | R2: Sa
B3: 78 | C3: 0.0017 | D3: 5.6623 | E3: 67.0122 | F3: 0.0256 | G3: 0.0044 | H3: 0.0301 | I3: 0.001 | K3: 7 | L3: 0.0002 | M3: 1.1292 | N3: 11.0786 | O3: 0.0017 | P3: 0.0019 | Q3: 0.0036 | R3: 0.0001
B4: 79 | C4: 0.0012 | D4: 0.9513 | E4: 8.905 | F4: 0.0113 | G4: 0.0048 | H4: 0.016 | I4: 0.0009 | K4: 8 | L4: 0.0003 | M4: 10.5684 | N4: 126.29 | O4: 0.00081 | P4: 0.0014 | Q4: 0.0096 | R4: 0.0001
B5: 80 | C5: 0.0013 | D5: 0.0725 | E5: 4.8494 | F5: 0.0098 | G5: 0.0064 | H5: 0.0162 | I5: 0.001 | K5: 9 | L5: 0.0002 | M5: 1.18 | N5: 6.6503 | O5: 0.0013 | P5: 0.0008 | Q5: 0.0021 | R5: 0.0001
B6: average | C6: =AVERAGE(C3:C5) -> 0.0014 | D6: =AVERAGE(D3:D5) -> 2.2287 | E6: =AVERAGE(E3:E5) -> 26.9222 | F6: =AVERAGE(F3:F5) -> 0.015566667 | G6: =AVERAGE(G3:G5) -> 0.0052 | H6: =AVERAGE(H3:H5) -> 0.020766667 | I6: =AVERAGE(I3:I5) -> 0.00096666667 | K6: average | L6: =AVERAGE(L3:L5) -> 0.00023333333 | M6: =AVERAGE(M3:M5) -> 4.2925333 | N6: =AVERAGE(N3:N5) -> 48.0063 | O6: =AVERAGE(O3:O5) -> 0.00127 | P6: =AVERAGE(P3:P5) -> 0.0013666667 | Q6: =AVERAGE(Q3:Q5) -> 0.0051 | R6: =AVERAGE(R3:R5) -> 0.0001
B8: Scheelite pH4 with CS_Al_1100 | C8: Sq µm | D8: Ssk | E8: Sku | F8: Sp | G8: Sv | H8: Sz | I8: Sa | K8: Scheelite pH4 with CS_Al_500 | L8: Sq µm | M8: Ssk | N8: Sku | O8: Sp | P8: Sv | Q8: Sz | R8: Sa
B9: 40 | C9: 0 | D9: 8.0799 | E9: 136.8341 | F9: 0.0002 | G9: 0.0001 | H9: 0.0003 | I9: 0 | K9: 122 | L9: 0.0001 | M9: 1.4959 | N9: 6.9357 | O9: 0.001 | P9: 0.0003 | Q9: 0.0013 | R9: 0.0001
B10: 42 | C10: 0.0002 | D10: 7.8271 | E10: 93.8932 | F10: 0.003 | G10: 0.0011 | H10: 0.004 | I10: 0.0001 | K10: 123 | L10: 0.0001 | M10: 0.7885 | N10: 5.4988 | O10: 0.0009 | P10: 0.0006 | Q10: 0.0015 | R10: 0.0001
B11: 50 | C11: 0.0002 | D11: 3.2766 | E11: 53.0067 | F11: 0.0033 | G11: 0.002 | H11: 0.0053 | I11: 0.0001 | K11: 133 | L11: 0.0001 | M11: 1.1432 | N11: 9.8162 | O11: 0.0013 | P11: 0.0004 | Q11: 0.0018 | R11: 0.0001
B12: average | C12: =AVERAGE(C9:C11) -> 0.00013333333 | D12: =AVERAGE(D9:D11) -> 6.3945333 | E12: =AVERAGE(E9:E11) -> 94.578 | F12: =AVERAGE(F9:F11) -> 0.0021666667 | G12: =AVERAGE(G9:G11) -> 0.0010666667 | H12: =AVERAGE(H9:H11) -> 0.0032 | I12: =AVERAGE(I9:I11) -> 6.6666667e-05 | K12: average | L12: =AVERAGE(L9:L11) -> 0.0001 | M12: =AVERAGE(M9:M11) -> 1.1425333 | N12: =AVERAGE(N9:N11) -> 7.4169 | O12: =AVERAGE(O9:O11) -> 0.0010666667 | P12: =AVERAGE(P9:P11) -> 0.00043333333 | Q12: =AVERAGE(Q9:Q11) -> 0.0015333333 | R12: =AVERAGE(R9:R11) -> 0.0001
B14: Scheelite pH8 with CS_Al_1100 | C14: Sq µm | D14: Ssk | E14: Sku | F14: Sp | G14: Sv | H14: Sz | I14: Sa | K14: Scheelite pH8 with CS_Al_500 | L14: Sq µm | M14: Ssk | N14: Sku | O14: Sp | P14: Sv | Q14: Sz | R14: Sa
B15: 139 | C15: 0.0001 | D15: 4.7919 | E15: 150.254 | F15: 0.0033 | G15: 0.0006 | H15: 0.0039 | I15: 0.0001 | K15: 32 | L15: 0.0001 | M15: 1.4356 | N15: 10.0066 | O15: 0.0013 | P15: 0.0004 | Q15: 0.0017 | R15: 0.0001
B16: 144 | C16: 0.0001 | D16: -0.3053 | E16: 3.1477 | F16: 0.0002 | G16: 0.0003 | H16: 0.0005 | I16: 0 | K16: 34 | L16: 0.0001 | M16: 1.2412 | N16: 9.2441 | O16: 0.001 | P16: 0.0004 | Q16: 0.0014 | R16: 0.0001
B17: average | C17: =AVERAGE(C15:C16) -> 0.0001 | D17: =AVERAGE(D15:D16) -> 2.2433 | E17: =AVERAGE(E15:E16) -> 76.70085 | F17: =AVERAGE(F15:F16) -> 0.00175 | G17: =AVERAGE(G15:G16) -> 0.00045 | H17: =AVERAGE(H15:H16) -> 0.0022 | I17: =AVERAGE(I15:I16) -> 5e-05 | K17: 35 | L17: 0.0001 | M17: 0.6757 | N17: 5.7841 | O17: 0.001 | P17: 0.0005 | Q17: 0.0016 | R17: 0.0001
K18: average | L18: =AVERAGE(L15:L17) -> 0.0001 | M18: =AVERAGE(M15:M17) -> 1.1175 | N18: =AVERAGE(N15:N17) -> 8.3449333 | O18: =AVERAGE(O15:O17) -> 0.0011 | P18: =AVERAGE(P15:P17) -> 0.00043333333 | Q18: =AVERAGE(Q15:Q17) -> 0.0015666667 | R18: =AVERAGE(R15:R17) -> 0.0001
B20: Scheelite pH10 with CS_Al_1100 | C20: Sq µm | D20: Ssk | E20: Sku | F20: Sp | G20: Sv | H20: Sz | I20: Sa | K20: Scheelite pH10 with CS_Al_500 | L20: Sq µm | M20: Ssk | N20: Sku | O20: Sp | P20: Sv | Q20: Sz | R20: Sa
B21: 22 | C21: 0.0002 | D21: -3.5834 | E21: 25.8339 | F21: 0.0017 | G21: 0.0024 | H21: 0.0041 | I21: 0.0001 | K21: 103 | L21: 0.001 | M21: 0.0301 | N21: 4.9471 | O21: 0.0005 | P21: 0.0002 | Q21: 0.0007 | R21: 0
B22: 28 | C22: 0.0001 | D22: 1.4031 | E22: 22.5532 | F22: 0.0013 | G22: 0.0005 | H22: 0.0018 | I22: 0 | K22: 104 | L22: 0.001 | M22: 0.1914 | N22: 3.7183 | O22: 0.0004 | P22: 0.0002 | Q22: 0.0007 | R22: 0
B23: 29 | C23: 0.0001 | D23: -0.5149 | E23: 3.8136 | F23: 0.0003 | G23: 0.0004 | H23: 0.0007 | I23: 0 | K23: 105 | L23: 0.002 | M23: 6.917 | N23: 79.4022 | O23: 0.0026 | P23: 0.0005 | Q23: 0.003 | R23: 0.0001
B24: average | C24: =AVERAGE(C21:C23) -> 0.00013333333 | D24: =AVERAGE(D21:D23) -> -0.8984 | E24: =AVERAGE(E21:E23) -> 17.400233 | F24: =AVERAGE(F21:F23) -> 0.0011 | G24: =AVERAGE(G21:G23) -> 0.0011 | H24: =AVERAGE(H21:H23) -> 0.0022 | I24: =AVERAGE(I21:I23) -> 3.3333333e-05 | K24: average | L24: =AVERAGE(L21:L23) -> 0.0013333333 | M24: =AVERAGE(M21:M23) -> 2.3795 | N24: =AVERAGE(N21:N23) -> 29.355867 | O24: =AVERAGE(O21:O23) -> 0.0011666667 | P24: =AVERAGE(P21:P23) -> 0.0003 | Q24: =AVERAGE(Q21:Q23) -> 0.0014666667 | R24: =AVERAGE(R21:R23) -> 3.3333333e-05

Sheet Calcite-CS
B2: Calcite pH2 with CS_Al_1100 | C2: Sq µm | D2: Ssk | E2: Sku | F2: Sp | G2: Sv | H2: Sz | I2: Sa | K2: Calcite pH2 with CS_Al_500 | L2: Sq µm | M2: Ssk | N2: Sku | O2: Sp | P2: Sv | Q2: Sz | R2: Sa
B3: 75 | C3: 0.0013 | D3: 0.3879 | E3: 3.4393 | F3: 0.004 | G3: 0.0038 | H3: 0.0078 | I3: 0.001 | K3: 11 | L3: 0.0019 | M3: 0.6485 | N3: 6.4369 | O3: 0.0134 | P3: 0.0064 | Q3: 0.0197 | R3: 0.0015
B4: 76 | C4: 0.0014 | D4: 0.3703 | E4: 2.7012 | F4: 0.0039 | G4: 0.0038 | H4: 0.0077 | I4: 0.0011 | K4: 12 | L4: 0.0013 | M4: -0.1225 | N4: 3.374 | O4: 0.0045 | P4: 0.0059 | Q4: 0.0104 | R4: 0.001
B5: 77 | C5: 0.0014 | D5: -0.4017 | E5: 3.7424 | F5: 0.005 | G5: 0.0056 | H5: 0.0106 | I5: 0.0011 | K5: 13 | L5: 0.0009 | M5: -0.7115 | N5: 5.5426 | O5: 0.0032 | P5: 0.0048 | Q5: 0.008 | R5: 0.0006
B6: Average | C6: =AVERAGE(C3:C5) -> 0.0013666667 | D6: =AVERAGE(D3:D5) -> 0.11883333 | E6: =AVERAGE(E3:E5) -> 3.2943 | F6: =AVERAGE(F3:F5) -> 0.0043 | G6: =AVERAGE(G3:G5) -> 0.0044 | H6: =AVERAGE(H3:H5) -> 0.0087 | I6: =AVERAGE(I3:I5) -> 0.0010666667 | K6: average | L6: =AVERAGE(L3:L5) -> 0.0013666667 | M6: =AVERAGE(M3:M5) -> -0.061833333 | N6: =AVERAGE(N3:N5) -> 5.1178333 | O6: =AVERAGE(O3:O5) -> 0.0070333333 | P6: =AVERAGE(P3:P5) -> 0.0057 | Q6: =AVERAGE(Q3:Q5) -> 0.0127 | R6: =AVERAGE(R3:R5) -> 0.0010333333
B8: Calcite pH4 with CS_Al_1000 | C8: Sq µm | D8: Ssk | E8: Sku | F8: Sp | G8: Sv | H8: Sz | I8: Sa | K8: Calcite pH4 with CS_Al_500 | L8: Sq µm | M8: Ssk | N8: Sku | O8: Sp | P8: Sv | Q8: Sz | R8: Sa
B9: 37 | C9: 0.0018 | D9: -1.5343 | E9: 7.5208 | F9: 0.0046 | G9: 0.0109 | H9: 0.0154 | I9: 0.0013 | K9: 124 | L9: 0.0012 | M9: -0.4516 | N9: 4.1101 | O9: 0.0049 | P9: 0.0061 | Q9: 0.011 | R9: 0.0009
B10: 38 | C10: 0.0009 | D10: -1.5489 | E10: 11.1196 | F10: 0.0032 | G10: 0.0086 | H10: 0.0118 | I10: 0.0006 | K10: 125 | L10: 0.0022 | M10: -0.3117 | N10: 2.6878 | O10: 0.0053 | P10: 0.0065 | Q10: 0.0118 | R10: 0.0018
B11: 39 | C11: 0.0004 | D11: 0.2108 | E11: 5.0417 | F11: 0.0019 | G11: 0.0015 | H11: 0.0035 | I11: 0.0003 | K11: 134 | L11: 0.0111 | M11: -2.0844 | N11: 15.8285 | O11: 0.0433 | P11: 0.1332 | Q11: 0.1765 | R11: 0.007
B12: average | C12: =AVERAGE(C9,C10,C11) -> 0.0010333333 | D12: =AVERAGE(D9,D11) -> -0.66175 | E12: =AVERAGE(E9,E11) -> 6.28125 | F12: =AVERAGE(F9,F11) -> 0.00325 | G12: =AVERAGE(G9,G11) -> 0.0062 | H12: =AVERAGE(H9,H11) -> 0.00945 | I12: =AVERAGE(I9,I11) -> 0.0008 | K12: average | L12: =AVERAGE(L9:L10) -> 0.0017 | M12: =AVERAGE(M9:M10) -> -0.38165 | N12: =AVERAGE(N9:N10) -> 3.39895 | O12: =AVERAGE(O9:O10) -> 0.0051 | P12: =AVERAGE(P9:P10) -> 0.0063 | Q12: =AVERAGE(Q9:Q10) -> 0.0114 | R12: =AVERAGE(R9:R10) -> 0.00135
B14: Calcite pH8 with CS_Al_1100 | C14: Sq µm | D14: Ssk | E14: Sku | F14: Sp | G14: Sv | H14: Sz | I14: Sa | K14: Calcite pH8 with CS_Al_500 | L14: Sq µm | M14: Ssk | N14: Sku | O14: Sp | P14: Sv | Q14: Sz | R14: Sa
B15: 145 | C15: 0.0006 | D15: -2.7079 | E15: 21.8842 | F15: 0.0032 | G15: 0.0058 | H15: 0.009 | I15: 0.0004 | K15: 28 | L15: 0.0016 | M15: -0.2633 | N15: 3.7594 | O15: 0.0061 | P15: 0.0067 | Q15: 0.0127 | R15: 0.0012
B16: 146 | C16: 0.0005 | D16: -4.0152 | E16: 30.0036 | F16: 0.0014 | G16: 0.0045 | H16: 0.0059 | I16: 0.0003 | K16: 29 | L16: 0.0017 | M16: -0.3102 | N16: 2.8625 | O16: 0.0045 | P16: 0.0063 | Q16: 0.0108 | R16: 0.0014
B17: average | C17: =AVERAGE(C15:C16) -> 0.00055 | D17: =AVERAGE(D15:D16) -> -3.36155 | E17: =AVERAGE(E15:E16) -> 25.9439 | F17: =AVERAGE(F15:F16) -> 0.0023 | G17: =AVERAGE(G15:G16) -> 0.00515 | H17: =AVERAGE(H15:H16) -> 0.00745 | I17: =AVERAGE(I15:I16) -> 0.00035 | K17: 30 | L17: 0.0016 | M17: -0.7201 | N17: 3.9269 | O17: 0.0038 | P17: 0.0068 | Q17: 0.0106 | R17: 0.0012
K18: average | L18: =AVERAGE(L15:L17) -> 0.0016333333 | M18: =AVERAGE(M15:M17) -> -0.4312 | N18: =AVERAGE(N15:N17) -> 3.5162667 | O18: =AVERAGE(O15:O17) -> 0.0048 | P18: =AVERAGE(P15:P17) -> 0.0066 | Q18: =AVERAGE(Q15:Q17) -> 0.011366667 | R18: =AVERAGE(R15:R17) -> 0.0012666667
B19: Calcite pH10 with CS_Al_1000 | C19: Sq µm | D19: Ssk | E19: Sku | F19: Sp | G19: Sv | H19: Sz | I19: Sa
B20: 9 | C20: 0.0023 | D20: -0.8787 | E20: 3.7376 | F20: 0.0051 | G20: 0.0119 | H20: 0.017 | I20: 0.0018 | K20: Calcite pH10 with CS_Al_500 | L20: Sq µm | M20: Ssk | N20: Sku | O20: Sp | P20: Sv | Q20: Sz | R20: Sa
B21: 12 | C21: 0.001 | D21: -0.5618 | E21: 4.0597 | F21: 0.0031 | G21: 0.0062 | H21: 0.0093 | I21: 0.0008 | K21: 106 | L21: 0.0003 | M21: -2.1696 | N21: 17.1638 | O21: 0.0013 | P21: 0.0032 | Q21: 0.0045 | R21: 0.0002
B22: 30 | C22: 0.0013 | D22: -1.0995 | E22: 6.3338 | F22: 0.0032 | G22: 0.0081 | H22: 0.0112 | I22: 0.0009 | K22: 108 | L22: 0.0003 | M22: -1.4087 | N22: 11.3726 | O22: 0.0014 | P22: 0.0025 | Q22: 0.0039 | R22: 0.0002
B23: average | C23: =AVERAGE(C20:C22) -> 0.0015333333 | D23: =AVERAGE(D20:D22) -> -0.84666667 | E23: =AVERAGE(E20:E22) -> 4.7103667 | F23: =AVERAGE(F20:F22) -> 0.0038 | G23: =AVERAGE(G20:G22) -> 0.0087333333 | H23: =AVERAGE(H20:H22) -> 0.0125 | I23: =AVERAGE(I20:I22) -> 0.0011666667 | K23: 107 | L23: 0.0003 | M23: -1.5597 | N23: 9.6102 | O23: 0.0009 | P23: 0.0025 | Q23: 0.0035 | R23: 0.0002
K24: average | L24: =AVERAGE(L21:L23) -> 0.0003 | M24: =AVERAGE(M21:M23) -> -1.7126667 | N24: =AVERAGE(N21:N23) -> 12.715533 | O24: =AVERAGE(O21:O23) -> 0.0012 | P24: =AVERAGE(P21:P23) -> 0.0027333333 | Q24: =AVERAGE(Q21:Q23) -> 0.0039666667 | R24: =AVERAGE(R21:R23) -> 0.0002

Sheet Apatite-CS
B2: Apatite pH2 with CS_Al_1100 | C2: Sq µm | D2: Ssk | E2: Sku | F2: Sp | G2: Sv | H2: Sz | I2: Sa | K2: Apatite pH2 with CS_Al_500 | L2: Sq µm | M2: Ssk | N2: Sku | O2: Sp | P2: Sv | Q2: Sz | R2: Sa
B3: 88 | C3: 0.0048 | D3: -0.4054 | E3: 3.8612 | F3: 0.0132 | G3: 0.0218 | H3: 0.035 | I3: 0.0036 | K3: 21 | L3: 0.0164 | M3: -0.611 | N3: 4.1495 | O3: 0.0625 | P3: 0.0707 | Q3: 0.1332 | R3: 0.0123
B4: 90 | C4: 0.0056 | D4: 0.1159 | E4: 3.8941 | F4: 0.0229 | G4: 0.0243 | H4: 0.0472 | I4: 0.0043 | K4: 22 | L4: 0.0151 | M4: 0.1197 | N4: 3.8532 | O4: 0.0528 | P4: 0.0599 | Q4: 0.1127 | R4: 0.0116
B5: 91 | C5: 0.0071 | D5: 0.1331 | E5: 4.3955 | F5: 0.0285 | G5: 0.0286 | H5: 0.0571 | I5: 0.0051 | K5: 23 | L5: 0.0128 | M5: -0.4489 | N5: 5.5812 | O5: 0.0438 | P5: 0.0607 | Q5: 0.1045 | R5: 0.0088
B6: Average | C6: =AVERAGE(C3:C5) -> 0.0058333333 | D6: =AVERAGE(D3:D5) -> -0.052133333 | E6: =AVERAGE(E3:E5) -> 4.0502667 | F6: =AVERAGE(F3:F5) -> 0.021533333 | G6: =AVERAGE(G3:G5) -> 0.0249 | H6: =AVERAGE(H3:H5) -> 0.046433333 | I6: =AVERAGE(I3:I5) -> 0.0043333333 | K6: average | L6: =AVERAGE(L3:L5) -> 0.014766667 | M6: =AVERAGE(M3:M5) -> -0.3134 | N6: =AVERAGE(N3:N5) -> 4.5279667 | O6: =AVERAGE(O3:O5) -> 0.053033333 | P6: =AVERAGE(P3:P5) -> 0.063766667 | Q6: =AVERAGE(Q3:Q5) -> 0.1168 | R6: =AVERAGE(R3:R5) -> 0.0109
B8: Apatite pH4 with CS_Al_1100 | C8: Sq µm | D8: Ssk | E8: Sku | F8: Sp | G8: Sv | H8: Sz | I8: Sa | K8: Apatite pH4 with CS_Al_500 | L8: Sq µm | M8: Ssk | N8: Sku | O8: Sp | P8: Sv | Q8: Sz | R8: Sa
B9: 61 | C9: 0.0143 | D9: -0.8207 | E9: 3.8646 | F9: 0.0393 | G9: 0.0559 | H9: 0.0952 | I9: 0.011 | K9: 128 | L9: 0.0176 | M9: -1.6656 | N9: 9.5858 | O9: 0.0454 | P9: 0.1199 | Q9: 0.1652 | R9: 0.0126
B10: 62 | C10: 0.0156 | D10: -0.9672 | E10: 4.3361 | F10: 0.0366 | G10: 0.0607 | H10: 0.0973 | I10: 0.0118 | K10: 129 | L10: 0.0135 | M10: -0.3568 | N10: 4.8358 | O10: 0.0696 | P10: 0.0577 | Q10: 0.1274 | R10: 0.0097
B11: 63 | C11: 0.0107 | D11: -1.1012 | E11: 5.6857 | F11: 0.0262 | G11: 0.0627 | H11: 0.0889 | I11: 0.0081 | K11: 130 | L11: 0.0118 | M11: -1.1357 | N11: 5.6539 | O11: 0.0304 | P11: 0.0619 | Q11: 0.0923 | R11: 0.0087
B12: Average | C12: =AVERAGE(C9:C11) -> 0.013533333 | D12: =AVERAGE(D9:D11) -> -0.96303333 | E12: =AVERAGE(E9:E11) -> 4.6288 | F12: =AVERAGE(F9:F11) -> 0.034033333 | G12: =AVERAGE(G9:G11) -> 0.059766667 | H12: =AVERAGE(H9:H11) -> 0.0938 | I12: =AVERAGE(I9:I11) -> 0.0103 | K12: average | L12: =AVERAGE(L9:L11) -> 0.0143 | M12: =AVERAGE(M9:M11) -> -1.0527 | N12: =AVERAGE(N9:N11) -> 6.6918333 | O12: =AVERAGE(O9:O11) -> 0.048466667 | P12: =AVERAGE(P9:P11) -> 0.079833333 | Q12: =AVERAGE(Q9:Q11) -> 0.1283 | R12: =AVERAGE(R9:R11) -> 0.010333333
B14: Apatite pH8 with CS_Al_1100 | C14: Sq µm | D14: Ssk | E14: Sku | F14: Sp | G14: Sv | H14: Sz | I14: Sa | K14: Apatite pH8 with CS_Al_500 | L14: Sq µm | M14: Ssk | N14: Sku | O14: Sp | P14: Sv | Q14: Sz | R14: Sa
B15: 147 | C15: 0.0226 | D15: -0.5513 | E15: 3.4765 | F15: 0.0548 | G15: 0.0873 | H15: 0.1421 | I15: 0.0175 | K15: 45 | L15: 0.0147 | M15: -0.5051 | N15: 3.618 | O15: 0.0398 | P15: 0.0627 | Q15: 0.1025 | R15: 0.0115
B16: 148 | C16: 0.016 | D16: -0.3559 | E16: 4.8237 | F16: 0.0514 | G16: 0.0793 | H16: 0.1307 | I16: 0.0114 | K16: 46 | L16: 0.0077 | M16: -1.2098 | N16: 6.6397 | O16: 0.023 | P16: 0.0544 | Q16: 0.0774 | R16: 0.0055
B17: Average | C17: =AVERAGE(C15:C16) -> 0.0193 | D17: =AVERAGE(D15:D16) -> -0.4536 | E17: =AVERAGE(E15:E16) -> 4.1501 | F17: =AVERAGE(F15:F16) -> 0.0531 | G17: =AVERAGE(G15:G16) -> 0.0833 | H17: =AVERAGE(H15:H16) -> 0.1364 | I17: =AVERAGE(I15:I16) -> 0.01445 | K17: 47 | L17: 0.0151 | M17: -1.7716 | N17: 7.2088 | O17: 0.0274 | P17: 0.0718 | Q17: 0.0993 | R17: 0.0107
K18: average | L18: =AVERAGE(L15:L17) -> 0.0125 | M18: =AVERAGE(M15:M17) -> -1.1621667 | N18: =AVERAGE(N15:N17) -> 5.8221667 | O18: =AVERAGE(O15:O17) -> 0.030066667 | P18: =AVERAGE(P15:P17) -> 0.062966667 | Q18: =AVERAGE(Q15:Q17) -> 0.093066667 | R18: =AVERAGE(R15:R17) -> 0.0092333333
B20: Apatite pH10 with CS_Al_1100 | C20: Sq µm | D20: Ssk | E20: Sku | F20: Sp | G20: Sv | H20: Sz | I20: Sa | K20: Apatite pH10 with CS_Al_500 | L20: Sq µm | M20: Ssk | N20: Sku | O20: Sp | P20: Sv | Q20: Sz | R20: Sa
B21: 5 | C21: 0.0042 | D21: -0.8078 | E21: 11.7367 | F21: 0.0254 | G21: 0.0271 | H21: 0.0525 | I21: 0.0024 | K21: 111 | L21: 0.1425 | M21: -0.2557 | N21: 2.7919 | O21: 0.383 | P21: 0.5601 | Q21: 0.9432 | R21: 0.1134
B22: 6 | C22: 0.0084 | D22: -0.2481 | E22: 3.7959 | F22: 0.0319 | G22: 0.0316 | H22: 0.0635 | I22: 0.0063 | K22: 112 | L22: 0.0146 | M22: -0.0583 | N22: 3.5804 | O22: 0.0524 | P22: 0.0575 | Q22: 0.1099 | R22: 0.0111
B23: 8 | C23: 0.0023 | D23: -1.7164 | E23: 8.8311 | F23: 0.0076 | G23: 0.0134 | H23: 0.021 | I23: 0.0014 | K23: 113 | L23: 0.0089 | M23: -0.6838 | N23: 3.7388 | O23: 0.0219 | P23: 0.0383 | Q23: 0.0602 | R23: 0.0069
B24: Average | C24: =AVERAGE(C21:C23) -> 0.0049666667 | D24: =AVERAGE(D21:D23) -> -0.9241 | E24: =AVERAGE(E21:E23) -> 8.1212333 | F24: =AVERAGE(F21:F23) -> 0.021633333 | G24: =AVERAGE(G21:G23) -> 0.024033333 | H24: =AVERAGE(H21:H23) -> 0.045666667 | I24: =AVERAGE(I21:I23) -> 0.0033666667 | K24: average | L24: =AVERAGE(L21:L23) -> 0.055333333 | M24: =AVERAGE(M21:M23) -> -0.3326 | N24: =AVERAGE(N21:N23) -> 3.3703667 | O24: =AVERAGE(O21:O23) -> 0.15243333 | P24: =AVERAGE(P21:P23) -> 0.21863333 | Q24: =AVERAGE(Q21:Q23) -> 0.3711 | R24: =AVERAGE(R21:R23) -> 0.0438

Sheet Calcite
B1: Calcite (natural pH) | C1: Sq µm | D1: Ssk | E1: Sku | F1: Sp | G1: Sv | H1: Sz | I1: Sa
B2: 21 | C2: 0.0034 | D2: -1.2647 | E2: 5.7369 | F2: 0.01 | G2: 0.0191 | H2: 0.0291 | I2: 0.0024
B3: 26 | C3: 0.0067 | D3: -2.3237 | E3: 12.8101 | F3: 0.0256 | G3: 0.0564 | H3: 0.082 | I3: 0.0044
B4: 23 | C4: 0.0043 | D4: -0.9107 | E4: 3.5183 | F4: 0.0111 | G4: 0.0198 | H4: 0.0309 | I4: 0.0035
B5: Average | C5: =AVERAGE(C2:C4) -> 0.0048 | D5: =AVERAGE(D2:D4) -> -1.4997 | E5: =AVERAGE(E2:E4) -> 7.3551 | F5: =AVERAGE(F2:F4) -> 0.015566667 | G5: =AVERAGE(G2:G4) -> 0.031766667 | H5: =AVERAGE(H2:H4) -> 0.047333333 | I5: =AVERAGE(I2:I4) -> 0.0034333333
B6: std | C6: =STDEV(C2:C4) -> 0.0017058722 | D6: =STDEV(D2:D4) -> 0.73522854 | E6: =STDEV(E2:E4) -> 4.8526606 | F6: =STDEV(F2:F4) -> 0.008706511 | G6: =STDEV(G2:G4) -> 0.021335963 | H6: =STDEV(H2:H4) -> 0.030035701 | I6: =STDEV(I2:I4) -> 0.0010016653
B7: Calcite (pH2) | C7: Sq µm | D7: Ssk | E7: Sku | F7: Sp | G7: Sv | H7: Sz | I7: Sa
B8: 26 | C8: 0.0009 | D8: 0.1096 | E8: 3.4994 | F8: 0.0042 | G8: 0.0038 | H8: 0.0079 | I8: 0.0007
B9: 27 | C9: 0.001 | D9: 0.0339 | E9: 2.3565 | F9: 0.0029 | G9: 0.0029 | H9: 0.0058 | I9: 0.0008
B10: 28 | C10: 0.0008 | D10: -0.4951 | E10: 3.3839 | F10: 0.0028 | G10: 0.0031 | H10: 0.0059 | I10: 0.0006
B11: Average | C11: =AVERAGE(C8:C10) -> 0.0009 | D11: =AVERAGE(D8:D10) -> -0.1172 | E11: =AVERAGE(E8:E10) -> 3.0799333 | F11: =AVERAGE(F8:F10) -> 0.0033 | G11: =AVERAGE(G8:G10) -> 0.0032666667 | H11: =AVERAGE(H8:H10) -> 0.0065333333 | I11: =AVERAGE(I8:I10) -> 0.0007
B12: std | C12: =STDEV(C8:C10) -> 0.0001 | D12: =STDEV(D8:D10) -> 0.32945247 | E12: =STDEV(E8:E10) -> 0.62916763 | F12: =STDEV(F8:F10) -> 0.00078102497 | G12: =STDEV(G8:G10) -> 0.00047258156 | H12: =STDEV(H8:H10) -> 0.0011846237 | I12: =STDEV(I8:I10) -> 0.0001
B13: Calcite (pH4) | C13: Sq µm | D13: Ssk | E13: Sku | F13: Sp | G13: Sv | H13: Sz | I13: Sa
B14: 32 | C14: 0.0009 | D14: -2.1524 | E14: 13.4115 | F14: 0.003 | G14: 0.0072 | H14: 0.0102 | I14: 0.0005
B15: 34 | C15: 0.0019 | D15: -1.1407 | E15: 7.3832 | F15: 0.0058 | G15: 0.0127 | H15: 0.0185 | I15: 0.0014
B16: 35 | C16: 0.0007 | D16: -1.3606 | E16: 12.1843 | F16: 0.0024 | G16: 0.0063 | H16: 0.0087 | I16: 0.0005
B17: Average | C17: =AVERAGE(C14:C16) -> 0.0011666667 | D17: =AVERAGE(D14:D16) -> -1.5512333 | E17: =AVERAGE(E14:E16) -> 10.993 | F17: =AVERAGE(F14:F16) -> 0.0037333333 | G17: =AVERAGE(G14:G16) -> 0.0087333333 | H17: =AVERAGE(H14:H16) -> 0.012466667 | I17: =AVERAGE(I14:I16) -> 0.0008
B18: std | C18: =STDEV(C14:C16) -> 0.00064291005 | D18: =STDEV(D14:D16) -> 0.53210903 | E18: =STDEV(E14:E16) -> 3.1858275 | F18: =STDEV(F14:F16) -> 0.0018147543 | G18: =STDEV(G14:G16) -> 0.0034645827 | H18: =STDEV(H14:H16) -> 0.005278573 | I18: =STDEV(I14:I16) -> 0.00051961524
B19: Calcite (pH6) | C19: Sq µm | D19: Ssk | E19: Sku | F19: Sp | G19: Sv | H19: Sz | I19: Sa
B20: 17 | C20: 0.0033 | D20: -1.5447 | E20: 8.6083 | F20: 0.0092 | G20: 0.023 | H20: 0.0322 | I20: 0.0023
B21: 18 | C21: 0.0011 | D21: -2.56 | E21: 17.5461 | F21: 0.0025 | G21: 0.0103 | H21: 0.0128 | I21: 0.0007
B22: 19 | C22: 0.0016 | D22: -0.6311 | E22: 5.3851 | F22: 0.0111 | G22: 0.0096 | H22: 0.0207 | I22: 0.0011
B23: Average | C23: =AVERAGE(C20:C22) -> 0.002 | D23: =AVERAGE(D20:D22) -> -1.5786 | E23: =AVERAGE(E20:E22) -> 10.513167 | F23: =AVERAGE(F20:F22) -> 0.0076 | G23: =AVERAGE(G20:G22) -> 0.0143 | H23: =AVERAGE(H20:H22) -> 0.0219 | I23: =AVERAGE(I20:I22) -> 0.0013666667
B24: std | C24: =STDEV(C20:C22) -> 0.0011532563 | D24: =STDEV(D20:D22) -> 0.96489674 | E24: =STDEV(E20:E22) -> 6.300307 | F24: =STDEV(F20:F22) -> 0.0045177428 | G24: =STDEV(G20:G22) -> 0.007542546 | H24: =STDEV(H20:H22) -> 0.0097555113 | I24: =STDEV(I20:I22) -> 0.0008326664
B25: Calcite (pH8) | C25: Sq µm | D25: Ssk | E25: Sku | F25: Sp | G25: Sv | H25: Sz | I25: Sa
B26: 1 | C26: 0.0007 | D26: -4.3941 | E26: 40.6687 | F26: 0.0025 | G26: 0.0103 | H26: 0.0128 | I26: 0.0004
B27: 3 | C27: 0.0017 | D27: 0.0954 | E27: 5.4406 | F27: 0.0061 | G27: 0.008 | H27: 0.0141 | I27: 0.0012
B28: 4 | C28: 0.0011 | D28: -1.7506 | E28: 9.854 | F28: 0.0033 | G28: 0.0073 | H28: 0.0105 | I28: 0.0007
B29: Average | C29: =AVERAGE(C26:C28) -> 0.0011666667 | D29: =AVERAGE(D26:D28) -> -2.0164333 | E29: =AVERAGE(E26:E28) -> 18.654433 | F29: =AVERAGE(F26:F28) -> 0.0039666667 | G29: =AVERAGE(G26:G28) -> 0.0085333333 | H29: =AVERAGE(H26:H28) -> 0.012466667 | I29: =AVERAGE(I26:I28) -> 0.00076666667
B30: std | C30: =STDEV(C26:C28) -> 0.0005033223 | D30: =STDEV(D26:D28) -> 2.2565246 | E30: =STDEV(E26:E28) -> 19.192198 | F30: =STDEV(F26:F28) -> 0.0018903263 | G30: =STDEV(G26:G28) -> 0.001569501 | H30: =STDEV(H26:H28) -> 0.0018230012 | I30: =STDEV(I26:I28) -> 0.00040414519
B31: Calcite (pH10) | C31: Sq µm | D31: Ssk | E31: Sku | F31: Sp | G31: Sv | H31: Sz | I31: Sa
B32: 2 | C32: 0.0015 | D32: 0.3722 | E32: 5.8796 | F32: 0.0098 | G32: 0.0063 | H32: 0.016 | I32: 0.0011
B33: 6 | C33: 0.0009 | D33: 0.1248 | E33: 3.3625 | F33: 0.0037 | G33: 0.0035 | H33: 0.0072 | I33: 0.0007
B34: 10 | C34: 0.0015 | D34: 0.0388 | E34: 2.7457 | F34: 0.005 | G34: 0.0048 | H34: 0.0099 | I34: 0.0013
B35: Average | C35: =AVERAGE(C32:C34) -> 0.0013 | D35: =AVERAGE(D32:D34) -> 0.1786 | E35: =AVERAGE(E32:E34) -> 3.9959333 | F35: =AVERAGE(F32:F34) -> 0.0061666667 | G35: =AVERAGE(G32:G34) -> 0.0048666667 | H35: =AVERAGE(H32:H34) -> 0.011033333 | I35: =AVERAGE(I32:I34) -> 0.0010333333
B36: std | C36: =STDEV(C32:C34) -> 0.00034641016 | D36: =STDEV(D32:D34) -> 0.17308876 | E36: =STDEV(E32:E34) -> 1.660199 | F36: =STDEV(F32:F34) -> 0.0032129944 | G36: =STDEV(G32:G34) -> 0.00140119 | H36: =STDEV(H32:H34) -> 0.0045081408 | I36: =STDEV(I32:I34) -> 0.00030550505
B37: pH | C37: Sq Average (µm)
B38: Natural | C38: 0.0048
B39: 2 | C39: 0.0009
B40: 4 | C40: 0.0012
...

Sheet Fluorite
B1: Fluorite (natural) | C1: Sq µm | D1: Ssk | E1: Sku | F1: Sp | G1: Sv | H1: Sz | I1: Sa
B2: 13 | C2: 0.0001 | D2: -0.2449 | E2: 10.6868 | F2: 0.0014 | G2: 0.0005 | H2: 0.0019 | I2: 0.0001
B3: 14 | C3: 0.0001 | D3: 3.9778 | E3: 43.8962 | F3: 0.002 | G3: 0.0006 | H3: 0.0025 | I3: 0.0001
B4: 17 | C4: 0.0001 | D4: -0.265 | E4: 10.9238 | F4: 0.0015 | G4: 0.0006 | H4: 0.0022 | I4: 0.0001
B5: Average | C5: =AVERAGE(C2:C4) -> 0.0001 | D5: =AVERAGE(D2:D4) -> 1.1559667 | E5: =AVERAGE(E2:E4) -> 21.8356 | F5: =AVERAGE(F2:F4) -> 0.0016333333 | G5: =AVERAGE(G2:G4) -> 0.00056666667 | H5: =AVERAGE(H2:H4) -> 0.0022 | I5: =AVERAGE(I2:I4) -> 0.0001
B6: std | C6: =STDEV(C2:C4) -> 0 | D6: =STDEV(D2:D4) -> 2.4438 | E6: =STDEV(E2:E4) -> 19.105408 | F6: =STDEV(F2:F4) -> 0.00032145503 | G6: =STDEV(G2:G4) -> 5.7735027e-05 | H6: =STDEV(H2:H4) -> 0.0003 | I6: =STDEV(I2:I4) -> 0
B7: Fluorite (pH2) | C7: Sq µm | D7: Ssk | E7: Sku | F7: Sp | G7: Sv | H7: Sz | I7: Sa
B8: 36 | C8: 0.0002 | D8: 1.8048 | E8: 20.672 | F8: 0.0022 | G8: 0.001 | H8: 0.0032 | I8: 0.0001
B9: 37 | C9: 0.0001 | D9: 0.0567 | E9: 3.5531 | F9: 0.0011 | G9: 0.0005 | H9: 0.0016 | I9: 0.0001
B10: 35 | C10: 0.0003 | D10: -0.8613 | E10: 111.0663 | F10: 0.004 | G10: 0.005 | H10: 0.009 | I10: 0.0001
B11: Average | C11: =AVERAGE(C8:C10) -> 0.0002 | D11: =AVERAGE(D8:D10) -> 0.3334 | E11: =AVERAGE(E8:E10) -> 45.097133 | F11: =AVERAGE(F8:F10) -> 0.0024333333 | G11: =AVERAGE(G8:G10) -> 0.0021666667 | H11: =AVERAGE(H8:H10) -> 0.0046 | I11: =AVERAGE(I8:I10) -> 0.0001
B12: std | C12: =STDEV(C8:C10) -> 0.0001 | D12: =STDEV(D8:D10) -> 1.3544167 | E12: =STDEV(E8:E10) -> 57.768611 | F12: =STDEV(F8:F10) -> 0.0014640128 | G12: =STDEV(G8:G10) -> 0.0024664414 | H12: =STDEV(H8:H10) -> 0.0038935845 | I12: =STDEV(I8:I10) -> 0
B13: Fluorite (pH4) | C13: Sq µm | D13: Ssk | E13: Sku | F13: Sp | G13: Sv | H13: Sz | I13: Sa
B14: 39 | C14: 0.0002 | D14: -1.2141 | E14: 15.1614 | F14: 0.0026 | G14: 0.0012 | H14: 0.0037 | I14: 0.0001
B15: 40 | C15: 0.0001 | D15: 2.1564 | E15: 24.2742 | F15: 0.0017 | G15: 0.0004 | H15: 0.0022 | I15: 0.0001
B16: Average | C16: =AVERAGE(C14:C15) -> 0.00015 | D16: =AVERAGE(D14:D15) -> 0.47115 | E16: =AVERAGE(E14:E15) -> 19.7178 | F16: =AVERAGE(F14:F15) -> 0.00215 | G16: =AVERAGE(G14:G15) -> 0.0008 | H16: =AVERAGE(H14:H15) -> 0.00295 | I16: =AVERAGE(I14:I15) -> 0.0001
B17: std | C17: =STDEV(C13:C15) -> 7.0710678e-05 | D17: =STDEV(D13:D15) -> 2.3833034 | E17: =STDEV(E13:E15) -> 6.4437227 | F17: =STDEV(F13:F15) -> 0.0006363961 | G17: =STDEV(G13:G15) -> 0.00056568542 | H17: =STDEV(H13:H15) -> 0.0010606602 | I17: =STDEV(I13:I15) -> 0
B18: Fluorite (pH6) | C18: Sq µm | D18: Ssk | E18: Sku | F18: Sp | G18: Sv | H18: Sz | I18: Sa
B19: 29 | C19: 0.0001 | D19: 3.7597 | E19: 89.4259 | F19: 0.0029 | G19: 0.0004 | H19: 0.0033 | I19: 0.0001
B20: 30 | C20: 0.0001 | D20: 3.7597 | E20: 89.4259 | F20: 0.0029 | G20: 0.0004 | H20: 0.0033 | I20: 0.0001
B21: 31 | C21: 0.0001 | D21: -0.1231 | E21: 4.6628 | F21: 0.001 | G21: 0.0004 | H21: 0.0014 | I21: 0.0001
B22: Average | C22: =AVERAGE(C19:C21) -> 0.0001 | D22: =AVERAGE(D19:D21) -> 2.4654333 | E22: =AVERAGE(E19:E21) -> 61.171533 | F22: =AVERAGE(F19:F21) -> 0.0022666667 | G22: =AVERAGE(G19:G21) -> 0.0004 | H22: =AVERAGE(H19:H21) -> 0.0026666667 | I22: =AVERAGE(I19:I21) -> 0.0001
B23: std | C23: =STDEV(C19:C21) -> 0 | D23: =STDEV(D19:D21) -> 2.2417356 | E23: =STDEV(E19:E21) -> 48.937999 | F23: =STDEV(F19:F21) -> 0.0010969655 | G23: =STDEV(G19:G21) -> 0 | H23: =STDEV(H19:H21) -> 0.0010969655 | I23: =STDEV(I19:I21) -> 0
B24: Fluorite (pH8) | C24: Sq µm | D24: Ssk | E24: Sku | F24: Sp | G24: Sv | H24: Sz | I24: Sa
B25: 15 | C25: 0.0001 | D25: -0.1577 | E25: 4.8038 | F25: 0.0012 | G25: 0.0005 | H25: 0.0016 | I25: 0.0001
B26: 10 | C26: 0.0001 | D26: -0.2948 | E26: 3.7246 | F26: 0.0007 | G26: 0.0006 | H26: 0.0013 | I26: 0.0001
B27: 9 | C27: 0.0001 | D27: -7.9083 | E27: 145.3158 | F27: 0.0008 | G27: 0.0037 | H27: 0.0044 | I27: 0.0001
B28: Average | C28: =AVERAGE(C25:C27) -> 0.0001 | D28: =AVERAGE(D25:D27) -> -2.7869333 | E28: =AVERAGE(E25:E27) -> 51.2814 | F28: =AVERAGE(F25:F27) -> 0.0009 | G28: =AVERAGE(G25:G27) -> 0.0016 | H28: =AVERAGE(H25:H27) -> 0.0024333333 | I28: =AVERAGE(I25:I27) -> 0.0001
B29: std | C29: =STDEV(C25:C27) -> 0 | D29: =STDEV(D25:D27) -> 4.4357634 | E29: =STDEV(E25:E27) -> 81.437967 | F29: =STDEV(F25:F27) -> 0.00026457513 | G29: =STDEV(G25:G27) -> 0.0018193405 | H29: =STDEV(H25:H27) -> 0.0017097758 | I29: =STDEV(I25:I27) -> 0
B30: Fluorite (pH10) | C30: Sq µm | D30: Ssk | E30: Sku | F30: Sp | G30: Sv | H30: Sz | I30: Sa
B31: 5 | C31: 0.0001 | D31: -0.0731 | E31: 3.5987 | F31: 0.0011 | G31: 0.0007 | H31: 0.0017 | I31: 0.0001
B32: 6 | C32: 0.0001 | D32: 0.5998 | E32: 4.8213 | F32: 0.0008 | G32: 0.0004 | H32: 0.0012 | I32: 0.0001
B33: 9 | C33: 0.0001 | D33: 1.1883 | E33: 12.9484 | F33: 0.0012 | G33: 0.0004 | H33: 0.0016 | I33: 0.0001
B34: Average | C34: =AVERAGE(C31:C33) -> 0.0001 | D34: =AVERAGE(D31:D33) -> 0.57166667 | E34: =AVERAGE(E31:E33) -> 7.1228 | F34: =AVERAGE(F31:F33) -> 0.0010333333 | G34: =AVERAGE(G31:G33) -> 0.0005 | H34: =AVERAGE(H31:H33) -> 0.0015 | I34: =AVERAGE(I31:I33) -> 0.0001
B35: std | C35: =STDEV(C31:C33) -> 0 | D35: =STDEV(D31:D33) -> 0.63117042 | E35: =STDEV(E31:E33) -> 5.0820172 | F35: =STDEV(F31:F33) -> 0.0002081666 | G35: =STDEV(G31:G33) -> 0.00017320508 | H35: =STDEV(H31:H33) -> 0.00026457513 | I35: =STDEV(I31:I33) -> 0
B36: pH | C36: Av.Sq (µm)
B37: Natural | C37: 0.0001
B38: 2 | C38: 0.0002
B39: 4 | C39: 0.0002
B40: 6 | C40: 0.0001
...

Sheet Scheelite
B1: Scheelite (natural) | C1: Sq µm | D1: Ssk | E1: Sku | F1: Sp | G1: Sv | H1: Sz | I1: Sa
B2: 3 | C2: 0.0001 | D2: -1.2766 | E2: 10.7543 | F2: 0.0013 | G2: 0.0008 | H2: 0.0022 | I2: 0.0001
B3: 13 | C3: 0.0001 | D3: 4.7988 | E3: 159.636 | F3: 0.0031 | G3: 0.0004 | H3: 0.0035 | I3: 0.0001
B4: 11 | C4: 0.0001 | D4: 9.9914 | E4: 325.6111 | F4: 0.0046 | G4: 0.0005 | H4: 0.0051 | I4: 0.0001
B5: Average | C5: =AVERAGE(C2:C4) -> 0.0001 | D5: =AVERAGE(D2:D4) -> 4.5045333 | E5: =AVERAGE(E2:E4) -> 165.3338 | F5: =AVERAGE(F2:F4) -> 0.003 | G5: =AVERAGE(G2:G4) -> 0.00056666667 | H5: =AVERAGE(H2:H4) -> 0.0036 | I5: =AVERAGE(I2:I4) -> 0.0001
B6: std | C6: =STDEV(C2:C4) -> 0 | D6: =STDEV(D2:D4) -> 5.6397607 | E6: =STDEV(E2:E4) -> 157.50571 | F6: =STDEV(F2:F4) -> 0.0016522712 | G6: =STDEV(G2:G4) -> 0.0002081666 | H6: =STDEV(H2:H4) -> 0.0014525839 | I6: =STDEV(I2:I4) -> 0
B7: Scheelite (pH2) | C7: Sq µm | D7: Ssk | E7: Sku | F7: Sp | G7: Sv | H7: Sz | I7: Sa
B8: 30 | C8: 0.0001 | D8: 2.7389 | E8: 68.8122 | F8: 0.0021 | G8: 0.0008 | H8: 0.003 | I8: 0.0001
B9: 29 | C9: 0.0001 | D9: 3.6091 | E9: 67.0796 | F9: 0.0019 | G9: 0.0003 | H9: 0.0022 | I9: 0.0001
B10: 31 | C10: 0.0001 | D10: 11.0037 | E10: 219.8047 | F10: 0.0035 | G10: 0.0006 | H10: 0.004 | I10: 0.0001
B11: Average | C11: =AVERAGE(C8:C10) -> 0.0001 | D11: =AVERAGE(D8:D10) -> 5.7839 | E11: =AVERAGE(E8:E10) -> 118.5655 | F11: =AVERAGE(F8:F10) -> 0.0025 | G11: =AVERAGE(G8:G10) -> 0.00056666667 | H11: =AVERAGE(H8:H10) -> 0.0030666667 | I11: =AVERAGE(I8:I10) -> 0.0001
B12: std | C12: =STDEV(C8:C10) -> 0 | D12: =STDEV(D8:D10) -> 4.5413705 | E12: =STDEV(E8:E10) -> 87.679999 | F12: =STDEV(F8:F10) -> 0.00087177979 | G12: =STDEV(G8:G10) -> 0.00025166115 | H12: =STDEV(H8:H10) -> 0.00090184995 | I12: =STDEV(I8:I10) -> 0
B13: Scheelite (pH4) | C13: Sq µm | D13: Ssk | E13: Sku | F13: Sp | G13: Sv | H13: Sz | I13: Sa
B14: 36 | C14: 0.0001 | D14: -0.0245 | E14: 20.3972 | F14: 0.0015 | G14: 0.0005 | H14: 0.002 | I14: 0
B15: 37 | C15: 0.0001 | D15: 3.6063 | E15: 68.574 | F15: 0.0018 | G15: 0.0005 | H15: 0.0023 | I15: 0
B16: 38 | C16: 0.0001 | D16: -2.9193 | E16: 33.4937 | F16: 0.0021 | G16: 0.0013 | H16: 0.0034 | I16: 0.0001
B17: Average | C17: =AVERAGE(C14:C16) -> 0.0001 | D17: =AVERAGE(D14:D16) -> 0.22083333 | E17: =AVERAGE(E14:E16) -> 40.821633 | F17: =AVERAGE(F14:F16) -> 0.0018 | G17: =AVERAGE(G14:G16) -> 0.00076666667 | H17: =AVERAGE(H14:H16) -> 0.0025666667 | I17: =AVERAGE(I14:I16) -> 3.3333333e-05
B18: std | C18: =STDEV(C14:C16) -> 0 | D18: =STDEV(D14:D16) -> 3.2697103 | E18: =STDEV(E14:E16) -> 24.910339 | F18: =STDEV(F14:F16) -> 0.0003 | G18: =STDEV(G14:G16) -> 0.00046188022 | H18: =STDEV(H14:H16) -> 0.00073711148 | I18: =STDEV(I14:I16) -> 5.7735027e-05
B19: Scheelite (pH6) | C19: Sq µm | D19: Ssk | E19: Sku | F19: Sp | G19: Sv | H19: Sz | I19: Sa
B20: 13 | C20: 0.0001 | D20: -0.2256 | E20: 3.208 | F20: 0.0002 | G20: 0.0003 | H20: 0.0005 | I20: 0
B21: 14 | C21: 0.0001 | D21: -0.1264 | E21: 3.0942 | F21: 0.0002 | G21: 0.0003 | H21: 0.0005 | I21: 0
B22: 15 | C22: 0.0001 | D22: -0.1444 | E22: 2.9195 | F22: 0.0002 | G22: 0.0002 | H22: 0.0005 | I22: 0
B23: Average | C23: =AVERAGE(C20:C22) -> 0.0001 | D23: =AVERAGE(D20:D22) -> -0.16546667 | E23: =AVERAGE(E20:E22) -> 3.0739 | F23: =AVERAGE(F20:F22) -> 0.0002 | G23: =AVERAGE(G20:G22) -> 0.00026666667 | H23: =AVERAGE(H20:H22) -> 0.0005 | I23: =AVERAGE(I20:I22) -> 0
B24: std | C24: =STDEV(C20:C22) -> 0 | D24: =STDEV(D20:D22) -> 0.052848967 | E24: =STDEV(E20:E22) -> 0.14531734 | F24: =STDEV(F20:F22) -> 0 | G24: =STDEV(G20:G22) -> 5.7735027e-05 | H24: =STDEV(H20:H22) -> 0 | I24: =STDEV(I20:I22) -> 0
B25: Scheelite (pH8) | C25: Sq µm | D25: Ssk | E25: Sku | F25: Sp | G25: Sv | H25: Sz | I25: Sa
B26: 5 | C26: 0.0001 | D26: -0.2295 | E26: 3.2881 | F26: 0.0002 | G26: 0.0003 | H26: 0.0005 | I26: 0
B27: 6 | C27: 0.0001 | D27: -0.893 | E27: 7.4913 | F27: 0.0003 | G27: 0.0005 | H27: 0.0008 | I27: 0
B28: 7 | C28: 0.0001 | D28: -0.3768 | E28: 6.37 | F28: 0.0009 | G28: 0.0004 | H28: 0.0012 | I28: 0
B29: Average | C29: =AVERAGE(C26:C28) -> 0.0001 | D29: =AVERAGE(D26:D28) -> -0.49976667 | E29: =AVERAGE(E26:E28) -> 5.7164667 | F29: =AVERAGE(F26:F28) -> 0.00046666667 | G29: =AVERAGE(G26:G28) -> 0.0004 | H29: =AVERAGE(H26:H28) -> 0.00083333333 | I29: =AVERAGE(I26:I28) -> 0
B30: std | C30: =STDEV(C26:C28) -> 0 | D30: =STDEV(D26:D28) -> 0.34842311 | E30: =STDEV(E26:E28) -> 2.176477 | F30: =STDEV(F26:F28) -> 0.00037859389 | G30: =STDEV(G26:G28) -> 0.0001 | H30: =STDEV(H26:H28) -> 0.00035118846 | I30: =STDEV(I26:I28) -> 0
B31: Scheelite (pH10) | C31: Sq µm | D31: Ssk | E31: Sku | F31: Sp | G31: Sv | H31: Sz | I31: Sa
B32: 18 | C32: 0.0002 | D32: -1.2626 | E32: 6.9731 | F32: 0.0007 | G32: 0.001 | H32: 0.0017 | I32: 0.0001
B33: 2 | C33: 0.0001 | D33: -1.5386 | E33: 9.7598 | F33: 0.0009 | G33: 0.0006 | H33: 0.0015 | I33: 0.0001
B34: 3 | C34: 0.0001 | D34: -1.2371 | E34: 23.7021 | F34: 0.0013 | G34: 0.0012 | H34: 0.0025 | I34: 0.0001
B35: Average | C35: =AVERAGE(C32:C34) -> 0.00013333333 | D35: =AVERAGE(D32:D34) -> -1.3461 | E35: =AVERAGE(E32:E34) -> 13.478333 | F35: =AVERAGE(F32:F34) -> 0.00096666667 | G35: =AVERAGE(G32:G34) -> 0.00093333333 | H35: =AVERAGE(H32:H34) -> 0.0019 | I35: =AVERAGE(I32:I34) -> 0.0001
B36: std | C36: =STDEV(C32:C34) -> 5.7735027e-05 | D36: =STDEV(D32:D34) -> 0.16719674 | E36: =STDEV(E32:E34) -> 8.9630061 | F36: =STDEV(F32:F34) -> 0.00030550505 | G36: =STDEV(G32:G34) -> 0.00030550505 | H36: =STDEV(H32:H34) -> 0.00052915026 | I36: =STDEV(I32:I34) -> 0
B37: pH | C37: AverageSq (µm)
B38: Natural | C38: 0.0001
B39: 2 | C39: 0.0001
B40: 4 | C40: 0.0001
...

Sheet Apatite
B1: Apatite (natural pH) | C1: Sq µm | D1: Ssk | E1: Sku | F1: Sp | G1: Sv | H1: Sz | I1: Sa
B2: 2 | C2: 0.0002 | D2: 4.4484 | E2: 45.5446 | F2: 0.0025 | G2: 0.0008 | H2: 0.0034 | I2: 0.0001
B3: 6 | C3: 0.002 | D3: -2.1483 | E3: 31.0853 | F3: 0.047 | G3: 0.0273 | H3: 0.0743 | I3: 0.0012
B4: 11 | C4: 0.0001 | D4: -2.9607 | E4: 23.5691 | F4: 0.0011 | G4: 0.0009 | H4: 0.002 | I4: 0.0001
B5: Average | C5: =AVERAGE(C2:C4) -> 0.00076666667 | D5: =AVERAGE(D2:D4) -> -0.2202 | E5: =AVERAGE(E2:E4) -> 33.399667 | F5: =AVERAGE(F2:F4) -> 0.016866667 | G5: =AVERAGE(G2:G4) -> 0.0096666667 | H5: =AVERAGE(H2:H4) -> 0.026566667 | I5: =AVERAGE(I2:I4) -> 0.00046666667
B6: std | C6: =STDEV(C2:C4) -> 0.0010692677 | D6: =STDEV(D2:D4) -> 4.0634798 | E6: =STDEV(E2:E4) -> 11.169059 | F6: =STDEV(F2:F4) -> 0.026105619 | G6: =STDEV(G2:G4) -> 0.015270996 | H6: =STDEV(H2:H4) -> 0.041344206 | I6: =STDEV(I2:I4) -> 0.0006350853
B7: Apatite (pH2) | C7: Sq µm | D7: Ssk | E7: Sku | F7: Sp | G7: Sv | H7: Sz | I7: Sa
B8: 43 | C8: 0.0005 | D8: -3.2127 | E8: 18.983 | F8: 0.0013 | G8: 0.0039 | H8: 0.0052 | I8: 0.0003
B9: 45 | C9: 0.0029 | D9: -1.9233 | E9: 8.1197 | F9: 0.0086 | G9: 0.0159 | H9: 0.0245 | I9: 0.0019
B10: 44 | C10: 0.0061 | D10: -2.1886 | E10: 17.3617 | F10: 0.0269 | G10: 0.0657 | H10: 0.0927 | I10: 0.0037
B11: Avearge | C11: =AVERAGE(C8:C10) -> 0.0031666667 | D11: =AVERAGE(D8:D10) -> -2.4415333 | E11: =AVERAGE(E8:E10) -> 14.821467 | F11: =AVERAGE(F8:F10) -> 0.012266667 | G11: =AVERAGE(G8:G10) -> 0.0285 | H11: =AVERAGE(H8:H10) -> 0.0408 | I11: =AVERAGE(I8:I10) -> 0.0019666667
B12: std | C12: =STDEV(C8:C10) -> 0.0028095077 | D12: =STDEV(D8:D10) -> 0.68089613 | E12: =STDEV(E8:E10) -> 5.8602398 | F12: =STDEV(F8:F10) -> 0.013188 | G12: =STDEV(G8:G10) -> 0.032770108 | H12: =STDEV(H8:H10) -> 0.045970969 | I12: =STDEV(I8:I10) -> 0.0017009801
B13: Apatite (pH4) | C13: Sq µm | D13: Ssk | E13: Sku | F13: Sp | G13: Sv | H13: Sz | I13: Sa
B14: 42 | C14: 0.0002 | D14: -4.5236 | E14: 48.693 | F14: 0.0009 | G14: 0.0041 | H14: 0.005 | I14: 0.0002
B15: 44 | C15: 0.0004 | D15: -2.2291 | E15: 13.4866 | F15: 0.0024 | G15: 0.0039 | H15: 0.0062 | I15: 0.0003
B16: 45 | C16: 0.0004 | D16: -2.8426 | E16: 46.0386 | F16: 0.0014 | G16: 0.0079 | H16: 0.0093 | I16: 0.0003
B17: Avearge | C17: =AVERAGE(C14:C16) -> 0.00033333333 | D17: =AVERAGE(D14:D16) -> -3.1984333 | E17: =AVERAGE(E14:E16) -> 36.072733 | F17: =AVERAGE(F14:F16) -> 0.0015666667 | G17: =AVERAGE(G14:G16) -> 0.0053 | H17: =AVERAGE(H14:H16) -> 0.0068333333 | I17: =AVERAGE(I14:I16) -> 0.00026666667
B18: std | C18: =STDEV(C14:C16) -> 0.00011547005 | D18: =STDEV(D14:D16) -> 1.1879165 | E18: =STDEV(E14:E16) -> 19.60514 | F18: =STDEV(F14:F16) -> 0.00076376262 | G18: =STDEV(G14:G16) -> 0.0022538855 | H18: =STDEV(H14:H16) -> 0.0022188586 | I18: =STDEV(I14:I16) -> 5.7735027e-05
B19: Apatite (pH6) | C19: Sq µm | D19: Ssk | E19: Sku | F19: Sp | G19: Sv | H19: Sz | I19: Sa
B20: 25 | C20: 0.0007 | D20: -3.7416 | E20: 34.5356 | F20: 0.0019 | G20: 0.012 | H20: 0.0139 | I20: 0.0004
B21: 26 | C21: 0.0003 | D21: -3.5511 | E21: 31.2807 | F21: 0.0007 | G21: 0.0035 | H21: 0.0042 | I21: 0.0002
B22: 28 | C22: 0.0003 | D22: -5.4538 | E22: 63.4272 | F22: 0.001 | G22: 0.0041 | H22: 0.0051 | I22: 0.0001
B23: Average | C23: =AVERAGE(C20:C22) -> 0.00043333333 | D23: =AVERAGE(D20:D22) -> -4.2488333 | E23: =AVERAGE(E20:E22) -> 43.081167 | F23: =AVERAGE(F20:F22) -> 0.0012 | G23: =AVERAGE(G20:G22) -> 0.0065333333 | H23: =AVERAGE(H20:H22) -> 0.0077333333 | I23: =AVERAGE(I20:I22) -> 0.00023333333
B24: std | C24: =STDEV(C20:C22) -> 0.00023094011 | D24: =STDEV(D20:D22) -> 1.0478698 | E24: =STDEV(E20:E22) -> 17.69518 | F24: =STDEV(F20:F22) -> 0.0006244998 | G24: =STDEV(G20:G22) -> 0.0047437678 | H24: =STDEV(H20:H22) -> 0.0053594154 | I24: =STDEV(I20:I22) -> 0.00015275252
B25: Apatite (pH8) | C25: Sq µm | D25: Ssk | E25: Sku | F25: Sp | G25: Sv | H25: Sz | I25: Sa
B26: 16 | C26: 0.0011 | D26: -4.2953 | E26: 35.0425 | F26: 0.0041 | G26: 0.0138 | H26: 0.0179 | I26: 0.0005
B27: 17 | C27: 0.0011 | D27: -2.7429 | E27: 12.9331 | F27: 0.0035 | G27: 0.0091 | H27: 0.0126 | I27: 0.0006
B28: 19 | C28: 0.001 | D28: -3.566 | E28: 21.1559 | F28: 0.0017 | G28: 0.0088 | H28: 0.0105 | I28: 0.0006
B29: Average | C29: =AVERAGE(C26:C28) -> 0.0010666667 | D29: =AVERAGE(D26:D28) -> -3.5347333 | E29: =AVERAGE(E26:E28) -> 23.043833 | F29: =AVERAGE(F26:F28) -> 0.0031 | G29: =AVERAGE(G26:G28) -> 0.010566667 | H29: =AVERAGE(H26:H28) -> 0.013666667 | I29: =AVERAGE(I26:I28) -> 0.00056666667
B30: std | C30: =STDEV(C26:C28) -> 5.7735027e-05 | D30: =STDEV(D26:D28) -> 0.77667216 | E30: =STDEV(E26:E28) -> 11.174955 | F30: =STDEV(F26:F28) -> 0.0012489996 | G30: =STDEV(G26:G28) -> 0.0028041636 | H30: =STDEV(H26:H28) -> 0.0038135723 | I30: =STDEV(I26:I28) -> 5.7735027e-05
B31: Apatite (pH10) | C31: Sq µm | D31: Ssk | E31: Sku | F31: Sp | G31: Sv | H31: Sz | I31: Sa
B32: 22 | C32: 0.0011 | D32: 2.1553 | E32: 20.2264 | F32: 0.0112 | G32: 0.0032 | H32: 0.0145 | I32: 0.0007
B33: 23 | C33: 0.0061 | D33: 0.8282 | E33: 3.6673 | F33: 0.0218 | G33: 0.0142 | H33: 0.0359 | I33: 0.0047
B34: 2 | C34: 0.004 | D34: -0.029 | E34: 3.128 | F34: 0.014 | G34: 0.0133 | H34: 0.0273 | I34: 0.0031
B35: Average | C35: =AVERAGE(C32:C34) -> 0.0037333333 | D35: =AVERAGE(D32:D34) -> 0.98483333 | E35: =AVERAGE(E32:E34) -> 9.0072333 | F35: =AVERAGE(F32:F34) -> 0.015666667 | G35: =AVERAGE(G32:G34) -> 0.010233333 | H35: =AVERAGE(H32:H34) -> 0.0259 | I35: =AVERAGE(I32:I34) -> 0.0028333333
B36: std | C36: =STDEV(C32:C34) -> 0.002510644 | D36: =STDEV(D32:D34) -> 1.1005417 | E36: =STDEV(E32:E34) -> 9.7198244 | F36: =STDEV(F32:F34) -> 0.0054930259 | G36: =STDEV(G32:G34) -> 0.0061076455 | H36: =STDEV(H32:H34) -> 0.010768473 | I36: =STDEV(I32:I34) -> 0.0020132892
B37: pH | C37: Sq Average (µm)
B38: Natural | C38: 0.0008
B39: 2 | C39: 0.0032
B40: 4 | C40: 0.0003
...

Sheet All
A1: Mineral | B1: pH | C1: Measurement | D1: CS | E1: Sq | F1: Ssk | G1: Sku | H1: Sp | I1: Sv | J1: Sz | K1: Sa
A2: Calcite | B2: natural | C2: 1 | D2: No | E2: =INDIRECT($A2&"!"&M2&$T2,TRUE) -> 0.0034 | F2: =INDIRECT($A2&"!"&N2&$T2,TRUE) -> -1.2647 | G2: =INDIRECT($A2&"!"&O2&$T2,TRUE) -> 5.7369 | H2: =INDIRECT($A2&"!"&P2&$T2,TRUE) -> 0.01 | I2: =INDIRECT($A2&"!"&Q2&$T2,TRUE) -> 0.0191 | J2: =INDIRECT($A2&"!"&R2&$T2,TRUE) -> 0.0291 | K2: =INDIRECT($A2&"!"&S2&$T2,TRUE) -> 0.0024 | M2: C | N2: D | O2: E | P2: F | Q2: G | R2: H | S2: I | T2: 2
A3: Calcite | B3: natural | C3: 2 | D3: No | E3: =INDIRECT($A3&"!"&M3&$T3,TRUE) -> 0.0067 | F3: =INDIRECT($A3&"!"&N3&$T3,TRUE) -> -2.3237 | G3: =INDIRECT($A3&"!"&O3&$T3,TRUE) -> 12.8101 | H3: =INDIRECT($A3&"!"&P3&$T3,TRUE) -> 0.0256 | I3: =INDIRECT($A3&"!"&Q3&$T3,TRUE) -> 0.0564 | J3: =INDIRECT($A3&"!"&R3&$T3,TRUE) -> 0.082 | K3: =INDIRECT($A3&"!"&S3&$T3,TRUE) -> 0.0044 | M3: C | N3: D | O3: E | P3: F | Q3: G | R3: H | S3: I | T3: 3
A4: Calcite | B4: natural | C4: 3 | D4: No | E4: =INDIRECT($A4&"!"&M4&$T4,TRUE) -> 0.0043 | F4: =INDIRECT($A4&"!"&N4&$T4,TRUE) -> -0.9107 | G4: =INDIRECT($A4&"!"&O4&$T4,TRUE) -> 3.5183 | H4: =INDIRECT($A4&"!"&P4&$T4,TRUE) -> 0.0111 | I4: =INDIRECT($A4&"!"&Q4&$T4,TRUE) -> 0.0198 | J4: =INDIRECT($A4&"!"&R4&$T4,TRUE) -> 0.0309 | K4: =INDIRECT($A4&"!"&S4&$T4,TRUE) -> 0.0035 | M4: C | N4: D | O4: E | P4: F | Q4: G | R4: H | S4: I | T4: 4
A5: Calcite | B5: 2 | C5: 1 | D5: No | E5: =INDIRECT($A5&"!"&M5&$T5,TRUE) -> 0.0009 | F5: =INDIRECT($A5&"!"&N5&$T5,TRUE) -> 0.1096 | G5: =INDIRECT($A5&"!"&O5&$T5,TRUE) -> 3.4994 | H5: =INDIRECT($A5&"!"&P5&$T5,TRUE) -> 0.0042 | I5: =INDIRECT($A5&"!"&Q5&$T5,TRUE) -> 0.0038 | J5: =INDIRECT($A5&"!"&R5&$T5,TRUE) -> 0.0079 | K5: =INDIRECT($A5&"!"&S5&$T5,TRUE) -> 0.0007 | M5: C | N5: D | O5: E | P5: F | Q5: G | R5: H | S5: I | T5: =T4+4 -> 8
A6: Calcite | B6: 2 | C6: 2 | D6: No | E6: =INDIRECT($A6&"!"&M6&$T6,TRUE) -> 0.001 | F6: =INDIRECT($A6&"!"&N6&$T6,TRUE) -> 0.0339 | G6: =INDIRECT($A6&"!"&O6&$T6,TRUE) -> 2.3565 | H6: =INDIRECT($A6&"!"&P6&$T6,TRUE) -> 0.0029 | I6: =INDIRECT($A6&"!"&Q6&$T6,TRUE) -> 0.0029 | J6: =INDIRECT($A6&"!"&R6&$T6,TRUE) -> 0.0058 | K6: =INDIRECT($A6&"!"&S6&$T6,TRUE) -> 0.0008 | M6: C | N6: D | O6: E | P6: F | Q6: G | R6: H | S6: I | T6: =T5+1 -> 9
A7: Calcite | B7: 2 | C7: 3 | D7: No | E7: =INDIRECT($A7&"!"&M7&$T7,TRUE) -> 0.0008 | F7: =INDIRECT($A7&"!"&N7&$T7,TRUE) -> -0.4951 | G7: =INDIRECT($A7&"!"&O7&$T7,TRUE) -> 3.3839 | H7: =INDIRECT($A7&"!"&P7&$T7,TRUE) -> 0.0028 | I7: =INDIRECT($A7&"!"&Q7&$T7,TRUE) -> 0.0031 | J7: =INDIRECT($A7&"!"&R7&$T7,TRUE) -> 0.0059 | K7: =INDIRECT($A7&"!"&S7&$T7,TRUE) -> 0.0006 | M7: C | N7: D | O7: E | P7: F | Q7: G | R7: H | S7: I | T7: =T6+1 -> 10
A8: Calcite | B8: 4 | C8: 1 | D8: No | E8: =INDIRECT($A8&"!"&M8&$T8,TRUE) -> 0.0009 | F8: =INDIRECT($A8&"!"&N8&$T8,TRUE) -> -2.1524 | G8: =INDIRECT($A8&"!"&O8&$T8,TRUE) -> 13.4115 | H8: =INDIRECT($A8&"!"&P8&$T8,TRUE) -> 0.003 | I8: =INDIRECT($A8&"!"&Q8&$T8,TRUE) -> 0.0072 | J8: =INDIRECT($A8&"!"&R8&$T8,TRUE) -> 0.0102 | K8: =INDIRECT($A8&"!"&S8&$T8,TRUE) -> 0.0005 | M8: C | N8: D | O8: E | P8: F | Q8: G | R8: H | S8: I | T8: =T7+4 -> 14
A9: Calcite | B9: 4 | C9: 2 | D9: No | E9: =INDIRECT($A9&"!"&M9&$T9,TRUE) -> 0.0019 | F9: =INDIRECT($A9&"!"&N9&$T9,TRUE) -> -1.1407 | G9: =INDIRECT($A9&"!"&O9&$T9,TRUE) -> 7.3832 | H9: =INDIRECT($A9&"!"&P9&$T9,TRUE) -> 0.0058 | I9: =INDIRECT($A9&"!"&Q9&$T9,TRUE) -> 0.0127 | J9: =INDIRECT($A9&"!"&R9&$T9,TRUE) -> 0.0185 | K9: =INDIRECT($A9&"!"&S9&$T9,TRUE) -> 0.0014 | M9: C | N9: D | O9: E | P9: F | Q9: G | R9: H | S9: I | T9: =T8+1 -> 15
A10: Calcite | B10: 4 | C10: 3 | D10: No | E10: =INDIRECT($A10&"!"&M10&$T10,TRUE) -> 0.0007 | F10: =INDIRECT($A10&"!"&N10&$T10,TRUE) -> -1.3606 | G10: =INDIRECT($A10&"!"&O10&$T10,TRUE) -> 12.1843 | H10: =INDIRECT($A10&"!"&P10&$T10,TRUE) -> 0.0024 | I10: =INDIRECT($A10&"!"&Q10&$T10,TRUE) -> 0.0063 | J10: =INDIRECT($A10&"!"&R10&$T10,TRUE) -> 0.0087 | K10: =INDIRECT($A10&"!"&S10&$T10,TRUE) -> 0.0005 | M10: C | N10: D | O10: E | P10: F | Q10: G | R10: H | S10: I | T10: =T9+1 -> 16
A11: Calcite | B11: 6 | C11: 1 | D11: No | E11: =INDIRECT($A11&"!"&M11&$T11,TRUE) -> 0.0033 | F11: =INDIRECT($A11&"!"&N11&$T11,TRUE) -> -1.5447 | G11: =INDIRECT($A11&"!"&O11&$T11,TRUE) -> 8.6083 | H11: =INDIRECT($A11&"!"&P11&$T11,TRUE) -> 0.0092 | I11: =INDIRECT($A11&"!"&Q11&$T11,TRUE) -> 0.023 | J11: =INDIRECT($A11&"!"&R11&$T11,TRUE) -> 0.0322 | K11: =INDIRECT($A11&"!"&S11&$T11,TRUE) -> 0.0023 | M11: C | N11: D | O11: E | P11: F | Q11: G | R11: H | S11: I | T11: =T10+4 -> 20
A12: Calcite | B12: 6 | C12: 2 | D12: No | E12: =INDIRECT($A12&"!"&M12&$T12,TRUE) -> 0.0011 | F12: =INDIRECT($A12&"!"&N12&$T12,TRUE) -> -2.56 | G12: =INDIRECT($A12&"!"&O12&$T12,TRUE) -> 17.5461 | H12: =INDIRECT($A12&"!"&P12&$T12,TRUE) -> 0.0025 | I12: =INDIRECT($A12&"!"&Q12&$T12,TRUE) -> 0.0103 | J12: =INDIRECT($A12&"!"&R12&$T12,TRUE) -> 0.0128 | K12: =INDIRECT($A12&"!"&S12&$T12,TRUE) -> 0.0007 | M12: C | N12: D | O12: E | P12: F | Q12: G | R12: H | S12: I | T12: =T11+1 -> 21
A13: Calcite | B13: 6 | C13: 3 | D13: No | E13: =INDIRECT($A13&"!"&M13&$T13,TRUE) -> 0.0016 | F13: =INDIRECT($A13&"!"&N13&$T13,TRUE) -> -0.6311 | G13: =INDIRECT($A13&"!"&O13&$T13,TRUE) -> 5.3851 | H13: =INDIRECT($A13&"!"&P13&$T13,TRUE) -> 0.0111 | I13: =INDIRECT($A13&"!"&Q13&$T13,TRUE) -> 0.0096 | J13: =INDIRECT($A13&"!"&R13&$T13,TRUE) -> 0.0207 | K13: =INDIRECT($A13&"!"&S13&$T13,TRUE) -> 0.0011 | M13: C | N13: D | O13: E | P13: F | Q13: G | R13: H | S13: I | T13: =T12+1 -> 22
A14: Calcite | B14: 8 | C14: 1 | D14: No | E14: =INDIRECT($A14&"!"&M14&$T14,TRUE) -> 0.0007 | F14: =INDIRECT($A14&"!"&N14&$T14,TRUE) -> -4.3941 | G14: =INDIRECT($A14&"!"&O14&$T14,TRUE) -> 40.6687 | H14: =INDIRECT($A14&"!"&P14&$T14,TRUE) -> 0.0025 | I14: =INDIRECT($A14&"!"&Q14&$T14,TRUE) -> 0.0103 | J14: =INDIRECT($A14&"!"&R14&$T14,TRUE) -> 0.0128 | K14: =INDIRECT($A14&"!"&S14&$T14,TRUE) -> 0.0004 | M14: C | N14: D | O14: E | P14: F | Q14: G | R14: H | S14: I | T14: =T13+4 -> 26
A15: Calcite | B15: 8 | C15: 2 | D15: No | E15: =INDIRECT($A15&"!"&M15&$T15,TRUE) -> 0.0017 | F15: =INDIRECT($A15&"!"&N15&$T15,TRUE) -> 0.0954 | G15: =INDIRECT($A15&"!"&O15&$T15,TRUE) -> 5.4406 | H15: =INDIRECT($A15&"!"&P15&$T15,TRUE) -> 0.0061 | I15: =INDIRECT($A15&"!"&Q15&$T15,TRUE) -> 0.008 | J15: =INDIRECT($A15&"!"&R15&$T15,TRUE) -> 0.0141 | K15: =INDIRECT($A15&"!"&S15&$T15,TRUE) -> 0.0012 | M15: C | N15: D | O15: E | P15: F | Q15: G | R15: H | S15: I | T15: =T14+1 -> 27
A16: Calcite | B16: 8 | C16: 3 | D16: No | E16: =INDIRECT($A16&"!"&M16&$T16,TRUE) -> 0.0011 | F16: =INDIRECT($A16&"!"&N16&$T16,TRUE) -> -1.7506 | G16: =INDIRECT($A16&"!"&O16&$T16,TRUE) -> 9.854 | H16: =INDIRECT($A16&"!"&P16&$T16,TRUE) -> 0.0033 | I16: =INDIRECT($A16&"!"&Q16&$T16,TRUE) -> 0.0073 | J16: =INDIRECT($A16&"!"&R16&$T16,TRUE) -> 0.0105 | K16: =INDIRECT($A16&"!"&S16&$T16,TRUE) -> 0.0007 | M16: C | N16: D | O16: E | P16: F | Q16: G | R16: H | S16: I | T16: =T15+1 -> 28
A17: Calcite | B17: 10 | C17: 1 | D17: No | E17: =INDIRECT($A17&"!"&M17&$T17,TRUE) -> 0.0015 | F17: =INDIRECT($A17&"!"&N17&$T17,TRUE) -> 0.3722 | G17: =INDIRECT($A17&"!"&O17&$T17,TRUE) -> 5.8796 | H17: =INDIRECT($A17&"!"&P17&$T17,TRUE) -> 0.0098 | I17: =INDIRECT($A17&"!"&Q17&$T17,TRUE) -> 0.0063 | J17: =INDIRECT($A17&"!"&R17&$T17,TRUE) -> 0.016 | K17: =INDIRECT($A17&"!"&S17&$T17,TRUE) -> 0.0011 | M17: C | N17: D | O17: E | P17: F | Q17: G | R17: H | S17: I | T17: =T16+4 -> 32
A18: Calcite | B18: 10 | C18: 2 | D18: No | E18: =INDIRECT($A18&"!"&M18&$T18,TRUE) -> 0.0009 | F18: =INDIRECT($A18&"!"&N18&$T18,TRUE) -> 0.1248 | G18: =INDIRECT($A18&"!"&O18&$T18,TRUE) -> 3.3625 | H18: =INDIRECT($A18&"!"&P18&$T18,TRUE) -> 0.0037 | I18: =INDIRECT($A18&"!"&Q18&$T18,TRUE) -> 0.0035 | J18: =INDIRECT($A18&"!"&R18&$T18,TRUE) -> 0.0072 | K18: =INDIRECT($A18&"!"&S18&$T18,TRUE) -> 0.0007 | M18: C | N18: D | O18: E | P18: F | Q18: G | R18: H | S18: I | T18: =T17+1 -> 33
A19: Calcite | B19: 10 | C19: 3 | D19: No | E19: =INDIRECT($A19&"!"&M19&$T19,TRUE) -> 0.0015 | F19: =INDIRECT($A19&"!"&N19&$T19,TRUE) -> 0.0388 | G19: =INDIRECT($A19&"!"&O19&$T19,TRUE) -> 2.7457 | H19: =INDIRECT($A19&"!"&P19&$T19,TRUE) -> 0.005 | I19: =INDIRECT($A19&"!"&Q19&$T19,TRUE) -> 0.0048 | J19: =INDIRECT($A19&"!"&R19&$T19,TRUE) -> 0.0099 | K19: =INDIRECT($A19&"!"&S19&$T19,TRUE) -> 0.0013 | M19: C | N19: D | O19: E | P19: F | Q19: G | R19: H | S19: I | T19: =T18+1 -> 34
A20: Apatite | B20: natural | C20: 1 | D20: No | E20: =INDIRECT($A20&"!"&M20&$T20,TRUE) -> 0.0002 | F20: =INDIRECT($A20&"!"&N20&$T20,TRUE) -> 4.4484 | G20: =INDIRECT($A20&"!"&O20&$T20,TRUE) -> 45.5446 | H20: =INDIRECT($A20&"!"&P20&$T20,TRUE) -> 0.0025 | I20: =INDIRECT($A20&"!"&Q20&$T20,TRUE) -> 0.0008 | J20: =INDIRECT($A20&"!"&R20&$T20,TRUE) -> 0.0034 | K20: =INDIRECT($A20&"!"&S20&$T20,TRUE) -> 0.0001 | M20: C | N20: D | O20: E | P20: F | Q20: G | R20: H | S20: I | T20: 2
A21: Apatite | B21: natural | C21: 2 | D21: No | E21: =INDIRECT($A21&"!"&M21&$T21,TRUE) -> 0.002 | F21: =INDIRECT($A21&"!"&N21&$T21,TRUE) -> -2.1483 | G21: =INDIRECT($A21&"!"&O21&$T21,TRUE) -> 31.0853 | H21: =INDIRECT($A21&"!"&P21&$T21,TRUE) -> 0.047 | I21: =INDIRECT($A21&"!"&Q21&$T21,TRUE) -> 0.0273 | J21: =INDIRECT($A21&"!"&R21&$T21,TRUE) -> 0.0743 | K21: =INDIRECT($A21&"!"&S21&$T21,TRUE) -> 0.0012 | M21: C | N21: D | O21: E | P21: F | Q21: G | R21: H | S21: I | T21: 3
A22: Apatite | B22: natural | C22: 3 | D22: No | E22: =INDIRECT($A22&"!"&M22&$T22,TRUE) -> 0.0001 | F22: =INDIRECT($A22&"!"&N22&$T22,TRUE) -> -2.9607 | G22: =INDIRECT($A22&"!"&O22&$T22,TRUE) -> 23.5691 | H22: =INDIRECT($A22&"!"&P22&$T22,TRUE) -> 0.0011 | I22: =INDIRECT($A22&"!"&Q22&$T22,TRUE) -> 0.0009 | J22: =INDIRECT($A22&"!"&R22&$T22,TRUE) -> 0.002 | K22: =INDIRECT($A22&"!"&S22&$T22,TRUE) -> 0.0001 | M22: C | N22: D | O22: E | P22: F | Q22: G | R22: H | S22: I | T22: 4
A23: Apatite | B23: 2 | C23: 1 | D23: No | E23: =INDIRECT($A23&"!"&M23&$T23,TRUE) -> 0.0005 | F23: =INDIRECT($A23&"!"&N23&$T23,TRUE) -> -3.2127 | G23: =INDIRECT($A23&"!"&O23&$T23,TRUE) -> 18.983 | H23: =INDIRECT($A23&"!"&P23&$T23,TRUE) -> 0.0013 | I23: =INDIRECT($A23&"!"&Q23&$T23,TRUE) -> 0.0039 | J23: =INDIRECT($A23&"!"&R23&$T23,TRUE) -> 0.0052 | K23: =INDIRECT($A23&"!"&S23&$T23,TRUE) -> 0.0003 | M23: C | N23: D | O23: E | P23: F | Q23: G | R23: H | S23: I | T23: =T22+4 -> 8
A24: Apatite | B24: 2 | C24: 2 | D24: No | E24: =INDIRECT($A24&"!"&M24&$T24,TRUE) -> 0.0029 | F24: =INDIRECT($A24&"!"&N24&$T24,TRUE) -> -1.9233 | G24: =INDIRECT($A24&"!"&O24&$T24,TRUE) -> 8.1197 | H24: =INDIRECT($A24&"!"&P24&$T24,TRUE) -> 0.0086 | I24: =INDIRECT($A24&"!"&Q24&$T24,TRUE) -> 0.0159 | J24: =INDIRECT($A24&"!"&R24&$T24,TRUE) -> 0.0245 | K24: =INDIRECT($A24&"!"&S24&$T24,TRUE) -> 0.0019 | M24: C | N24: D | O24: E | P24: F | Q24: G | R24: H | S24: I | T24: =T23+1 -> 9
A25: Apatite | B25: 2 | C25: 3 | D25: No | E25: =INDIRECT($A25&"!"&M25&$T25,TRUE) -> 0.0061 | F25: =INDIRECT($A25&"!"&N25&$T25,TRUE) -> -2.1886 | G25: =INDIRECT($A25&"!"&O25&$T25,TRUE) -> 17.3617 | H25: =INDIRECT($A25&"!"&P25&$T25,TRUE) -> 0.0269 | I25: =INDIRECT($A25&"!"&Q25&$T25,TRUE) -> 0.0657 | J25: =INDIRECT($A25&"!"&R25&$T25,TRUE) -> 0.0927 | K25: =INDIRECT($A25&"!"&S25&$T25,TRUE) -> 0.0037 | M25: C | N25: D | O25: E | P25: F | Q25: G | R25: H | S25: I | T25: =T24+1 -> 10
A26: Apatite | B26: 4 | C26: 1 | D26: No | E26: =INDIRECT($A26&"!"&M26&$T26,TRUE) -> 0.0002 | F26: =INDIRECT($A26&"!"&N26&$T26,TRUE) -> -4.5236 | G26: =INDIRECT($A26&"!"&O26&$T26,TRUE) -> 48.693 | H26: =INDIRECT($A26&"!"&P26&$T26,TRUE) -> 0.0009 | I26: =INDIRECT($A26&"!"&Q26&$T26,TRUE) -> 0.0041 | J26: =INDIRECT($A26&"!"&R26&$T26,TRUE) -> 0.005 | K26: =INDIRECT($A26&"!"&S26&$T26,TRUE) -> 0.0002 | M26: C | N26: D | O26: E | P26: F | Q26: G | R26: H | S26: I | T26: =T25+4 -> 14
A27: Apatite | B27: 4 | C27: 2 | D27: No | E27: =INDIRECT($A27&"!"&M27&$T27,TRUE) -> 0.0004 | F27: =INDIRECT($A27&"!"&N27&$T27,TRUE) -> -2.2291 | G27: =INDIRECT($A27&"!"&O27&$T27,TRUE) -> 13.4866 | H27: =INDIRECT($A27&"!"&P27&$T27,TRUE) -> 0.0024 | I27: =INDIRECT($A27&"!"&Q27&$T27,TRUE) -> 0.0039 | J27: =INDIRECT($A27&"!"&R27&$T27,TRUE) -> 0.0062 | K27: =INDIRECT($A27&"!"&S27&$T27,TRUE) -> 0.0003 | M27: C | N27: D | O27: E | P27: F | Q27: G | R27: H | S27: I | T27: =T26+1 -> 15
A28: Apatite | B28: 4 | C28: 3 | D28: No | E28: =INDIRECT($A28&"!"&M28&$T28,TRUE) -> 0.0004 | F28: =INDIRECT($A28&"!"&N28&$T28,TRUE) -> -2.8426 | G28: =INDIRECT($A28&"!"&O28&$T28,TRUE) -> 46.0386 | H28: =INDIRECT($A28&"!"&P28&$T28,TRUE) -> 0.0014 | I28: =INDIRECT($A28&"!"&Q28&$T28,TRUE) -> 0.0079 | J28: =INDIRECT($A28&"!"&R28&$T28,TRUE) -> 0.0093 | K28: =INDIRECT($A28&"!"&S28&$T28,TRUE) -> 0.0003 | M28: C | N28: D | O28: E | P28: F | Q28: G | R28: H | S28: I | T28: =T27+1 -> 16
A29: Apatite | B29: 6 | C29: 1 | D29: No | E29: =INDIRECT($A29&"!"&M29&$T29,TRUE) -> 0.0007 | F29: =INDIRECT($A29&"!"&N29&$T29,TRUE) -> -3.7416 | G29: =INDIRECT($A29&"!"&O29&$T29,TRUE) -> 34.5356 | H29: =INDIRECT($A29&"!"&P29&$T29,TRUE) -> 0.0019 | I29: =INDIRECT($A29&"!"&Q29&$T29,TRUE) -> 0.012 | J29: =INDIRECT($A29&"!"&R29&$T29,TRUE) -> 0.0139 | K29: =INDIRECT($A29&"!"&S29&$T29,TRUE) -> 0.0004 | M29: C | N29: D | O29: E | P29: F | Q29: G | R29: H | S29: I | T29: =T28+4 -> 20
A30: Apatite | B30: 6 | C30: 2 | D30: No | E30: =INDIRECT($A30&"!"&M30&$T30,TRUE) -> 0.0003 | F30: =INDIRECT($A30&"!"&N30&$T30,TRUE) -> -3.5511 | G30: =INDIRECT($A30&"!"&O30&$T30,TRUE) -> 31.2807 | H30: =INDIRECT($A30&"!"&P30&$T30,TRUE) -> 0.0007 | I30: =INDIRECT($A30&"!"&Q30&$T30,TRUE) -> 0.0035 | J30: =INDIRECT($A30&"!"&R30&$T30,TRUE) -> 0.0042 | K30: =INDIRECT($A30&"!"&S30&$T30,TRUE) -> 0.0002 | M30: C | N30: D | O30: E | P30: F | Q30: G | R30: H | S30: I | T30: =T29+1 -> 21
A31: Apatite | B31: 6 | C31: 3 | D31: No | E31: =INDIRECT($A31&"!"&M31&$T31,TRUE) -> 0.0003 | F31: =INDIRECT($A31&"!"&N31&$T31,TRUE) -> -5.4538 | G31: =INDIRECT($A31&"!"&O31&$T31,TRUE) -> 63.4272 | H31: =INDIRECT($A31&"!"&P31&$T31,TRUE) -> 0.001 | I31: =INDIRECT($A31&"!"&Q31&$T31,TRUE) -> 0.0041 | J31: =INDIRECT($A31&"!"&R31&$T31,TRUE) -> 0.0051 | K31: =INDIRECT($A31&"!"&S31&$T31,TRUE) -> 0.0001 | M31: C | N31: D | O31: E | P31: F | Q31: G | R31: H | S31: I | T31: =T30+1 -> 22
A32: Apatite | B32: 8 | C32: 1 | D32: No | E32: =INDIRECT($A32&"!"&M32&$T32,TRUE) -> 0.0011 | F32: =INDIRECT($A32&"!"&N32&$T32,TRUE) -> -4.2953 | G32: =INDIRECT($A32&"!"&O32&$T32,TRUE) -> 35.0425 | H32: =INDIRECT($A32&"!"&P32&$T32,TRUE) -> 0.0041 | I32: =INDIRECT($A32&"!"&Q32&$T32,TRUE) -> 0.0138 | J32: =INDIRECT($A32&"!"&R32&$T32,TRUE) -> 0.0179 | K32: =INDIRECT($A32&"!"&S32&$T32,TRUE) -> 0.0005 | M32: C | N32: D | O32: E | P32: F | Q32: G | R32: H | S32: I | T32: =T31+4 -> 26
A33: Apatite | B33: 8 | C33: 2 | D33: No | E33: =INDIRECT($A33&"!"&M33&$T33,TRUE) -> 0.0011 | F33: =INDIRECT($A33&"!"&N33&$T33,TRUE) -> -2.7429 | G33: =INDIRECT($A33&"!"&O33&$T33,TRUE) -> 12.9331 | H33: =INDIRECT($A33&"!"&P33&$T33,TRUE) -> 0.0035 | I33: =INDIRECT($A33&"!"&Q33&$T33,TRUE) -> 0.0091 | J33: =INDIRECT($A33&"!"&R33&$T33,TRUE) -> 0.0126 | K33: =INDIRECT($A33&"!"&S33&$T33,TRUE) -> 0.0006 | M33: C | N33: D | O33: E | P33: F | Q33: G | R33: H | S33: I | T33: =T32+1 -> 27
A34: Apatite | B34: 8 | C34: 3 | D34: No | E34: =INDIRECT($A34&"!"&M34&$T34,TRUE) -> 0.001 | F34: =INDIRECT($A34&"!"&N34&$T34,TRUE) -> -3.566 | G34: =INDIRECT($A34&"!"&O34&$T34,TRUE) -> 21.1559 | H34: =INDIRECT($A34&"!"&P34&$T34,TRUE) -> 0.0017 | I34: =INDIRECT($A34&"!"&Q34&$T34,TRUE) -> 0.0088 | J34: =INDIRECT($A34&"!"&R34&$T34,TRUE) -> 0.0105 | K34: =INDIRECT($A34&"!"&S34&$T34,TRUE) -> 0.0006 | M34: C | N34: D | O34: E | P34: F | Q34: G | R34: H | S34: I | T34: =T33+1 -> 28
A35: Apatite | B35: 10 | C35: 1 | D35: No | E35: =INDIRECT($A35&"!"&M35&$T35,TRUE) -> 0.0011 | F35: =INDIRECT($A35&"!"&N35&$T35,TRUE) -> 2.1553 | G35: =INDIRECT($A35&"!"&O35&$T35,TRUE) -> 20.2264 | H35: =INDIRECT($A35&"!"&P35&$T35,TRUE) -> 0.0112 | I35: =INDIRECT($A35&"!"&Q35&$T35,TRUE) -> 0.0032 | J35: =INDIRECT($A35&"!"&R35&$T35,TRUE) -> 0.0145 | K35: =INDIRECT($A35&"!"&S35&$T35,TRUE) -> 0.0007 | M35: C | N35: D | O35: E | P35: F | Q35: G | R35: H | S35: I | T35: =T34+4 -> 32
